{"text_format":"1","workbook":"xlsx","n_sheets":5,"sheets":["Start","Database","Answers","Alerts","Config"],"not_rendered":{"charts":0,"images":1,"macros":1,"external_links":0,"defined_names":1,"comments":0,"pivot_tables":0},"unopened":[],"bounds":{"document_bytes":16777216,"sheet_cells":100000,"rows_first":2000,"rows_last":500,"rows_between":2000,"halvings":0,"cell_chars":16384,"cell_head_chars":4096},"cells_cut":4,"cells_raw":0,"read":"whole","date_system":"1900"}

{"sheet":"Start","index":0,"n_rows":35,"n_cols":20,"rows_kept":35,"cut":false,"hidden":false,"merged":[]}
[]
[]
[]
[]
[]
[]
[]
[]
[]
[]
[null,null,null,null,null,null,null,null,null,null,null,null,null,null,null,null,null,null,"Dropdown-Auswahl"]
[null,null,null,null,null,null,null,null,null,null,null,null,null,null,null,null,null,null,2]
[null,null,null,null,null,null,null,null,null,null,null,null,null,null,null,null,null,null,{"$f":"VLOOKUP($S$12,Config!A:I,3,0)","v":0}," --> ist main?"]
[null,null,null,null,null,null,null,null,null,null,null,null,null,null,null,null,null,null,{"$f":"VLOOKUP($S$12,Config!A:J,10,0)","v":"MATERIALS"},"category"]
[null,null,null,null,null,null,null,null,null,null,null,null,null,null,null,null,null,null,{"$f":"VLOOKUP($S$12,Config!A:J,2,0)","v":"Coatings"},"sub-category"]
[null,null,null,null,null,null,null,null,null,null,null,null,null,null,null,null,null,null,{"$f":"VLOOKUP($S$12,Config!A:K,11,0)","v":2},"trigger_column"]
[null,null,null,null,null,null,null,null,null,null,null,null,null,null,null,null,null,null,{"$f":"VLOOKUP($S$12,Config!A:K,5,0)","v":6},"Discription"]
[null,null,null,null,null,null,null,null,null,null,null,null,null,null,null,null,null,null,{"$f":"VLOOKUP($S$12,Config!A:K,6,0)","v":7},"Reference"]
[null,null,null,null,null,null,null,null,null,null,null,null,null,null,null,null,null,null,{"$f":"VLOOKUP($S$12,Config!A:K,7,0)","v":8},"Outlook"]
[null,null,null,null,null,null,null,null,null,null,null,null,null,null,null,null,null,null,{"$f":"VLOOKUP($S$12,Config!A:K,8,0)","v":9},"FIGHTER"]
[null,null,null,null,null,null,null,null,null,null,null,null,null,null,null,null,null,null,{"$f":"VLOOKUP($S$12,Config!A:K,9,0)","v":10},"REMOTE"]
[]
[]
[]
[]
[]
[]
[]
[]
[]
[]
[]
[null,"Print Supplier Analysis"]
[]
[null,"Please select the category"]

{"sheet":"Database","index":1,"n_rows":89,"n_cols":318,"rows_kept":89,"cut":false,"hidden":false,"merged":[[0,308,0,312],[0,286,0,290],[0,291,0,295],[0,296,0,300],[0,268,0,272],[0,273,0,277],[0,278,0,282],[0,303,0,307],[0,283,0,285],[0,301,0,302],[0,243,0,247],[0,248,0,252],[0,253,0,257],[0,258,0,262],[0,263,0,267],[0,213,0,217],[0,218,0,222],[0,233,0,237],[0,223,0,232],[0,238,0,242],[0,182,0,186],[0,193,0,197],[0,198,0,202],[0,203,0,207],[0,208,0,212],[0,157,0,161],[0,162,0,166],[0,167,0,171],[0,172,0,176],[0,177,0,181],[0,125,0,129],[0,130,0,134],[0,135,0,139],[0,140,0,144],[0,152,0,156],[0,94,0,98],[0,99,0,103],[0,104,0,108],[0,115,0,119],[0,120,0,124],[0,69,0,73],[0,74,0,78],[0,79,0,83],[0,84,0,88],[0,89,0,93],[0,25,0,38],[0,1,0,4],[0,109,0,114],[0,145,0,151],[0,187,0,192],[0,5,0,9],[0,10,0,14],[0,15,0,19],[0,20,0,24],[0,39,0,43],[0,44,0,48],[0,49,0,53],[0,54,0,58],[0,59,0,63],[0,64,0,68]]}
[null,"MATERIALS",null,null,null,"Coatings",null,null,null,null,"Composits",null,null,null,null,"Non-metal Materials",null,null,null,null,"Other Materials",null,null,null,null,"COMPONENTS",null,null,null,null,null,null,null,null,null,null,null,null,null,"Active Electronic Components",null,null,null,null,"Actuation",null,null,null,null,"Bearings",null,null,null,null,"Electrical Components",null,null,null,null,"Electrical/Electronic Connectors",null,null,null,null,"Fasteners",null,null,null,null,"Lighting",null,null,null,null,"Mechanical Components",null,null,null,null,"Mechanical Connectors",null,null,null,null,"Non-Mechanical Components",null,null,null,null,"Passive Electronic Components",null,null,null,null,"Sensors, Transducers & Detectors",null,null,null,null,"Structural Components",null,null,null,null,"Valves",null,null,null,null,"AIRFRAME SYSTEMS",null,null,null,null,null,"Airframe Assemblies",null,null,null,null,"Cabin Interiors",null,null,null,null,"Crew Seating",null,null,null,null,"Fluid Power",null,null,null,null,"Landing Assemblies",null,null,null,null,"Weapons Systems",null,null,null,null,"AVIONICS",null,null,null,null,null,null,"Avionic Components",null,null,null,null,"Communications (Airborne)",null,null,null,null,"Flight and Data Management",null,null,null,null,"Indicators and Instruments",null,null,null,null,"Navigation Aids (Airborne)",null,null,null,null,"Warning Systems",null,null,null,null,"Defensive Aids Systems",null,null,null,null,"POWER SYSTEMS",null,null,null,null,null,"Auxiliary Power",null,null,null,null,"Electrical Power Systems",null,null,null,null,"Engine Components",null,null,null,null,"Engines",null,null,null,null,"Fuel Systems",null,null,null,null,"Power Transmission",null,null,null,null,"PRODUCTION",null,null,null,null,null,null,null,null,null,"Computer Integrated Manufacturing",null,null,null,null,"Handling Equipment",null,null,null,null,"Inspection Equipment",null,null,null,null,"Machining",null,null,null,null,"Manufacturing Services",null,null,null,null,"Measurement",null,null,null,null,"Production Equipment",null,null,null,null,"Surface Treatment",null,null,null,null,"Tooling",null,null,null,null,"Tools",null,null,null,null,"TESTING",null,null,"Aircraft Operations",null,null,null,null,"Test Equipment",null,null,null,null,"Test Services",null,null,null,null,"SERVICES",null,"Engineering Services",null,null,null,null,"Training + Simulation "]
["Firma","Coatings","Composits","Non-metal Materials","Other Materials","Coatings - Short discriptions of the competence, max 140 characters","Coatings - Reference","Coatings - Product Innovation Outlook","Coatings // FIGHTER","Coatings // REMOTE CARRIERS","Composits - Short description of the competence, max 140 characters","Composits - Reference","Composits - Product Innovation Outlook","Composits // FIGHTER","Composits // REMOTE CARRIERS","Non-metal Materials - Short description of the competence, max 140 characters","Non-metal Materials - Reference","Non-metal Materials - Product Innovation Outlook","Non-metal Materials // FIGHTER","Non-metal Materials // REMOTE CARRIERS","Other Materials - Short description of the competence, max 140 characters","Other Materials - Reference","Other Materials - Product Innovation Outlook","Metal // FIGHTER","Metal // REMOTE CARRIERS","Active Electronic Components","Actuation","Bearings","Electrical Components","Electrical/Electronic Connectors","Fasteners","Lighting","Mechanical Components","Mechanical Connectors","Non-Mechanical Components","Passive Electronic Components","Sensors, Transducers & Detectors","Structural Components","Valves","Active Electronic Components - Short description of the competence, max 140 characters","Active Electronic Components - Reference","Actice Electronic Components - Product Innovation Outlook","Active Electronic Components // FIGHTER","Active Electronic Components // REMOTE CARRIERS","Actuation - Short description of the competence, max 140 characters","Actuation - Reference","Actuation - Product Innovation Outlook","Actuation // FIGHTER","Actuation // REMOTE CARRIERS","Bearings - Short description of the competence, max 140 characters","Bearings - Reference","Bearings - Product Innovation Outlook","Bearings // FIGHTER","Bearings - REMOTE CARRIERS","Electrical Components - Short description of the competence, max 140 characters","Electrical Components - Reference","Electrical Components - Product Innovation Outlook","Electrical Components // FIGHTER","Electrical Components // REMOTE CARRIERS","Electrical/Electronic Connectors - Short description of the competence, max 140 characters","Electrical/Electronic Connectors - Reference","Electrical/Electronic Connectors - Product Innovation Outlook","Electrical/Electronic Connectors // FIGHTER","Electrical/Electronic Connectors // REMOTE CARRIERS","Fasteners - Short description of the competence, max 140 characters","Fasteners - Reference","Fasteners - Product Innovation Outlook","Fasteners // FIGHTER","Fasteners // REMOTE CARRIERS","Lighting - Short description of the competence, max 140 characters","Lighting - Reference","Lighting - Product Innovation Outlook","Lighting // FIGHTER","Lighting // REMOTE CARRIERS","Mechanical Components - Short description of the competence, max 140 characters","Mechanical Components - Reference","Mechanical Components - Product Innovation Outlook","Mechanical Components // FIGHTER","Mechanical Components // REMOTE CARRIERS","Mechanical Connectors - Short description of the competence, max 140 characters","Mechanical Connectors - Reference","Mechanical Connectors - Product Innovation Outlook","Mechanical Connectors // FIGHTER","Mechanical Connectors // REMOTE CARRIERS","Non-Mechanical Components - Short description of the competence, max 140 characters","Non-Mechanical Components - Reference","Non-Mechanical Components - Product Innovation Outlook","Non-Mechanical Components // FIGHTER","Non-Mechanical Components","Passive Electronic Components - Short description of the competence, max 140 characters","Passive Electronic Components - Reference","Passive Electronic Components - Product Innovation Outlook","Passive Electronic Components // FIGHTER","Passive Electronic Components // REMOTE CARRIERS","Sensors, Transducers & Detectors - Short description of the competence, max 140 characters","Sensors, Transducers & Detectors - Reference","Sensors, Transducers & Detectors - Product Innovation Outlook","Sensors, Transducers & Detectors // FIGHTER","Sensors, Transducers & Detectors // REMOTE CARRIERS","Structural Components - Short description of the competence, max 140 characters","Structural Components - Reference","Structural Components - Product Innovation Outlook","Structural Components // FIGHTER","Structural Components // REMOTE CARRIERS","Valves - Short description of the competence, max 140 characters","Valves - Reference","Valves - Product Innovation Outlook","Valves // FIGHTER","Valves // REMOTE CARRIERS","Airfraime Assemblies","Cabin Interiors","Crew Seating","Fluid Power","Landing Assemblies","Weapons Systems","Airframe Assemblies - Short description of the competence, max 140 characters","Airframe Assemblies - Reference","Airframe Assemblies - Product Innovation Outlook","Airframe Assemblies // FIGHTER","Airframe Assemblies // REMOTE CARRIERS","Cabin Interiors - Short description of the competence, max 140 characters","Cabin Interiors - Reference","Cabin Interiors - Product Innovation Outlook","Cabin Interiors // FIGHTER","Cabin Interiors // REMOTE CARRIERS","Crew Seating - Short description of the competence, max 140 characters","Crew Seating - Reference","Crew Seating - Product Innovation Outlook","Crew Seating // FIGHTER","Crew Seating // REMOTE CARRIERS","Fluid Power - Short description of the competence, max 140 characters","Fluid Power - Reference","Fluid Power - Product Innovation Outlook","Fluid Power // FIGHTER","Fluid Power // REMOTE CARRIERS","Landing Assemblies - Short description of the competence, max 140 characters","Landing Assemblies - Reference","Landing Assemblies - Product Innovation Outlook","Landing Assemblies // FIGHTER","Landing Assemblies // REMOTE CARRIERS","Weapons Systems - Short description of the competence, max 140 characters","Weapons Systems - Reference","Weapons Systems - Product Innovation Outlook","Weapons Systems // FIGHTER","Weapons Systems // REMOTE CARRIERS","Avionic Components","Communications (Airborne)","Flight and Data Management","Indicators and Instruments","Navigation Aids (Airborne)","Warning Systems","Defensive Aids Systems","Avionic Components - Short description of the competence, max 140 characters","Avionic Components - Reference","Avionic Components - Product Innovation Outlook","Avionic Components // FIGHTER","Avionic Components // REMOTE CARRIERS","Communications (Airborne) - Short description of the competence, max 140 characters","Communications (Airborne) - Reference","Communications (Airborne) - Product Innovation Outlook","Communications (Airborne) // FIGHTER","Communications (Airborne) // REMOTE CARRIERS","Flight and Data Management - Short description of the competence, max 140 characters","Flight and Data Management - Reference","Flight and Data Management - Product Innovation Outlook","Flight and Data Management // FIGHTER","Flight and Data Management // REMOTE CARRIERS","Indicators and Instruments - Short description of the competence, max 140 characters","Indicators and Instruments - Reference","Indicators and Instruments - Product Innovation Outlook","Indicators and Instruments // FIGHTER","Indicators and Instruments // REMOTE CARRIERS","Navigation Aids (Airborne) - Short description of the competence, max 140 characters","Navigation Aids (Airborne) - Reference","Navigation Aids (Airborne) - Product Innovation Outlook","Navigation Aids (Airborne) // FIGHTER","Navigation Aids (Airborne) // REMOTE CARRIERS","Warning Systems - Short description of the competence, max 140 characters","Warning Systems - Reference","Warning Systems - Product Innovation Outlook","Warning Systems // FIGHTER","Warning Systems // REMOTE CARRIERS","Defensive Aids Systems - Short description of the competence, max 140 characters","Defensive Aids Systems - Reference","Defensive Aids Systems -  Product Innovation Outlook","Defensive Aids Systems // FIGHTER","Defensive Aids Systems // REMOTE CARRIERS","Auxiliary Power","Electrical Power Systems","Engine Components","Engines","Fuel Systems","Power Transmission","Auxiliary Power - Short description of the competence, max 140 characters","Auxiliary Power - Reference","Auxiliary Power - Product Innovation Outlook","Auxiliary Power // FIGHTER","Auxiliary Power // REMOTE CARRIERS","Electrical Power Systems - Short description of the competence, max 140 characters","Electrical Power Systems - Reference","Electrical Power Systems - Product Innovation Outlook","Electrical Power Systems // FIGHTER","Electrical Power Systems // REMOTE CARRIERS","Engine Components - Short description of the competence, max 140 characters","Engine Components - Reference","Engine Components - Product Innovation Outlook","Engine Components // FIGHTER","Engine Components // REMOTE CARRIERS","Engines - Short description of the competence, max 140 characters","Engines - Reference","Engines - Product Innovation Outlook","Engines // FIGHTER","Engines // REMOTE CARRIERS","Fuel Systems - Short description of the competence, max 140 characters","Fuel Systems - Reference","Fuel Systems - Product Innovation Outlook","Fuel Systems // FIGHTER","Fuel Systems // REMOTE CARRIERS","Power Transmission - Short description of the competence, max 140 characters","Power Transmission - Reference","Power Transmission - Product Innovation Outlook","Power Transmission // FIGHTER","Power Transmission // REMOTE CARRIERS","Computer Integrated Manufacturing","Handling Equipment","Inspection Equipment","Machining","Manufacturing Services","Measurement","Production Equipment","Surface Treatment","Tooling","Tools","Computer Integrated Manufacturing - Short description of the competence, max 140 characters","Computer Integrated Manufacturing - Reference","Computer Integrated Manufacturing - Product Innovation Outlook","Computer Integrated Manufacturing // FIGHTER","Computer Integrated Manufacturing // REMOTE CARRIERS","Handling Equipment - Short description of the competence, max 140 characters","Handling Equipment - Reference","Handling Equipment - Product Innovation Outlook","Fighter","Remote Carriers","Inspection Equipment - Short description of the competence, max 140 characters","Inspection Equipment - Reference","Inspection Equipment - Product Innovation Outlook","Inspection Equipment // FIGHTER","Inspection Equipment // Remote Carriers","Machining - Short description of the competence, max 140 characters","Machining - Reference","Machining - Product Innovation Outlook","Fighter","Remote Carriers","Manufacturing Services - Short description of the competence, max 140 characters","Manufacturing Services - Reference","Manufacturing Services - Product Innovation Outlook","Fighter","Remote Carriers","Measurement - Short description of the competence, max 140 characters","Measurement - Reference","Measurement - Product Innovation Outlook","Measurement // FIGHTER","Measurement // REMOTE CARRIERS","Production Equipment - Short description of the competence, max 140 characters","Production Equipment - Reference","Production Equipment - Product Innovation Outlook","Production Equipment // FIGHTER","Production Equipment // REMOTE CARRIERS","Surface Treatment - Short description of the competence, max 140 characters","Surface Treatment - Reference","Surface Treatment - Product Innovation Outlook","Surface Treatment // FIGHTER","Surface Treatment // REMOTE CARRIERS","Tooling - Short description of the competence, max 140 characters","Tooling - Reference","Tooling - Product Innovation Outlook","Tooling // FIGHTER","Tooling // REMOTE CARRIERS","Tools - Short description of the competence, max 140 characters","Tools - Reference","Tools - Product Innovation Outlook","Tools // FIGHTER","Tools  // REMOTE CARRIERS","Aircraft Operations","Test Equipment","Test Services","Aircraft Operations - Short description of the competence, max 140 characters","Aircraft Operations - Reference","Aircraft Operations - Product Innovation Outlook","Aircraft Operations // FIGHTER","Aircraft Operations // REMOTE CARRIERS","Test Equipment - Short description of the competence, max 140 characters","Test Equipment - Reference","Test Equipment - Product Innovation Outlook","Test Equipment // FIGHTER","Test Equipment // REMOTE CARRIERS","Test Services - Short description of the competence, max 140 characters","Test Services - Reference","Test Services - Product Innovation Outlook","Test Services // FIGHTER","Test Services // REMOTE CARRIERS","Engineering Services","Training + Simulation","Engineering Services - Short description of the competence, max 140 characters","Engineering Services - Reference","Engineering Services - Product Innovation Outlook","Engineering Services // FIGHTER","Engineering Services // REMOTE FIGHTER","Training + Simulation - Short description of the competence, max 140 characters","Training + Simulation - Reference","Training + Simulation - Product Innovation Outlook","Training + Simulation // FIGHTER","Training + Simulation // REMOTE CARRIERS","Other Components ","Discription & Reference","Other Components - Product Innovation Outlook","Other Components // FIGHTER","Other Components // REMOTE CARRIERS"]
["AERO-Bildungs GmbH",0,0,0,0,null,null,null,"no","no",null,null,null,"no","no",null,null,null,"no","no",null,null,null,"no","no",0,0,0,0,0,0,0,0,0,0,0,0,0,0,null,null,null,"no","no",null,null,null,"no","no",null,null,null,"no","no",null,null,null,"no","no",null,null,null,"no","no",null,null,null,"no",null,null,null,null,"no","no",null,null,null,"no","no",null,null,null,"no","no",null,null,null,"no","no",null,null,null,"no","no",null,null,null,"no","no",null,null,null,"no","no",null,null,null,0,0,0,0,0,0,0,0,null,null,null,"no","no",null,null,null,"no","no",null,null,null,"no","no",null,null,null,"no","no",null,null,null,"no","no",null,null,null,"no","no",0,0,0,0,0,0,0,null,null,null,"no","no",null,null,null,"no","no",null,null,null,"no","no",null,null,null,"no","no",null,null,null,"no","no",null,null,null,"no","no",null,null,null,0,0,0,0,0,0,0,0,null,null,null,"no","no",null,null,null,"no","no",null,null,null,"no","no",null,null,null,"no","no",null,null,null,"no","no",null,null,null,"no","no",0,0,0,0,0,0,0,0,0,0,null,null,null,"no","no",null,null,null,"no","no",null,null,null,"no","no",null,null,null,"no","no",null,null,null,"no","no",null,null,null,"no","no",null,null,null,"no","no",null,null,null,"no","no",null,null,null,"no","no",null,null,null,"no","no",0,0,0,null,null,null,"no","no",null,null,null,"no","no",null,null,null,"no","no",0,1,null,null,null,0,0,"Berufsausbildung in Luftfahrttechnischen Berufen für\nWartung, Fertigung, Elektrik/Elektronik\n\nLizenzen für internationales Training    CAT A, B1 + B2\nQualifizierungsprogramme für Fertigungspersonal\n","Airbus, RUAG,  Lufthansa, Bundeswehr, u.v.m.",null,"yes","yes",0,null,null,"no","no"]
["Airbus Defence and Space",1,1,1,1,"Top-level requirement setting for Tier 1 and Tier 2 suppliers , design and integration. ","Tornado and Eurofighter development programs ","Formulation of design and integration requirements for FCAS  ","yes","yes","Top-level requirement setting for Tier 1 and Tier 2 suppliers , design and integration.","Tornado and Eurofighter development programs\n","Formulation of design and integration requirements for FCAS","no","no","Top-level requirement setting for Tier 1 and Tier 2 suppliers , design and integration.","Tornado and Eurofighter development programs\n","Formulation of design and integration requirements for FCAS","no","no","Top-level requirement setting for Tier 1 and Tier 2 suppliers , design and integration.","Tornado and Eurofighter development programs\n","Formulation of design and integration requirements for FCAS","yes","yes",1,1,1,1,1,1,1,1,1,1,1,1,1,1,"Top-level requirement setting for Tier 1 and Tier 2 suppliers , design and integration","Tornado and Eurofighter development programs","Formulation of design and integration requirements for FCAS  ","yes","yes","Top-level requirement setting for Tier 1 and Tier 2 suppliers , design and integration","Tornado and Eurofighter development programs","Formulation of design and integration requirements for FCAS  ","yes","yes","Top-level requirement setting for Tier 1 and Tier 2 suppliers , design and integration","Tornado and Eurofighter development programs","Formulation of design and integration requirements for FCAS  ","yes","yes","Top-level requirement setting for Tier 1 and Tier 2 suppliers , design and integration","Tornado and Eurofighter development programs","Formulation of design and integration requirements for FCAS  ","yes","yes","Top-level requirement setting for Tier 1 and Tier 2 suppliers , design and integration","Tornado and Eurofighter development programs","Formulation of design and integration requirements for FCAS  ","yes","yes","Top-level requirement setting for Tier 1 and Tier 2 suppliers , design and integration","Tornado and Eurofighter development programs","Formulation of design and integration requirements for FCAS  ","yes",null,"Top-level requirement setting for Tier 1 and Tier 2 suppliers , design and integration","Tornado and Eurofighter development programs","Formulation of design and integration requirements for FCAS  ","yes","yes","Top-level requirement setting for Tier 1 and Tier 2 suppliers , design and integration","Tornado and Eurofighter development programs","Formulation of design and integration requirements for FCAS  ","yes","yes","Top-level requirement setting for Tier 1 and Tier 2 suppliers , design and integration","Tornado and Eurofighter development programs","Formulation of design and integration requirements for FCAS  ","yes","yes","Top-level requirement setting for Tier 1 and Tier 2 suppliers , design and integration","Tornado and Eurofighter development programs","Formulation of design and integration requirements for FCAS  ","yes","yes","Top-level requirement setting for Tier 1 and Tier 2 suppliers , design and integration","Tornado and Eurofighter development programs","Formulation of design and integration requirements for FCAS  ","yes","yes","Top-level requirement setting for Tier 1 and Tier 2 suppliers , design and integration","Tornado and Eurofighter development programs","Formulation of design and integration requirements for FCAS  ","yes","yes","Top-level requirement setting for Tier 1 and Tier 2 suppliers , design and integration","Tornado and Eurofighter development programs","Formulation of design and integration requirements for FCAS  ","yes","yes","Top-level requirement setting for Tier 1 and Tier 2 suppliers , design and integration","Tornado and Eurofighter development programs","Formulation of design and integration requirements for FCAS  ",1,1,1,1,1,1,1,1,"Top-level requirement setting for Tier 1 and Tier 2 suppliers , design and integration","Tornado and Eurofighter development programs","Formulation of design and integration requirements for FCAS  ","yes","yes","Top-level requirement setting for Tier 1 and Tier 2 suppliers , design and integration","Tornado and Eurofighter development programs","Formulation of design and integration requirements for FCAS  ","yes","yes","Top-level requirement setting for Tier 1 and Tier 2 suppliers , design and integration","Tornado and Eurofighter development programs","Formulation of design and integration requirements for FCAS  ","yes","yes","Top-level requirement setting for Tier 1 and Tier 2 suppliers , design and integration","Tornado and Eurofighter development programs","Formulation of design and integration requirements for FCAS  ","yes","yes","Top-level requirement setting for Tier 1 and Tier 2 suppliers , design and integration","Tornado and Eurofighter development programs","Formulation of design and integration requirements for FCAS  ","yes","yes","Top-level requirement setting for Tier 1 and Tier 2 suppliers , design and integration","Tornado and Eurofighter development programs","Formulation of design and integration requirements for FCAS  ","yes","yes",1,1,1,1,1,1,1,"Top-level requirement setting for Tier 1 and Tier 2 suppliers , design and integration","Tornado and Eurofighter development programs","Formulation of design and integration requirements for FCAS  ","yes","yes","Top-level requirement setting for Tier 1 and Tier 2 suppliers , design and integration","Tornado and Eurofighter development programs","Formulation of design and integration requirements for FCAS  ","yes","yes","Top-level requirement setting for Tier 1 and Tier 2 suppliers , design and integration","Tornado and Eurofighter development programs","Formulation of design and integration requirements for FCAS  ","yes","yes","Top-level requirement setting for Tier 1 and Tier 2 suppliers , design and integration","Tornado and Eurofighter development programs","Formulation of design and integration requirements for FCAS  ","yes","yes","Top-level requirement setting for Tier 1 and Tier 2 suppliers , design and integration","Tornado and Eurofighter development programs","Formulation of design and integration requirements for FCAS  ","yes","yes","Top-level requirement setting for Tier 1 and Tier 2 suppliers , design and integration","Tornado and Eurofighter development programs","Formulation of design and integration requirements for FCAS  ","yes","yes","Top-level requirement setting for Tier 1 and Tier 2 suppliers , design and integration","Tornado and Eurofighter development programs","Formulation of design and integration requirements for FCAS  ",1,1,1,1,1,1,1,1,"Top-level requirement setting for Tier 1 and Tier 2 suppliers , design and integration","Tornado and Eurofighter development programs","Formulation of design and integration requirements for FCAS  ","yes","yes","Top-level requirement setting for Tier 1 and Tier 2 suppliers , design and integration","Tornado and Eurofighter development programs","Formulation of design and integration requirements for FCAS  ","yes","yes","Top-level requirement setting for Tier 1 and Tier 2 suppliers , design and integration","Tornado and Eurofighter development programs","Formulation of design and integration requirements for FCAS  ","yes","yes","Top-level requirement setting for Tier 1 and Tier 2 suppliers , design and integration","Tornado and Eurofighter development programs","Formulation of design and integration requirements for FCAS  ","yes","yes","Top-level requirement setting for Tier 1 and Tier 2 suppliers , design and integration","Tornado and Eurofighter development programs","Formulation of design and integration requirements for FCAS  ","yes","yes","Top-level requirement setting for Tier 1 and Tier 2 suppliers , design and integration","Tornado and Eurofighter development programs","Formulation of design and integration requirements for FCAS  ","yes","yes",1,1,1,1,1,1,1,1,1,1,"Top-level requirement setting for Tier 1 and Tier 2 suppliers , design and integration","Tornado and Eurofighter development programs","Formulation of design and integration requirements for FCAS  ","yes","yes","Top-level requirement setting for Tier 1 and Tier 2 suppliers , design and integration","Tornado and Eurofighter development programs","Formulation of design and integration requirements for FCAS  ","yes","yes","Top-level requirement setting for Tier 1 and Tier 2 suppliers , design and integration","Tornado and Eurofighter development programs","Formulation of design and integration requirements for FCAS  ","yes","yes","Top-level requirement setting for Tier 1 and Tier 2 suppliers , design and integration","Tornado and Eurofighter development programs","Formulation of design and integration requirements for FCAS  ","yes","yes","Top-level requirement setting for Tier 1 and Tier 2 suppliers , design and integration","Tornado and Eurofighter development programs","Formulation of design and integration requirements for FCAS  ","yes","yes","Top-level requirement setting for Tier 1 and Tier 2 suppliers , design and integration","Tornado and Eurofighter development programs","Formulation of design and integration requirements for FCAS  ","yes","yes","Top-level requirement setting for Tier 1 and Tier 2 suppliers , design and integration","Tornado and Eurofighter development programs","Formulation of design and integration requirements for FCAS  ","yes","yes","Top-level requirement setting for Tier 1 and Tier 2 suppliers , design and integration","Tornado and Eurofighter development programs","Formulation of design and integration requirements for FCAS  ","yes","yes","Top-level requirement setting for Tier 1 and Tier 2 suppliers , design and integration","Tornado and Eurofighter development programs","Formulation of design and integration requirements for FCAS  ","yes","yes","Top-level requirement setting for Tier 1 and Tier 2 suppliers , design and integration","Tornado and Eurofighter development programs","Formulation of design and integration requirements for FCAS  ","yes","yes",1,0,0,"Top-level requirement setting for Tier 1 and Tier 2 suppliers , design and integration","Tornado and Eurofighter development programs","Formulation of design and integration requirements for FCAS  ","yes","yes",null,null,null,"no","no",null,null,null,"no","no",1,1,"Top-level requirement setting for Tier 1 and Tier 2 suppliers , design and integration","Tornado and Eurofighter development programs","Formulation of design and integration requirements for FCAS  ",1,1,"Top-level requirement setting for Tier 1 and Tier 2 suppliers , design and integration","Tornado and Eurofighter development programs","Formulation of design and integration requirements for FCAS  ","yes","yes",0,null,null,"no","no"]
["Airbus DS Airborne Solutions GmbH",0,0,0,0,null,null,null,"no","no",null,null,null,"no","no",null,null,null,"no","no",null,null,null,"no","no",0,0,0,0,0,0,0,0,0,0,0,0,0,0,null,null,null,"no","no",null,null,null,"no","no",null,null,null,"no","no",null,null,null,"no","no",null,null,null,"no","no",null,null,null,"no",null,null,null,null,"no","no",null,null,null,"no","no",null,null,null,"no","no",null,null,null,"no","no",null,null,null,"no","no",null,null,null,"no","no",null,null,null,"no","no",null,null,null,0,0,0,0,0,0,0,0,null,null,null,"no","no",null,null,null,"no","no",null,null,null,"no","no",null,null,null,"no","no",null,null,null,"no","no",null,null,null,"no","no",0,0,1,0,0,0,0,null,null,null,"no","no",null,null,null,"no","no","Ground Control Stations\nMission Mangement","KZO, Heron1, German Heron TP",null,"no","yes",null,null,null,"no","no",null,null,null,"no","no",null,null,null,"no","no",null,null,null,0,0,0,0,0,0,0,0,null,null,null,"no","no",null,null,null,"no","no",null,null,null,"no","no",null,null,null,"no","no",null,null,null,"no","no",null,null,null,"no","no",0,0,0,0,0,0,0,0,0,0,null,null,null,"no","no",null,null,null,"no","no",null,null,null,"no","no",null,null,null,"no","no",null,null,null,"no","no",null,null,null,"no","no",null,null,null,"no","no",null,null,null,"no","no",null,null,null,"no","no",null,null,null,"no","no",0,0,0,null,null,null,"no","no",null,null,null,"no","no",null,null,null,"no","no",0,1,null,null,null,0,0,"System and Training Simulator for UAS","KZO, Heron1, German Heron TP",null,"no","yes",1,"Technical In Service Support\nHeron1 Ops in Afghanistan and Mali\n\nGerman Heron TP in Base Operation Israel and in GAF Deployments",null,"no","yes"]
["Aircraft Philipp Group",0,0,0,1,null,null,null,"no","no",null,null,null,"no","no",null,null,null,"no","no","manufacturing of detailed metall parts and small sub assemblies as well as machining of aluminium and titanium aerostructures in commercial and military aircraft.","Airbus, Boeing, Gulfstream, Bombardier.","Wire Arc Additive Manufacturing to reduce costs for machined titanium aerostructures by 50 %. At the moment in a LUFO project with a potential outlook until 2022.","yes","yes",0,0,0,0,0,0,0,0,0,0,0,0,1,0,null,null,null,"no","no",null,null,null,"no","no",null,null,null,"no","no",null,null,null,"no","no",null,null,null,"no","no",null,null,null,"no",null,null,null,null,"no","no",null,null,null,"no","no",null,null,null,"no","no",null,null,null,"no","no",null,null,null,"no","no",null,null,null,"no","no","manufacturing of detailed metall parts and small sub assemblies as well as machining of aluminium and titanium aerostructures in commercial and military aircraft.","Airbus, Boeing, Gulfstream, Bombardier.","Wire Arc Additive Manufacturing to reduce costs for machined titanium aerostructures by 50 %. At the moment in a LUFO project with a potential outlook until 2022.","yes","yes",null,null,null,0,0,0,0,0,0,0,0,null,null,null,"no","no",null,null,null,"no","no",null,null,null,"no","no",null,null,null,"no","no",null,null,null,"no","no",null,null,null,"no","no",0,0,0,0,0,0,0,null,null,null,"no","no",null,null,null,"no","no",null,null,null,"no","no",null,null,null,"no","no",null,null,null,"no","no",null,null,null,"no","no",null,null,null,0,0,0,0,0,0,0,0,null,null,null,"no","no",null,null,null,"no","no",null,null,null,"no","no",null,null,null,"no","no",null,null,null,"no","no",null,null,null,"no","no",0,0,0,1,0,0,0,0,0,0,null,null,null,"no","no",null,null,null,"no","no",null,null,null,"no","no","machining of aluminium and titanium aerostructures in commercial and military aircraft.","Airbus, Boeing, Gulfstream, Bombardier.","Wire Arc Additive Manufacturing to reduce costs for machined titanium aerostructures by 50 %. At the moment in a LUFO project with a potential outlook until 2022.","no","no",null,null,null,"no","no",null,null,null,"no","no",null,null,null,"no","no",null,null,null,"no","no",null,null,null,"no","no",null,null,null,"no","no",0,0,0,null,null,null,"no","no",null,null,null,"no","no",null,null,null,"no","no",1,0,"Engineering Services for Selective LAser Melting Technologies","different aerospace customers",null,1,1,null,null,null,"no","no",0,null,null,"no","no"]
["AKG Thermotechnik GmbH & Co. KG",0,0,0,0,null,null,null,"no","no",null,null,null,"no","no",null,null,null,"no","no",null,null,null,"no","no",0,0,0,0,0,0,0,1,0,0,0,0,0,0,null,null,null,"no","no",null,null,null,"no","no",null,null,null,"no","no",null,null,null,"no","no",null,null,null,"no","no",null,null,null,"no",null,null,null,null,"no","no","Coolers, heat exchangers and cooling modules (liquid/air, air/air, liquid/liquid) for engines, gearboxes, mechanical and electrical systems","Liq/air hx for A380, A350, oil coolers for helicopters, turboprops, air/air  hx, radiators, oil/coolant hx for engines","new designs and hx configurations based on 3D printing technologies","yes","no",null,null,null,"no","no",null,null,null,"no","no",null,null,null,"no","no",null,null,null,"no","no",null,null,null,"no","no",null,null,null,0,0,0,0,0,0,0,0,null,null,null,"no","no",null,null,null,"no","no",null,null,null,"no","no",null,null,null,"no","no",null,null,null,"no","no",null,null,null,"no","no",0,0,0,0,0,0,0,null,null,null,"no","no",null,null,null,"no","no",null,null,null,"no","no",null,null,null,"no","no",null,null,null,"no","no",null,null,null,"no","no",null,null,null,0,0,1,0,1,0,1,1,"Oil coolers, (liquid/air, liquid/liquid) for engines",null,"new designs and hx configurations based on 3D printing technologies","yes","no",null,null,null,"no","no","Oil coolers, (liquid/air, liquid/liquid) for engines","Oil coolers for turboprop engines like PT 6 etc.","new designs and hx configurations based on 3D printing technologies","no","no",null,null,null,"no","no","Fuel coolers, (liquid/air) and oil-to-fuel hx liquid/liquid) for systems",null,"new designs and hx configurations based on 3D printing technologies","yes","no","Oil coolers, (liquid/air) and oil-to-fuel hx liquid/liquid) for gearboxes",null,"new designs and hx configurations based on 3D printing technologies","yes","no",0,0,0,0,0,0,0,0,0,0,null,null,null,"no","no",null,null,null,"no","no",null,null,null,"no","no",null,null,null,"no","no",null,null,null,"no","no",null,null,null,"no","no",null,null,null,"no","no",null,null,null,"no","no",null,null,null,"no","no",null,null,null,"no","no",0,0,0,null,null,null,"no","no",null,null,null,"no","no",null,null,null,"no","no",0,0,null,null,null,0,0,null,null,null,"no","no",0,null,null,"no","no"]
["AKKA Germany",1,1,1,0,"AKKA has engineering experiences in design and stress for aircraft components","- design to cost\n- metallic ->machined - sheet metal\n- bonding\n- fatigue & damage tolerance analyses\n- thermal analyses\n- stress Validation of repair instructions\n- electrical harness design, protection and qualification\n- stress reports (justification, certification, ACD...)\n- maintenance Engineering (health Monitoring, maintenance function, A/C System supportability, maintenance program)\n- technical documentation","- multi-objective optimazation \n- surface treatment and approvement \n","yes","yes","AKKA has a wide range of experiences in design, stress and fatigue of Primary and Secondary structures. ","- design prinicple\n- DMU - interface- weight\n- design to weight - to cost\n- Composite -> PLY/PLY- RTM - LRI\n- Fatigue and damage tolerance analyses\n- static analyses\n- FEM-DFEM-GFEM: Creation-integration-modification\n- Repair",null,"no","no","AKKA has Engineering skills in ALM (additive layer manufacturing) design by using non-metal materials for evaluation and weight optimization purposes.","- loaded and unloaded  brackets / Interface points\n- Primary and secondary structural parts\n- cabin monuments, cabinets\n- tooling","- design optimization\n- design to cost","no","no",null,null,null,"no","no",1,1,0,1,0,0,1,1,0,0,1,1,1,0,"AKKA has a wide range of Engineering experiences in Cockpit functions and operations, Cockpit layout design, avionic platforms, communication, Navigation, surveillance, flight controls, ECS, Propulsion, Engine System integration, etc.","- Cockpit Upgrades with new functions (LPV, datalink, RNP-AR)\n- Integration and Validation of EPIC avionc Suite (FMS, AIS, weather Radar, IMMR, EGPW, maintenance, etc.)\n- HMI layout, behavior and Interfaces\n- power Systems\n- propulsion Systems\n- final architecutre design\n- embedded Systems\n- design and Simulation\n- System Engineering (V-Model)\n- Certification Support\n- Airworthy and maintenance technical Service Support (CAMO, Engines and APU, Redelivery, FAL, etc.)\n- flight test aircraft continuing airworthiness ( incl. configuration Management to ensure the continuing airworthiness and pertmit to fly renewals in Part 21 Environment)","- more electrical / full electrial Technologies\n- descision making Support and single Pilot\n- Research, design and Simulation ( e.g. Proof of concepts for cleaner aircraft, link & fly, e-fly, optimazation of use on electric and recoverable energy, electricification, etc. )","yes","yes","AKKA has aerospace Engineering Service experiences in developement and Validation of actuator Systems","- actuation systems upgrading\n- Board Computer Unit Design\n- Thurst reversers\n- On Board Doors\n- pre-sizing of actuators",null,"yes","yes",null,null,null,"no","no","AKKA has a wide range of Engineering experiences in Cockpit functions and operations, Cockpit layout design, avionic platforms, communication, Navigation, surveillance, flight controls, ECS, Propulsion, Engine System integration, etc.","- Cockpit Upgrades with new functions (LPV, datalink, RNP-AR)\n- Integration and Validation of EPIC avionc Suite (FMS, AIS, weather Radar, IMMR, EGPW, maintenance, etc.)\n- HMI layout, behavior and Interfaces\n- power Systems\n- propulsion Systems\n- final architecutre design\n- embedded Systems\n- design and Simulation\n- System Engineering (V-Model)\n- Certification Support\n- Airworthy and maintenance technical Service Support (CAMO, Engines and APU, Redelivery, FAL, etc.)\n- flight test aircraft continuing airworthiness ( incl. configuration Management to ensure the continuing airworthiness and pertmit to fly renewals in Part 21 Environment)","- more electrical / full electrial Technologies\n- descision making Support and single Pilot\n- Research, design and Simulation ( e.g. Proof of concepts for cleaner aircraft, link & fly, e-fly, optimazation of use on electric and recoverable energy, electricification, etc. )","yes","yes",null,null,null,"no","no",null,null,null,"no",null,"AKKA designs Cockpit / Avionics, including human factor studies. Lighting is therefore considered in every issue of Cockpit and cabin architecture design and installation","Cabin: \n-LOPA\n- Cabin architure and design\n- IFE Installation\n- electrical power, network and lights ","Added value:\n- knowledge of A/C processes, Tools and Standards\n- high Expertise in System Engineering \n- productivity improvement through digitalization","yes","yes","AKKA offers engineering Services for structure mechanical design, mechanical stress and thermal Analysis, mechanical System Installation, seats and cabin design, toolings, etc.","- Primary and secondary structural parts\n- brackets, doors\n- 3D tolerancing\n- lighting direct effects protections\n- static, dynamic, fatigue, damage tolerance\n\ne.g. design and stress of nacelle components, nose fuselage lower Shell & Cockpit section, airframe design",null,"yes","yes",null,null,null,"no","no",null,null,null,"no","no","AKKA has a wide range of Engineering experiences in Cockpit functions and operations, Cockpit layout design, avionic platforms, communication, Navigation, surveillance, flight controls, ECS, Propulsion, Engine System integration, etc.","- Cockpit Upgrades with new functions (LPV, datalink, RNP-AR)\n- Integration and Validation of EPIC avionc Suite (FMS, AIS, weather Radar, IMMR, EGPW, maintenance, etc.)\n- HMI layout, behavior and Interfaces\n- power Systems\n- propulsion Systems\n- final architecutre design\n- embedded Systems\n- design and Simulation\n- System Engineering (V-Model)\n- Certification Support\n- Airworthy and maintenance technical Service Support (CAMO, Engines and APU, Redelivery, FAL, etc.)\n- flight test aircraft continuing airworthiness ( incl. configuration Management to ensure the continuing airworthiness and pertmit to fly renewals in Part 21 Environment)","- more electrical / full electrial Technologies\n- descision making Support and single Pilot\n- Research, design and Simulation ( e.g. Proof of concepts for cleaner aircraft, link & fly, e-fly, optimazation of use on electric and recoverable energy, electricification, etc. )","yes","yes","AKKA supports airial and ground Equipments such as Radar and camera Systems, including thermal consideration","- SW Algo Development\n- Radar Equipments\n- Crypto and Safety\n- TMA \n- Security communication",null,"yes","yes","AKKA performs aeronautical Engineering Service skills in Primary and secondary structural components","- Primary metallic structure\n- cargo door, belly door, FTI emergency door and its mechanicsm \n- loaded and unloaded brackets/Interface Points\n- static, fatigue and damage tolerance analyses",null,"yes","yes",null,null,null,0,0,1,1,1,0,1,1,"AKKA supports in Engineering Services on the airframe assemblies","- Project Management\n- automatization of robotics and machines for final assembly\n- airframe installation",null,"yes","yes","AKKA´s Engineering Services covers almost all components from Floor to Floor, cabin interior for Cockpit and Crew rest departments, etc.","- hatracks\n- floor to floor \n- Sandwich and Composite material design and calculation\n- lightning\n- electrical System Installation\n- cabin modification and Upgrades\n- aircraft modifications",null,"no","yes","Engineering Services of AKKA covers also the development and assembly support of Seats","- design and development (CAD/CAE)\n- electrical and mechanical System installation",null,"yes","yes",null,null,null,"no","no","AKKA´s Engineering Services covers the Primary and secondary components of Aircraft landing gears","- Main and nose landing gears\n- electric/hydraulic components\n- stress, fatigue and damage tolerance Analysis \n- landing gear Extension retraction\n- braking and steering\n- wheels and tires",null,"yes","yes","AKKA Engineering Services cover experiences in weapons and misles ","- ballistic\n- air/ground\n- defence Systems\n- weapons\n- ammunition\n- propulsions\nAKKA offers:\n- Signal processing\n- real time embedded Software\n- algorithms\n- test bench and Instrumentation\n- mechanical and electronical design\n- test Equipment and tooling","- battlefield Simulation and Simulators\n- cameras and viewfinders, firing control Systems,\nvehicles\n- communication and intelligence Systems\n- combat Systems\n- supervision Systems","yes","yes",1,1,1,0,1,1,1,"AKKA is developing in aerospace industries avionic components and Systems for a wide range of customers. Following Standards such as DO-178B/C, DO-160, DO-254, etc.","- Cockpit ergonomics\n- Cockpit and avionic System design\n- avionic suites and certification\n- flight deck design & operations\n- flight control design\n- Auto Pilot and flight control \n- flight control testing","- design of new Cockpit or introduction of new ATM functions to improve operations and saftey\n- Cockpit Operation Support and verification\n- HF activities: physical and cognitive aspects to optimize operations and avoid human Errors, for: Cockpit, Driver cabin, manufacturing line, test benches","yes","yes","AKKA Engineering Services covers a wide range of experiences in communication Equipment development and testing, including Information and communication Systems following ATA 23 chapter","- Navigation and communication System\n- connectivity: on-board WiFi and GSM, large antenna Installation, etc.\n- flight data Monitoring\n- saftey Management Systems\n- onboard Information Systems (OIS)\n- IFE (In-flight Entertainment) Systems","- General security awareness\n- risk Management\n- security architecture & design\n- Cyber security Trainings (e.g. security aspect for certification)","yes","yes","AKKA has for flight operations, including data Management a good Performance history since 1995","- implentation skills of a full and consistent safety Management System\n- flight Dispatcher, pre-flight preparation, Ferry flight preparation\n- Compliance via intl. Standards (IATA-EU-POS)\n- flight data Monitoring System (data processing, Event reporting and Analysis)\n- Aircraft Record Filing",null,"yes","yes",null,null,null,"no","no","AKKA covers Engineering experiences in specification, design, supplier mgt., verification and in Service Support for ATA 34 (Navigation)","- FMS\n- RNP-AR\n- Multiple Landing System\n- Airport Navigation\n- Surveillance functions: weather Radar, Terrain, air traffic\n- IMA & Network\n- FANS/Datalink\n",null,"yes","yes","AKKA develops aeronautical warning and onboard systems","- Fault Friend Detection\n- Fuel Alert Detection\n- Air Traffic Management\n- Airport Operation\n- Development and maintenance of flight Analysis Software\n- Radar processing STR, ARTAS, etc. (tracking, Fusion, Transformation of Radar echoes to runway objects)\n- flight plan processing (STPV, COFLIGHT)\n- Alerts: SPIP 2000, COSNET\n- Archiving and fees: STAN",null,"yes","yes","AKKA develops defensive aids Systems such as Monitoring Systems for the pilots","- Mission Systems Support\n- Fault Friend Detection\n- Defence Systems\n- Air Command and Control System\n- Detection and Radar plots",null,1,1,0,1,1,1,0,0,null,null,null,"no","no","AKKA has Engineering skills for electrical load Management Systems which controls the electrical power supply to the different electrical Panels on the aircraft.\nThe secondary Panels manage the low power loads and the communication which is the complex computing of ELMS functions. AKKA is able to Transfer high expert Engineering skills from the automotive branch into the aerospace domain","Electrical Power (electr. Network of all products, including electr. Generation, Distribution and architecture). ","Domains:\nPSE, SEE, SLA, ICC, SNT, DMS, SIDIE\nadded value: \n- knowledge of Airbus processes, Tools and Standards\n- high experiences in System Engineering\n- productivity improvement through digitalization","yes","yes","AKKA´s competence experience in Engineering Services covers the Engine System integration","Engine System Integration, incl.:\n- bleed air\n- fuel System\n- oil System",null,"yes","yes","AKKA´s Engineering Service capabilities covers the Software and Hardware development and verification of engine components.","- APU and PWP Integration\n- Machinery Integration\n- Thermal management","AKKA works on powertrain and electric and hybrid powertrain development. The electrification of Aircraft Systems is one of our technological assets of future aircraft development.","yes","yes",null,null,null,"no","no",null,null,null,"no","no",0,0,0,0,1,0,0,0,0,0,null,null,null,"no","no",null,null,null,"no","no",null,null,null,"no","no",null,null,null,"no","no","AKKA provides Engineering Services for:\n- FAL (final assemply line) supervision, Body parts & A/C assembly inspection\n- BFE Management\n- Support for technical acceptance at time of ToT","Industrical Performances:\n- Support for \"Special processes\"\n- Support for \"transer of work\" across the supply chain\n- Support for Scheduling and organization of production activities\n\nERP Solutions for manufacturing:\n- Manufacturing, Supply Chain, Logistic & Quality\n- Procurement, Finance, HR\n- BI & Big Data, Data Transformation\n- Business Support\n- Technical Data\n- Project Management & Transformation\n- Manufacturing Support",null,"yes","yes",null,null,null,"no","no",null,null,null,"no","no",null,null,null,"no","no",null,null,null,"no","no",null,null,null,"no","no",1,1,1,"AKKA supports the following flight operations disciplines:\n- flight safety\n- Efficiency\n- compliance\n- up to date","- flight Monitoring\n- flight notification and in-depth occurrence Report are crucial\n- enhanced organization and empowered flight saftey officers\n- time optimization, fuel consumption\n- organization of documentation\n- IOSA issues: Safety Management System\n- AIR OPS, ETOPS\n- Demonstration of compliance\n- Quality, regulations\n- Documentation obsolescence\n- up-to-date information","Our Solutions:\n- documentation enginering\n- flight data Engineering\n- operational studies\n- operational control Center (OCC)\n- Air Transport Consulting Services\n- Crew Training Services","yes","yes","AKKA is able to work on the OEM and Tier1 test facililities and its test Equipments. \n\nAKKA owns several EMV facilities for electro magnetical verification","- Test rigs set up \n- Simulation and Simulator Support\n- Validation and Verification on Test Equipment and Target\nServices\n- Test Analysis and reports\n- flight test folow ups\n- ground test execution on Simulators and Integration benches\n- HMI for commands and control of light test Equipment\n- System Monitoring and Transmission of telemetry Messages\n- engine test bench",null,"no","no","AKKA covers Engineering Services in Avionic and embedded systems","- HMI, Cockpit operations\n- Human factors\n- Avionics System development and Integration (ATA 42: IMA)\n- Avionic Suites & certification through design assurance for SW (DO-178), HW (DO254), System (ARP4754), Safety (ARP4761), IMA (DO297)",null,"yes","yes",1,1,"AKKA Group covers for aerospace strong competencies in:\n-Aircraft & System Engineering\n- Aircraft Support & Operations\n- Information System & Software","Design competencies:\n- flight physics\n- Cockpit & avionics\n- all System design, Integration and Installation\n- embedded Software\n- airframe\nTest & production Services:\n- ground and flight tests\n- aircraft certification\n- Quality Management\n- manufacturing Engineering\n- supply chain Management\n- FAL follow-up\nIn Services:\n- Trainings\n- logistics Support\n- flight operations Support\n- technical asset Management\n- maintenance\n- aircraft modifications\n- technical documentation\n- configuration Management\n- customer Support and order administration",null,1,1,"Akka offers a comprehensive Support for the Definition, development and implementation of Training Solutions (incl. Simulators, etc.)","Standard Tools for Training production:\n- Design: Office Suite, VISIO, Mindmapping...\n- e-learning development: stroyline, captivate, elucidat, I-Spring, Videoscribe, PPT\n- 3D products: REDWAY, UNITY, LUMION; NAVISWORK, AUTOCAD, 3DSMax, Catia Composer, 3D JUMP\nTechnologies: html, Flash 3D, VR, VA, Vidoe, 3D Real Time...\n- Compliancy to norms: AICC, SCORM 1.2, SCORM 2004, xAPI",null,"yes","yes",0,null,null,"no","no"]
["ASBU for Future GmbH",0,0,0,0,null,null,null,"no","no",null,null,null,"no","no",null,null,null,"no","no",null,null,null,"no","no",0,0,0,0,0,0,0,0,0,0,0,0,0,0,null,null,null,"no","no",null,null,null,"no","no",null,null,null,"no","no",null,null,null,"no","no",null,null,null,"no","no",null,null,null,"no",null,null,null,null,"no","no",null,null,null,"no","no",null,null,null,"no","no",null,null,null,"no","no",null,null,null,"no","no",null,null,null,"no","no",null,null,null,"no","no",null,null,null,0,0,0,0,0,0,0,0,null,null,null,"no","no",null,null,null,"no","no",null,null,null,"no","no",null,null,null,"no","no",null,null,null,"no","no",null,null,null,"no","no",0,0,1,0,0,0,0,null,null,null,"no","no",null,null,null,"no","no","Aeronautical/GeoInfo Data Process for all Bw OSS, MSS, and similar - study, concept, regulation. Data structures, interfaces, and distribution. Red/Black Gateways.","ZLO Ber NatFü III, LufABw  3 I d, 3 II b.","--","yes","yes",null,null,null,"no","no",null,null,null,"no","no",null,null,null,"no","no",null,null,null,0,0,0,0,0,0,0,0,null,null,null,"no","no",null,null,null,"no","no",null,null,null,"no","no",null,null,null,"no","no",null,null,null,"no","no",null,null,null,"no","no",0,0,0,0,0,0,0,0,0,0,null,null,null,"no","no",null,null,null,"no","no",null,null,null,"no","no",null,null,null,"no","no",null,null,null,"no","no",null,null,null,"no","no",null,null,null,"no","no",null,null,null,"no","no",null,null,null,"no","no",null,null,null,"no","no",0,0,0,null,null,null,"no","no",null,null,null,"no","no",null,null,null,"no","no",0,0,null,null,null,0,0,null,null,null,"no","no",0,null,null,"no","no"]
["Asco Industries",0,1,0,1,null,null,null,"no","no","(SQ)RTM and out of autoclave technology","Aflonext - Clean Sky 1 & 2 project : BLADE (Europe) \nCCMRD10 (Canada)\nLuFo\nFP7","Hybrid assemblies \nMulticell structures \nComplex components","yes","no",null,null,null,"no","no","High strength steels, Aluminium, & titanium design and manufacturing of high lift devices and complex structural components","World leader and proven specialist","Additive manufacturing\nHybrid assemblies ","yes","no",0,1,0,0,0,0,0,1,0,0,1,0,1,0,null,null,null,"no","no","All actuation integrations for wing mechanisms such as flaps & slats","Major supplier of high lift devices","Wing of Tomorrow","yes","no",null,null,null,"no","no",null,null,null,"no","no",null,null,null,"no","no",null,null,null,"no",null,null,null,null,"no","no","design and manufacturing of high lift devices and complex structural components","Wing movables and landing gear systems.","Wing of Tomorrow","no","no",null,null,null,"no","no",null,null,null,"no","no","Integration of de-icing devices and monitoring sensors into wing structures","Electric de-icing systems for leading edge components","Integration of sensors into materials and Structural health monitoring techniques","yes","no",null,null,null,"no","no","design and manufacturing of high lift devices and complex structural components","Major supplier of OEM and Tier 1","Wing of Tomorrow","no","no",null,null,null,0,0,1,0,0,0,1,0,"design and manufacturing of high lift devices and complex structural components","Wings, empennage, landing gear and fuselage structural components and assemblies","Aerospace platforms of the future","yes","no",null,null,null,"no","no",null,null,null,"no","no",null,null,null,"no","no","Landing gear complex structural components and assemblies","A400M, A380, A350, B777, F7X","Landing gear components in materials of the future","yes","no",null,null,null,"no","no",0,0,0,0,0,0,0,null,null,null,"no","no",null,null,null,"no","no",null,null,null,"no","no",null,null,null,"no","no",null,null,null,"no","no",null,null,null,"no","no",null,null,null,0,0,0,0,0,0,0,0,null,null,null,"no","no",null,null,null,"no","no",null,null,null,"no","no",null,null,null,"no","no",null,null,null,"no","no",null,null,null,"no","no",0,0,0,1,0,0,0,0,0,0,null,null,null,"no","no",null,null,null,"no","no",null,null,null,"no","no","Complex machining of structural components in high strength steel, aluminum and titanium","Major supplier of OEM and Tier 1","Industry 4.0 and automation of production environment","yes","yes",null,null,null,"no","no",null,null,null,"no","no",null,null,null,"no","no",null,null,null,"no","no",null,null,null,"no","no",null,null,null,"no","no",0,0,0,null,null,null,"no","no",null,null,null,"no","no",null,null,null,"no","no",0,0,null,null,null,0,0,null,null,null,"no","no",0,null,null,"no","no"]
["ASG Luftfahrttechnik und Sensorik GmbH",0,0,0,0,null,null,null,"no","no",null,null,null,"no","no",null,null,null,"no","no",null,null,null,"no","no",0,0,0,0,0,0,0,0,0,0,0,1,0,1,null,null,null,"no","no",null,null,null,"no","no",null,null,null,"no","no",null,null,null,"no","no",null,null,null,"no","no",null,null,null,"no",null,null,null,null,"no","no",null,null,null,"no","no",null,null,null,"no","no",null,null,null,"no","no",null,null,null,"no","no","Speed -, Rotary Position -, Temperature Sensors, Proximity Sensors and Switches. Technology: Hall Effect, Inductive, Communication protocol, analogue, CAN, ...","e.g. A400M","Wireless Communication of Sensor Signal, Energy Harvesting","yes","yes",null,null,null,"no","no","Electro-mechanical valves, mechanical valves for fuel system, fresh and grey water system. Intelligent position detection, Communication: Analogue, CAN, ...","NH90, TIGER, Airbus, Embraer","light weight plastics",1,1,0,0,0,0,0,0,null,null,null,"no","no",null,null,null,"no","no",null,null,null,"no","no",null,null,null,"no","no",null,null,null,"no","no",null,null,null,"no","no",0,0,0,0,0,0,0,null,null,null,"no","no",null,null,null,"no","no",null,null,null,"no","no",null,null,null,"no","no",null,null,null,"no","no",null,null,null,"no","no",null,null,null,0,0,0,0,0,0,0,0,null,null,null,"no","no",null,null,null,"no","no",null,null,null,"no","no",null,null,null,"no","no",null,null,null,"no","no",null,null,null,"no","no",0,0,0,0,0,0,0,0,0,0,null,null,null,"no","no",null,null,null,"no","no",null,null,null,"no","no",null,null,null,"no","no",null,null,null,"no","no",null,null,null,"no","no",null,null,null,"no","no",null,null,null,"no","no",null,null,null,"no","no",null,null,null,"no","no",0,0,0,null,null,null,"no","no",null,null,null,"no","no",null,null,null,"no","no",0,0,null,null,null,0,0,null,null,null,"no","no",0,null,null,"no","no"]
["Astute GmbH",0,0,0,0,null,null,null,"no","no",null,null,null,"no","no",null,null,null,"no","no",null,null,null,"no","no",0,0,0,1,1,1,1,0,0,0,1,0,0,0,null,null,null,"no","no",null,null,null,"no","no",null,null,null,"no","no","Connectors, Cockpit lighting, exterior lighting, Relais, Activ and passiv components","Eurofighter, Tornado","miniature OLED disolays, Li-ION batteries, DC-DC converters","yes","yes","Circular, rectangluar, inside and outside the box, pcb board, filter, hermetic and fiberoptic connectors.","Eurofighter, Tornado",null,"yes","yes","all kind of fasterners","Eurofighter, Tornado",null,"yes",null,"External and internal Lighting, Cockpit controls, wingtip lights, landing lights, etc. ","Saab Cripen, Eurofighter, Tornado","LED Technology, EMI protection","yes","yes",null,null,null,"no","no",null,null,null,"no","no",null,null,null,"no","no","all kind of fasterners","Eurofighter, Tornado",null,"yes","yes",null,null,null,"no","no",null,null,null,"no","no",null,null,null,0,0,0,0,0,0,1,0,null,null,null,"no","no",null,null,null,"no","no",null,null,null,"no","no",null,null,null,"no","no","LED Landing light","Saab Gripen",null,"no","no",null,null,null,"no","no",0,0,0,1,0,0,0,null,null,null,"no","no",null,null,null,"no","no",null,null,null,"no","no","LED cockpit controls, NVIS capability, miniature OLEDE Displays for augmented reality applications","Switches and Indicators, NVIS","augmented reality applications","yes","yes",null,null,null,"no","no",null,null,null,"no","no",null,null,null,0,0,0,1,0,0,0,0,null,null,null,"no","no","DC-DC Converter","Boing Fighter aircrafts",null,"no","no",null,null,null,"no","no",null,null,null,"no","no",null,null,null,"no","no",null,null,null,"no","no",0,0,0,0,0,0,0,0,0,0,null,null,null,"no","no",null,null,null,"no","no",null,null,null,"no","no",null,null,null,"no","no",null,null,null,"no","no",null,null,null,"no","no",null,null,null,"no","no",null,null,null,"no","no",null,null,null,"no","no",null,null,null,"no","no",0,0,0,null,null,null,"no","no",null,null,null,"no","no",null,null,null,"no","no",0,0,null,null,null,0,0,null,null,null,"no","no",0,null,null,"no","no"]
["ATT Umweltsimulation GmbH",0,0,0,0,null,null,null,"no","no",null,null,null,"no","no",null,null,null,"no","no",null,null,null,"no","no",0,0,0,0,0,0,0,0,0,0,0,0,0,0,null,null,null,"no","no",null,null,null,"no","no",null,null,null,"no","no",null,null,null,"no","no",null,null,null,"no","no",null,null,null,"no",null,null,null,null,"no","no",null,null,null,"no","no",null,null,null,"no","no",null,null,null,"no","no",null,null,null,"no","no",null,null,null,"no","no",null,null,null,"no","no",null,null,null,0,0,0,0,0,0,0,0,null,null,null,"no","no",null,null,null,"no","no",null,null,null,"no","no",null,null,null,"no","no",null,null,null,"no","no",null,null,null,"no","no",0,0,0,0,0,0,0,null,null,null,"no","no",null,null,null,"no","no",null,null,null,"no","no",null,null,null,"no","no",null,null,null,"no","no",null,null,null,"no","no",null,null,null,0,0,0,0,0,0,0,0,null,null,null,"no","no",null,null,null,"no","no",null,null,null,"no","no",null,null,null,"no","no",null,null,null,"no","no",null,null,null,"no","no",0,0,0,0,0,0,0,0,0,0,null,null,null,"no","no",null,null,null,"no","no",null,null,null,"no","no",null,null,null,"no","no",null,null,null,"no","no",null,null,null,"no","no",null,null,null,"no","no",null,null,null,"no","no",null,null,null,"no","no",null,null,null,"no","no",0,1,0,null,null,null,"no","no","Environmental test Equipment for simulating temperature(-180°C to +180°C), humidity and altitude up to space conditions (up to 10-7mbar)",null,null,"yes","yes",null,null,null,"no","no",0,0,null,null,null,0,0,null,null,null,"no","no",0,null,null,"no","no"]
["Autoflug GmbH",0,0,0,0,null,null,null,"no","no",null,null,null,"no","no",null,null,null,"no","no",null,null,null,"no","no",0,1,0,0,0,0,0,1,0,0,0,0,0,0,null,null,null,"no","no","Design, manufacture and MRO of actuators","German Luftwaffe on C160 etc",null,"yes","yes",null,null,null,"no","no",null,null,null,"no","no",null,null,null,"no","no",null,null,null,"no",null,null,null,null,"no","no","Design, manufacture and MRO of mechanical components","German Luftwaffe on C160, EF, Tornado",null,"yes","yes",null,null,null,"no","no",null,null,null,"no","no",null,null,null,"no","no",null,null,null,"no","no",null,null,null,"no","no",null,null,null,0,0,0,1,1,1,0,0,null,null,null,"no","no","Design, manufacture and MRO of ejection seats, harness, chutes, ","EF, Tornado, Tiger, Seaking, Sealynx","see the whole Cockpit as one System with a flight commander","yes","yes","Design, manufacture and MRO of ejection seats, harness, chutes, ","EF, Tornado, Tiger, Seaking, Sealynx","System with a flight commander","yes","yes","Design, manufacture and MRO of fuel Systems and Display units ","KFX, Tornado",null,"yes","yes",null,null,null,"no","no",null,null,null,"no","no",0,0,0,0,0,0,0,null,null,null,"no","no",null,null,null,"no","no",null,null,null,"no","no",null,null,null,"no","no",null,null,null,"no","no",null,null,null,"no","no",null,null,null,0,0,0,0,0,0,1,0,null,null,null,"no","no",null,null,null,"no","no",null,null,null,"no","no",null,null,null,"no","no","Design, manufacture and MRO of fuel Systems and Display units ","KFX, Tornado",null,"yes","yes",null,null,null,"no","no",0,0,0,0,0,0,0,0,0,0,null,null,null,"no","no",null,null,null,"no","no",null,null,null,"no","no",null,null,null,"no","no",null,null,null,"no","no",null,null,null,"no","no",null,null,null,"no","no",null,null,null,"no","no",null,null,null,"no","no",null,null,null,"no","no",0,0,0,null,null,null,"no","no",null,null,null,"no","no",null,null,null,"no","no",1,0,"TLB of running systems","EF, Tornado, several helicopters",null,1,1,null,null,null,"no","no",1,"Design, manufacture and MRO of fuel tanks",null,"yes","yes"]
["B/E Aerospace Systems GmbH",0,0,0,0,null,null,null,"no","no",null,null,null,"no","no",null,null,null,"no","no",null,null,null,"no","no",0,0,0,0,0,0,0,0,0,0,0,1,0,1,null,null,null,"no","no",null,null,null,"no","no",null,null,null,"no","no",null,null,null,"no","no",null,null,null,"no","no",null,null,null,"no",null,null,null,null,"no","no",null,null,null,"no","no",null,null,null,"no","no",null,null,null,"no","no",null,null,null,"no","no","Oxygen Sensors","Eurofighter Oxygen Sensor","Miniaturization of high reliability application","yes","yes",null,null,null,"no","no","Oxygen:\nShut-Up Valves, Flow controllers, Pressure reducers, Breathing Gas Regulators, Emergency Oxygen Systems, NBC Protection","Various Applications on Eurofighter, Airbus, Embraer, Boeing Commercial and Military Platforms","Miniaturization of high reliability application, oxygen saving technologies, enhanced lectronic interfaces to A/C systems",1,1,0,1,0,0,0,0,null,null,null,"no","no","Design, Testing, Manufacturing and Support of all Oxygen related Life Support Components and associated products / interfaces","All major commercial A/C interior and oxygen Passenger Service Units. C295, A400M, KC390, Eurofighter Crew Supply systems, Portables and Emergency Oxygen Systems","Oxygen Saving Technologies , electronic interfaces and network to A/C systems","yes","yes",null,null,null,"no","no",null,null,null,"no","no",null,null,null,"no","no",null,null,null,"no","no",0,0,0,0,0,0,0,null,null,null,"no","no",null,null,null,"no","no",null,null,null,"no","no",null,null,null,"no","no",null,null,null,"no","no",null,null,null,"no","no",null,null,null,0,0,0,0,0,0,0,0,null,null,null,"no","no",null,null,null,"no","no",null,null,null,"no","no",null,null,null,"no","no",null,null,null,"no","no",null,null,null,"no","no",0,0,0,0,0,0,0,0,0,0,null,null,null,"no","no",null,null,null,"no","no",null,null,null,"no","no",null,null,null,"no","no",null,null,null,"no","no",null,null,null,"no","no",null,null,null,"no","no",null,null,null,"no","no",null,null,null,"no","no",null,null,null,"no","no",0,0,0,null,null,null,"no","no",null,null,null,"no","no",null,null,null,"no","no",0,0,null,null,null,0,0,null,null,null,"no","no",1,"Combination of Collins Aerospace capabilitiesrefer to combined Collins Aerospace Input\nrefer to combined Collins Aerospace Input","refer to combined Collins Aerospace Input","yes","yes"]
["Biersack Aerospace",0,0,0,0,null,null,null,"no","no",null,null,null,"no","no",null,null,null,"no","no",null,null,null,"no","no",0,0,0,0,0,0,0,1,1,0,0,0,0,0,null,null,null,"no","no",null,null,null,"no","no",null,null,null,"no","no",null,null,null,"no","no",null,null,null,"no","no",null,null,null,"no",null,null,null,null,"no","no","cnc milling up to 4.000mm\ncnc turning up to 600mm dia.\nassembly with special processes (riveting, sealing, pressfitting, etc.) \ntitanium, aluminium, highstrength steel","titanium and aluminium investment casting or parts out o full block for defence industries\n\n","Additive Manufacturing metals\nMill-Turn-machining","yes","yes","cnc milling up to 4.000mm\ncnc turning up to 600mm dia.\nassembly with special processes (riveting, sealing, pressfitting, etc.) \ntitanium, aluminium, highstrength steel","Connectors for fuel pipes A350","Additive Manufacturing metals\nMill-Turn-machining","no","no",null,null,null,"no","no",null,null,null,"no","no",null,null,null,"no","no",null,null,null,"no","no",null,null,null,0,0,1,0,0,0,0,0,"Assembly of components with special processes\n-sealing\n-riveting\n-screws\n-inserts\n-mounitng of bearings\n-press fittings","Components for freight loading systems","co-Robots in assembly line","no","no",null,null,null,"no","no",null,null,null,"no","no",null,null,null,"no","no",null,null,null,"no","no",null,null,null,"no","no",0,0,0,0,0,0,0,null,null,null,"no","no",null,null,null,"no","no",null,null,null,"no","no",null,null,null,"no","no",null,null,null,"no","no",null,null,null,"no","no",null,null,null,0,0,0,0,0,0,0,0,null,null,null,"no","no",null,null,null,"no","no",null,null,null,"no","no",null,null,null,"no","no",null,null,null,"no","no",null,null,null,"no","no",0,0,0,1,0,0,0,0,0,0,null,null,null,"no","no",null,null,null,"no","no",null,null,null,"no","no","cnc milling up to 4.000mm\ncnc turning up to 600mm dia.\nassembly with special processes (riveting, sealing, pressfitting, etc.) \ntitanium, aluminium, highstrength steel",null,null,"no","yes",null,null,null,"no","no",null,null,null,"no","no",null,null,null,"no","no",null,null,null,"no","no",null,null,null,"no","no",null,null,null,"no","no",0,0,0,null,null,null,"no","no",null,null,null,"no","no",null,null,null,"no","no",0,0,null,null,null,0,0,null,null,null,"no","no",0,null,null,"no","no"]
["Bodycote Wärmebehandlung GmbH",0,0,0,1,null,null,null,"no","no",null,null,null,"no","no",null,null,null,"no","no","Service Provider for Heat Treatment of Metals, Brazing and Electron Beam Welding, offered from more than 180 locations worldwide",null,null,"no","no",0,0,0,0,0,0,0,0,0,0,0,0,0,0,null,null,null,"no","no",null,null,null,"no","no",null,null,null,"no","no",null,null,null,"no","no",null,null,null,"no","no",null,null,null,"no",null,null,null,null,"no","no",null,null,null,"no","no",null,null,null,"no","no",null,null,null,"no","no",null,null,null,"no","no",null,null,null,"no","no",null,null,null,"no","no",null,null,null,0,0,0,0,0,0,0,0,null,null,null,"no","no",null,null,null,"no","no",null,null,null,"no","no",null,null,null,"no","no",null,null,null,"no","no",null,null,null,"no","no",0,0,0,0,0,0,0,null,null,null,"no","no",null,null,null,"no","no",null,null,null,"no","no",null,null,null,"no","no",null,null,null,"no","no",null,null,null,"no","no",null,null,null,0,0,0,0,0,0,0,0,null,null,null,"no","no",null,null,null,"no","no",null,null,null,"no","no",null,null,null,"no","no",null,null,null,"no","no",null,null,null,"no","no",0,0,0,0,0,0,0,1,0,0,null,null,null,"no","no",null,null,null,"no","no",null,null,null,"no","no",null,null,null,"no","no",null,null,null,"no","no",null,null,null,"no","no",null,null,null,"no","no","Service Provider for Heat Treatment of Metal, Brazing and Electron Beam Welding","NADCAP Accreditation\nPreferred supplier status with many OEM and supply base",null,"no","yes",null,null,null,"no","no",null,null,null,"no","no",0,0,0,null,null,null,"no","no",null,null,null,"no","no",null,null,null,"no","no",0,0,null,null,null,0,0,null,null,null,"no","no",0,null,null,"no","no"]
["Caro-Prometa GmbH",0,0,0,1,null,null,null,"no","no",null,null,null,"no","no",null,null,null,"no","no","non-ferrous metals",null,null,"no","no",0,0,1,0,0,0,0,1,0,0,0,0,0,0,null,null,null,"no","no",null,null,null,"no","no","bearing",null,null,"no","no",null,null,null,"no","no",null,null,null,"no","no",null,null,null,"no",null,null,null,null,"no","no","landing gear",null,null,"no","no",null,null,null,"no","no",null,null,null,"no","no",null,null,null,"no","no",null,null,null,"no","no",null,null,null,"no","no",null,null,null,0,0,0,0,0,0,1,0,null,null,null,"no","no",null,null,null,"no","no",null,null,null,"no","no",null,null,null,"no","no","landing gear",null,null,"no","no",null,null,null,"no","no",0,0,0,0,0,0,0,null,null,null,"no","no",null,null,null,"no","no",null,null,null,"no","no",null,null,null,"no","no",null,null,null,"no","no",null,null,null,"no","no",null,null,null,0,0,0,0,0,0,0,0,null,null,null,"no","no",null,null,null,"no","no",null,null,null,"no","no",null,null,null,"no","no",null,null,null,"no","no",null,null,null,"no","no",0,0,0,0,0,0,0,0,0,0,null,null,null,"no","no",null,null,null,"no","no",null,null,null,"no","no",null,null,null,"no","no",null,null,null,"no","no",null,null,null,"no","no",null,null,null,"no","no",null,null,null,"no","no",null,null,null,"no","no",null,null,null,"no","no",0,0,0,null,null,null,"no","no",null,null,null,"no","no",null,null,null,"no","no",0,0,null,null,null,0,0,null,null,null,"no","no",0,null,null,"no","no"]
["CIMPA GmbH",0,0,0,0,null,null,null,"no","no",null,null,null,"no","no",null,null,null,"no","no",null,null,null,"no","no",0,0,0,0,0,0,0,0,0,0,0,0,0,0,null,null,null,"no","no",null,null,null,"no","no",null,null,null,"no","no",null,null,null,"no","no",null,null,null,"no","no",null,null,null,"no",null,null,null,null,"no","no",null,null,null,"no","no",null,null,null,"no","no",null,null,null,"no","no",null,null,null,"no","no",null,null,null,"no","no",null,null,null,"no","no",null,null,null,0,0,0,0,0,0,0,0,null,null,null,"no","no",null,null,null,"no","no",null,null,null,"no","no",null,null,null,"no","no",null,null,null,"no","no",null,null,null,"no","no",0,0,0,0,0,0,0,null,null,null,"no","no",null,null,null,"no","no",null,null,null,"no","no",null,null,null,"no","no",null,null,null,"no","no",null,null,null,"no","no",null,null,null,0,0,0,0,0,0,0,0,null,null,null,"no","no",null,null,null,"no","no",null,null,null,"no","no",null,null,null,"no","no",null,null,null,"no","no",null,null,null,"no","no",1,0,0,0,0,0,0,0,0,0,"Process Method & Tools around CIM and PLM. with more than 1200 employees in europe we are one of the larges IT Company specialist for data management","Airbus; Airbus Group; Naval; Renault; Premium Aerotec","Link2S4Hana; eWM Manching and Augsburg; CIM goes MRO; addaptive manufacturing ","yes","yes",null,null,null,"no","no",null,null,null,"no","no",null,null,null,"no","no",null,null,null,"no","no",null,null,null,"no","no",null,null,null,"no","no",null,null,null,"no","no",null,null,null,"no","no",null,null,null,"no","no",0,0,0,null,null,null,"no","no",null,null,null,"no","no",null,null,null,"no","no",1,1,"Config.Management; DMU Services; Business operational Support; more than 20 years expirience mstly in Airbus; Airbus Group and Helicopter as well in Defence; Extended Enterprise Services, Quality check on IT and Method usage","Airbus; Airbus Group; Helicopter; Premium Aerotec; Diehl; Airbus Supplier","Plattform Qualifikation; Bionical design; additive manufacturing follow the design via 3D printing",1,1,"qualifited Training Company for Airbus civil academy \nTrain Methode changes from CV4 - CV5 to 3DX","Airbus Group; Airbus civil; Helicopter; Airbus supplier; Diehl; ","Leaning beans; Gamification","yes","yes",0,null,null,"no","no"]
["COTESA",1,1,0,0,"Coatings of Composite parts (GFRP / CFRP) including primer and antistatic","Airbus A320 Belly Fairing; Airbus cabin interior components",null,"yes","yes","CFRP components for aerostructure (e. g. stiffeners, Frames); GFRP honeycomb assemblies for Fairings; GFRP honeycomb for interior and exterior application (Panels, fairings); CFRP Transmission shafts","Airbus A320, A330, A350, A380, A400M, NH 90; Boeing CH47; Airbus-, Boeing and NADCAP Composites certified","AFP- and hotforming processes in use today","yes","yes",null,null,null,null,null,null,null,null,null,null,null,null,null,null,null,null,null,1,null,null,null,null,1,null,null,null,null,null,null,null,null,null,null,null,null,null,null,null,null,null,null,null,null,null,null,null,null,null,null,null,null,null,null,null,null,null,null,null,null,"CFRP components for aerostructure as Frames, stiffeners, ribs, doublers; CFRP Transmission shafts","Airbus A320, A350, A380, A400M; Airbus-, Boeing and NADCAP Composites certified",null,"yes","yes",null,null,null,null,null,null,null,null,null,null,null,null,null,null,null,null,null,null,null,null,"CFRP components for aerostructure as Frames, stiffeners, ribs, doublers","Airbus A320, A350, A380, A400M; Airbus-, Boeing and NADCAP Composites certified",null,"yes","yes",null,null,null,null,null,null,1,null,null,null,null,null,null,null,null,null,"GFRP honeycomb Panels including potting and painting, linings, pipes, tubes; ","Airbus A320, A350, A380; Airbus-, Boeing and NADCAP Composites certified",null,"yes","yes",null,null,null,null,null,null,null,null,null,null,null,null,null,null,null,null,null,null,null,null,null,null,null,null,null,null,null,null,null,null,null,null,null,null,null,null,null,null,null,null,null,null,null,null,null,null,null,null,null,null,null,null,null,null,null,null,null,null,null,null,null,null,null,null,null,null,null,1,null,null,null,null,null,null,null,null,null,null,null,null,null,null,null,null,null,null,null,null,null,null,null,null,null,"CFRP Transmission shafts","Airbus A380",null,"yes","yes",null,null,null,null,null,null,null,null,null,null,null,null,null,null,null,null,null,null,null,null,null,null,null,null,null,null,null,null,null,null,null,null,null,null,null,null,null,null,null,null,null,null,null,null,null,null,null,null,null,null,null,null,null,null,null,null,null,null,null,null,null,null,1,null,null,null,null,null,null,null,null,null,null,"ISO 17025 certified material lab for mechanical, physical and chemical testing",null,null,"yes","yes"]
["DAHER Aerospace GmbH",0,0,0,0,null,null,null,"no","no",null,null,null,"no","no",null,null,null,"no","no",null,null,null,"no","no",0,0,0,0,0,0,0,0,0,0,0,0,0,0,null,null,null,"no","no",null,null,null,"no","no",null,null,null,"no","no",null,null,null,"no","no",null,null,null,"no","no",null,null,null,"no",null,null,null,null,"no","no",null,null,null,"no","no",null,null,null,"no","no",null,null,null,"no","no",null,null,null,"no","no",null,null,null,"no","no",null,null,null,"no","no",null,null,null,0,0,1,0,0,0,0,0,"Description : Design & Manufacturing of Large & Complex Composites & Metal Assemblies","\tA320 & A330 Composites Belly Fairings\n\tAirbus A350 Composites Landing Gear Doors\n\tBoeing 787 Thermoplastics Structural Parts\n\tDassault Falcon F6X entire upper fuselage section\n\tGulfstream G500/G600 Composites Elevators, Main Landing Gear Doors & Wing to Body Fairings\n\tA400M Nose Landing Gear Doors\n\tAirbus Helicopter H160 Advanced Composites Entire Tail Structure\n\tAirbus Helicopter EC130 Metal Airframe\n\tAirbus Helicopters Tigre Tail boom, fenetron & fairings \n\tNH Industries NH90 Tail Boom\n","\tDaher strongly invest in advanced composites technologies to produce complex structural parts & assemblies. \n\tTechnology Innovation Roadmap is focused on reinforced thermoplastics and thermosets assemblies.\n\tProduct Innovation Roadmap is looking to advanced structures, especially on wings, pylon & nacelles assemblies.\n","yes","yes",null,null,null,"no","no",null,null,null,"no","no",null,null,null,"no","no",null,null,null,"no","no",null,null,null,"no","no",0,0,0,0,0,0,0,null,null,null,"no","no",null,null,null,"no","no",null,null,null,"no","no",null,null,null,"no","no",null,null,null,"no","no",null,null,null,"no","no",null,null,null,0,0,0,0,0,0,0,0,null,null,null,"no","no",null,null,null,"no","no",null,null,null,"no","no",null,null,null,"no","no",null,null,null,"no","no",null,null,null,"no","no",0,0,0,0,1,0,0,0,0,0,null,null,null,"no","no",null,null,null,"no","no",null,null,null,"no","no",null,null,null,"no","no","Daher delivers Pre-Assembly operations, Outstanding work & finishing services. These activities are based on three core competencies: structural assembly, mechanical assembly and equipment installation","\tAirbus Saint Nazaire Belly Fairing Installation\n\tAirbus Toulouse A350 Cabin Installation\n\tAirbus Toulouse Cockpit Equipment Installation\n\tDaher TBM Aircraft entire assembly and equipment installation\n","\tDaher is currently under a development process of further manufacturing services: technical support, quality checks, production scheduling and control","yes","yes",null,null,null,"no","no",null,null,null,"no","no",null,null,null,"no","no",null,null,null,"no","no",null,null,null,"no","no",0,0,0,null,null,null,"no","no",null,null,null,"no","no",null,null,null,"no","no",0,0,null,null,null,0,0,null,null,null,"no","no",0,null,null,"no","no"]
["Dedienne Multiplasturgy Group",0,1,1,0,null,null,null,"no","no","forming, consolidation and overmolding of thermoplastic composites","clips and cleats,\nmolded components","thermoplastic one step process combining forming, consolidation and overmolding","yes","yes","machining of high performace thermoplastic polymers, coating of polymers, by galvanization or PVD",null,null,"yes","yes",null,null,null,"no","no",0,0,0,0,0,0,0,0,0,0,0,0,0,0,null,null,null,"no","no",null,null,null,"no","no",null,null,null,"no","no",null,null,null,"no","no",null,null,null,"no","no",null,null,null,"no",null,null,null,null,"no","no",null,null,null,"no","no",null,null,null,"no","no",null,null,null,"no","no",null,null,null,"no","no",null,null,null,"no","no",null,null,null,"no","no",null,null,null,0,0,0,1,0,1,0,0,null,null,null,"no","no","thermoplastic composite panels\novermolded termoplastic composite panels",null,"structural part for seatings","yes","no",null,null,null,"no","no","molded connector and machines fasteners made of high performance polymers","Safran engines",null,"yes","yes",null,null,null,"no","no",null,null,null,"no","no",0,0,0,0,0,0,0,null,null,null,"no","no",null,null,null,"no","no",null,null,null,"no","no",null,null,null,"no","no",null,null,null,"no","no",null,null,null,"no","no",null,null,null,0,0,0,0,0,0,1,0,null,null,null,"no","no",null,null,null,"no","no",null,null,null,"no","no",null,null,null,"no","no","thermoplastic imnjection molded connector and tubing,\nsurface treatment for electrical or thermal conductivity improvement",null,null,"yes","yes",null,null,null,"no","no",0,0,0,1,0,0,0,1,1,0,null,null,null,"no","no",null,null,null,"no","no",null,null,null,"no","no","high precision turning, drilling and milling of high performance polymers",null,null,"no","yes",null,null,null,"no","no",null,null,null,"no","no",null,null,null,"no","no","galvanisation, PVD, CVD","fule tubing\nEMC shielding",null,"yes","yes","manufacturing of injection molding tools, 1 and 2k\nstamping and thermoforming tools",null,null,"yes","yes",null,null,null,"no","no",0,0,0,null,null,null,"no","no",null,null,null,"no","no",null,null,null,"no","no",0,0,null,null,null,0,0,null,null,null,"no","no",0,null,null,"no","no"]
["Diehl Aerospace",0,0,0,0,null,null,null,"no","no",null,null,null,"no","no",null,null,null,"no","no",null,null,null,"no","no",1,0,0,0,0,0,0,0,0,0,0,1,0,0,"Graphic Processing Unit, Full Duplex Ethernet Controller ASIC, ARINC 419 ASIC,...","Airbus commercial and military aircrafts and Helicopters",null,"yes","yes",null,null,null,"no","no",null,null,null,"no","no",null,null,null,"no","no",null,null,null,"no","no",null,null,null,"no",null,null,null,null,"no","no",null,null,null,"no","no",null,null,null,"no","no",null,null,null,"no","no",null,null,null,"no","no","NON ITAR, proximity sensors  to be used on Landing Gear, Weapon Bay for position detection","A400M Cargo Hold, A350 Doors","Versatility and Integrated Sensor Chain","yes","yes",null,null,null,"no","no",null,null,null,0,0,0,1,0,0,0,0,null,null,null,"no","no","Cabin Lighting, Emergency Lighting. Side Walls, Ceiling, ","all Airbus Commercial A/C. Boeing B787, B777, B77X , Boeing KC-46A Tanker, NH90","Multi Colors LED Lighting","yes","no",null,null,null,"no","no",null,null,null,"no","no",null,null,null,"no","no",null,null,null,"no","no",1,0,1,1,0,0,0,"Cockpit Equipment (Head Down& Head Up Displays, Instruments), Helmets, Flight Computers, Pilot Stick and Control Interfaces, A653 Computing Platforms for Modular Avionics, Remote Data Concentrators,","Eurofigher, Tornado, Tiger, NH90, A400M, all Airbus Commercial Airplanes, Boeing B787","Integrated Modular Avionics for real time safety critical applications, Versatile Input output modules, Multi Core Processor, Gbit Communication, Large Scale Curved Displays, Graphic Processing Unit","yes","yes",null,null,null,"no","no","Data Base Management Systems, Mass Memory Units, Flight Management Computer, Synthetic Visions Systems, Digital Maps, Real Time Computer for safety critical applications","A400M, NH90, ","Critical Modular Integrated Avionics, Secured Cloud Data Management","yes","yes","Standby Instruments, Indicators digital / analog","Tornado, TIger Helicopter",null,"yes","no",null,null,null,"no","no",null,null,null,"no","no",null,null,null,0,0,1,1,1,0,0,0,"Engine Control Units for APU ","For all APU installed on Airbus Commercial Aircrafts","Size reduction, performance improvement","yes","yes","Secondary Power Distribution with remote power controller",null,"configurable and based on purely electronics instead of electro mechnicals ","yes","yes","Digital Engine Control Unit","Tornado","Size reduction, performance improvement","yes","yes",null,null,null,"no","no",null,null,null,"no","no",null,null,null,"no","no",0,0,0,0,0,0,0,0,0,0,null,null,null,"no","no",null,null,null,"no","no",null,null,null,"no","no",null,null,null,"no","no",null,null,null,"no","no",null,null,null,"no","no",null,null,null,"no","no",null,null,null,"no","no",null,null,null,"no","no",null,null,null,"no","no",0,1,1,null,null,null,"no","no","Special to type test equipment for final acceptance test in production and repair. \n","Tornado, Eurofighter","Reduction of number of types using generic test equipment and special to type adapters ","yes","yes","Technical Customer Support Documentation","all Aircrafts","Digitalisation","yes","yes",0,1,null,null,null,0,0,"Repair documentation and repair training","All Aircrafts","Digitalisation","yes","yes",0,null,null,"no","no"]
["Diehl Defence GmbH & Co. KG",1,1,0,0,"Optical coatings for missile domes and sensors (EO-IR spectral range), EMC coatings/gratings for EO/IR transmissive windows","Various missiles (IRIS T family), sensor systems (SIMONE a.o.) and R&T","Freeform/structural conform coating for LO line replacable EO/IR units","yes","yes","CfK/GfK components","Various missile launcher (e.g. GBAD, IRIS-T SL) and sensor system housings etc.","Robust lightweight components, metal/composite substitutes for metal parts   ","no","yes",null,null,null,"no","no",null,null,null,"no","no",1,1,0,1,0,1,0,1,0,0,0,1,1,0,"ASIC design and layout, power electronics assembling comprising active electronic components ","Missile and ammunitions signaling and processing electronics, battle management consoles and fire control units (IRIS-T, IRIS-T SL, Vulcano, RAM development etc.)",null,"yes","yes","Control actuation systems (CAS)","Missiles, guided ammunition","Composite/metal CAS, additive layer manufactured","no","yes",null,null,null,"no","no","Electrical connectors, electric power systems components, semiconductor devices, electromagnetic components, signal cables, electrical wiring","Missile and ammunitions signaling and processing electronics, battle management consoles and fire control units (IRIS-T, IRIS-T SL, Vulcano, RAM development etc.)",null,"yes","yes",null,null,null,"no","no","Various in house precision machined parts ","Missiles, ammunitions and sensor systems production","Precise machining parts","yes",null,null,null,null,"no","no","Various in house precision machined parts ","Missiles, ammunitions and sensor systems production",null,"no","yes",null,null,null,"no","no",null,null,null,"no","no",null,null,null,"no","no","EO/IR seeker heads and sensors, semi active laser (SAL) seeker/sensor (cooled and uncooled technology), targeting sensors","Missiles seeker (IRIS-T family, RAM etc.), guided ammunition (Vulcano) ","SWaP optimized, miniaturized, high-g proven, cost efficient","yes","yes","Missiles and ammunitions airframe","IRIS-T family, Spike family, RAM",null,"no","yes",null,null,null,0,0,0,0,0,0,0,1,null,null,null,"no","no",null,null,null,"no","no",null,null,null,"no","no",null,null,null,"no","no",null,null,null,"no","no","Air-to-air missile, air-to-ground GBUs, air-to-ground missiles and rockets, air-to-surface missile, anti radiation missile, non-lethal effectors","IRIS-T,  RBS-15 Mk3, GBU-24, GBU-48 etc., laser guided Sidewinder, AARGM, Spice, Spike family, GILA 70mm rocket, PARS 3LR, SMART155 as well as flight profile recorder (FPR) AACMI\n(incl. launcher, platform integration (mechanical, electrical, logical - e.g. LSIF), fire control etc.)","Smart launcher, smart shooter/weapon datalink, standard interfaces, network capable weapons, robust/safe/secure sensor-to-shooter-to-effector cycle: for future air-to-air, air-to-ground and air-to-surface (enhanced range and agility a.o.), comprising multispectral and multimode seeker heads, comprising highest-performance signal- and image processing/data fusion and guidance, navigation and control (GNC) units.\nFuture air-to-air and air-to-ground/surface, bay and tube launcher (LOBL/LOAL) as well as air/flight combat training and education based on above mentioned core competencies/cooperations","yes","yes",0,1,0,0,1,1,1,null,null,null,"no","no","Shooter-missile datalink","IRIS-T SL, RAM cooperation","Network capable weapons","yes","yes",null,null,null,"no","no",null,null,null,"no","no","GNC units, INS/GPS (SAASM) modules","RBS-15, IRIS-T SL","Robust navigation / GNC units, jamming/spoofing resistant GPS/GALILEO receiver","yes","yes","Sensors contribution to MAWS e.g.","Passive IR Missile Approach Warner (PIMAWS) prototype,\ndemonstrators (so called SIRIUS/FLASH), R&T FCAS Masterplan",null,"yes","yes","Directed Infrared Counter Measure (DIRCM), flares","A-400M DIRCM,\nR&T FutureDIRCM,\nsmart flares","Closed loop DIRCM,\nminiaturized advanced laser emitters, high-agile turrets,  miniaturized DIRCM airframe integration (LO) demands, guided smart flares",1,1,1,1,0,0,0,1,"Autarc missile and ammunition power system","IRIS-T family",null,"no","yes","Special purpose power generator for GBAD launcher etc., power supplies and transmission systems","IRIS-T SLS, IRIS-T SL, SIMONE sensor, DIRCM etc.",null,"no","yes",null,null,null,"no","no",null,null,null,"no","no",null,null,null,"no","no","Missiles and ammunitions electrical power transmission system","IRIS-T, RBS-15 Mk3, IRIS-T SL, Vulcano etc.",null,"no","yes",1,1,1,1,1,1,1,1,0,0,"Certified CAD, CAP, CAM, CAQ and CNC digitally programmed machine tools, for precise parts, missiles and ammunitions production (controlled by production management system) ","CIM certified misssiles and ammunition as well as sensor systems production",null,"yes","yes","Various for missiles and ammunitions production, service/maintainance and logistics","Production lines IRIS-T, Spike/MELLS, RAM, RBS-15 Mk3 etc.","Highly automated handling tools, workload assisting systems  ","no","yes","Various for missiles and ammunitions production, service/maintainance and logistics","Production lines IRIS-T, Spike/MELLS, RAM, RBS-15 Mk3 etc.","Highly automated inspection systems, workload assisting systems  ","no","yes","Various for missiles and ammunitions production, service/maintainance and logistics","Production lines IRIS-T, Spike/MELLS, RAM, RBS-15 Mk3 etc.","Highly automated machining systems, workload assisting systems  ","no","yes","Manufacturing of electrooptical and electronical parts/boards incld. layout and design and assembling, ALM for rapid prototyping, tooling and customized components","Various missile and ammuntion as well as sensor systems production lines ","CIM tools and processes optimization, ALM components for complex structures within missile, launcher and sensor systems","yes","yes","Various for missiles and ammunitions as well as sensor systems production, service/maintainance","Various missile and ammuntion as well as sensor systems production lines and maintainance/service","Highly automated measurement systems, workload assisting systems  ","no","yes","Various for missiles and ammunitions as well as sensor systems production, incl. above mentioned CIM Tools and processes","Various missile and ammuntion as well as sensor systems production lines","Highly automated production systems, workload assisting Systems","no","yes","Metals, alloys hardening, optical coatings, cleaning","Various for missiles and ammunitions as well as sensors production, service/maintainance",null,"no","yes",null,null,null,"no","no",null,null,null,"no","no",0,1,1,null,null,null,"no","no","Missiles and ammunitions as well as sensors test equipment: lab and field test equipment, HIL/CIL facility ","Various for missiles and ammunitions as well as sensor systems production, service/maintainance",null,"yes","yes","Field test Equipment, on-site support","Various weapon systems",null,"yes","yes",1,1,"Engineering support, systems engineering, MBSE ","Various missile and ammuntion as well as sensor systems R&T and development programs","MBSE",1,1,"Computer based training for the companies product spectrum, weapon systems simulators and trainer","AACMI, IFEWS (helicopter EW trainer), IRIS-T, IRIS-T SL, Spike, RBS-15 Mk3 etc.","AI assisted simulation and training, \"train as you fight\" approach","yes","yes",0,null,null,"no","no"]
["E.I.S. Electronics GmbH",0,0,0,0,null,null,null,"no","no",null,null,null,"no","no",null,null,null,"no","no",null,null,null,"no","no",0,0,0,1,1,0,0,0,0,0,0,0,0,0,null,null,null,"no","no",null,null,null,"no","no",null,null,null,"no","no","E.I.S. Electronics  = Electrical Wiring Interconnection Systems  - Design/Routing - Prototyping - Serial Manufacturing - Testing - Installation/Integration - Repair","Supply to - all Airbus programs incl. A400M - CH53 (upgrade) - Ariane Launcher - Satellite programs (e.g. Galileo) - UAV-Systems (flight+ground). E.I.S. Capabilities can be used in all systems mentioned below","Integration into structures - Miniaturization - Shielding","yes","yes","Large stock of Aerospace & Defence grade connectors",null,null,"yes","yes",null,null,null,"no",null,null,null,null,"no","no",null,null,null,"no","no",null,null,null,"no","no",null,null,null,"no","no",null,null,null,"no","no",null,null,null,"no","no",null,null,null,"no","no",null,null,null,0,0,0,1,0,0,0,1,null,null,null,"no","no","EWIS","all kind of monuments","see \"Electrical components\"","yes","yes",null,null,null,"no","no",null,null,null,"no","no",null,null,null,"no","no","EWIS","Harnesses for - Tanks - Ground control stations - Missiles","see \"Electrical components\"","yes","yes",0,0,0,0,0,0,0,null,null,null,"no","no",null,null,null,"no","no",null,null,null,"no","no",null,null,null,"no","no",null,null,null,"no","no",null,null,null,"no","no",null,null,null,0,0,0,0,0,0,0,0,null,null,null,"no","no",null,null,null,"no","no",null,null,null,"no","no",null,null,null,"no","no",null,null,null,"no","no",null,null,null,"no","no",0,0,0,0,1,0,0,0,0,0,null,null,null,"no","no",null,null,null,"no","no",null,null,null,"no","no",null,null,null,"no","no","EWIS Integration & Installation on customer sites through - Lease Manpower (ANÜ) - Workpackages","Prototyping services for various German customers",null,"yes","yes",null,null,null,"no","no",null,null,null,"no","no",null,null,null,"no","no",null,null,null,"no","no",null,null,null,"no","no",0,0,0,null,null,null,"no","no",null,null,null,"no","no",null,null,null,"no","no",0,0,null,null,null,0,0,null,null,null,"no","no",0,null,null,"no","no"]
["Eaton Germany GmbH",0,0,0,0,null,null,null,"no","no",null,null,null,"no","no",null,null,null,"no","no",null,null,null,"no","no",0,0,0,0,0,0,0,1,1,0,0,0,0,0,null,null,null,"no","no",null,null,null,"no","no",null,null,null,"no","no",null,null,null,"no","no",null,null,null,"no","no",null,null,null,"no",null,null,null,null,"no","no","Hose Assemblies, Fuel ducts, swivels, ECS ducts","Eurofighter, Tornado, A400M, commercial programs","Double wall fuel ducts","yes","yes","Rynglok fitting system, Quick disconnect couplings","Eurofighter, Tornado, A400M","new hydraulic fitting system ","yes","yes",null,null,null,"no","no",null,null,null,"no","no",null,null,null,"no","no",null,null,null,"no","no",null,null,null,0,0,0,0,0,0,0,0,null,null,null,"no","no",null,null,null,"no","no",null,null,null,"no","no",null,null,null,"no","no",null,null,null,"no","no",null,null,null,"no","no",0,0,0,0,0,0,0,null,null,null,"no","no",null,null,null,"no","no",null,null,null,"no","no",null,null,null,"no","no",null,null,null,"no","no",null,null,null,"no","no",null,null,null,0,0,0,0,0,0,1,0,null,null,null,"no","no",null,null,null,"no","no",null,null,null,"no","no",null,null,null,"no","no","Fuel Ducts, Couplings, hose assemblies, ","Eurofighter, A400M, Tornado","double wall fuel ducts","yes","yes",null,null,null,"no","no",0,0,0,0,0,0,1,0,0,0,null,null,null,"no","no",null,null,null,"no","no",null,null,null,"no","no",null,null,null,"no","no",null,null,null,"no","no",null,null,null,"no","no","Welding (all materials),\nAssembly &Test ( Water, Skydrol, Red Oil)",null,null,"yes","yes",null,null,null,"no","no",null,null,null,"no","no",null,null,null,"no","no",0,0,0,null,null,null,"no","no",null,null,null,"no","no",null,null,null,"no","no",0,0,null,null,null,0,0,null,null,null,"no","no",0,null,null,"no","no"]
["Elbe Flugzeugwerke GmbH",1,1,0,0,"- Painting of aircraft parts\n- Selected galvanic procedures after Airbus production instructions\n- Surface Treatment\n- Hard chromium plating\n- Europlex F7 plates coating",null,null,"no","yes","Manufacture of fiber-reinforced components and kit parts for Airbus conversion","Approval as a Part 21G Production Organization (EASA).",null,"no","yes",null,null,null,"no","no",null,null,null,"no","no",0,0,0,1,0,0,0,1,0,0,0,0,1,0,null,null,null,"no","no",null,null,null,"no","no",null,null,null,"no","no","EFWs portfolio includes cockpit and avionic modifications, in combination with strong electrical backshop capabilities to perform modifications in and around the cockpit and avionics compartment.","Approval as a Part 21J Design Organization, Part 21G Production Organization and Part 145 Maintenance Organization (EASA).",null,"no","no",null,null,null,"no","no",null,null,null,"no",null,null,null,null,"no","no","EFWs portfolio includes design, repair and overhaul of hole passenger cabin parts (e.g. linings, floor panels, seats, cabin interior, monuments, air condition tubes, water/waste pipes & components, hydraulic pipes).","Approval as a Part 21J Design Organization, Part 21G Production Organization and Part 145 Maintenance Organization (EASA).",null,"no","no",null,null,null,"no","no",null,null,null,"no","no",null,null,null,"no","no",null,null,null,"no","no","EFWs portfolio includes design, manufacturing and assembling of heavy structure parts:\n- Machine cutting work\n- Machining of extrusions\n- Hard metal forming and shear cutting\n- Heat & surface treatment\n- Brushes and polishing of profiles / metallic parts\n- Manufacturing, assembling and installation of structural components\n- Structural door modification & door rigging","Approval as a Part 21J Design Organization, Part 21G Production Organization and Part 145 Maintenance Organization (EASA).",null,"no","yes",null,null,null,0,0,1,1,0,0,0,0,"- Line and Base Maintenance of airbus types and series (A300, A310, A300-600, A319, A320, A321, A330, A340, A380\n- Passenger-to-Freighter Conversion A300/A310, A330, A320/A321\n- Assembling of heavy structure parts (e.g. Frame Shells, floor grid)","Approval as a Part 21G Production Organization and Part 145 Maintenance Organization (EASA).\n- MRT/MRTT structural modification of Main Deck incl. Main Deck Cargo Door\n- MRT/MRTT system integration & cabin modification\n- MRT/MRTT integration of Air-to-Air Fuelling System\n- A300, A310-200/-300, A300-600, A320/A321, A330-200/-300 Pax-to-Freighter-Conversion",null,"no","yes","Manufacture of fiber-reinforced components\n- PAX & Cargo floor panels\n- Partition walls\n- Bullet-proof cockpit doors\n- Courier Modules\n- Cargo Compartment Linbings\n- Cabin monuments\nEFW uses VAP® (Vacuum Assisted Process) technology for manufacturing of\ncarbon reinforced plastics for A350XWB.","Approval as a Part 21G Production Organization and Part 145 Maintenance Organization (EASA).\nEFW is 1st Tier supplier for Pax and Cargo floor-panels and interiors for the entire\nAirbus family. Whenever you fly with an Airbus, you step on floor panels made in Dresden.",null,"no","yes",null,null,null,"no","no",null,null,null,"no","no",null,null,null,"no","no",null,null,null,"no","no",1,0,0,0,0,0,0,"EFWs portfolio includes cockpit and avionic modifications, in combination with strong electrical backshop capabilities to perform modifications in and around the cockpit and avionics compartment.","Approval as a Part 21G Production Organization and Part 145 Maintenance Organization (EASA).- MRT/MRTT system integration & cabin modification\n- MRT/MRTT integration of Air-to-Air Fuelling System",null,"yes","yes",null,null,null,"no","no",null,null,null,"no","no",null,null,null,"no","no",null,null,null,"no","no",null,null,null,"no","no",null,null,null,0,0,0,1,0,0,0,0,null,null,null,"no","no","Repair of electrical and electronical components and systems during aircraft maintenance overhaul based on Component & Aircraft Maintenance Manual (CMM & AMM)","Approval as a Part 145 Maintenance Organization (EASA).",null,"no","yes",null,null,null,"no","no",null,null,null,"no","no",null,null,null,"no","no",null,null,null,"no","no",1,0,0,0,0,0,0,0,0,0,"'Computer Integrated Manufacturing used e.g. for:\n- carbon and glass fiber-reinforced components\n- parts manufacturing on machining / sheet metal / metal part / welding workshop","'- Airbus A300/A310 Family\n- Airbus A320 Family\n- Airbus A330/A340 Family\n- Airbus A350 XWB\n- Airbus A380\n- Bombardier Transportation (Floor Panels Tram)\n- Siemens (Floor Panels Tram)\n- Neptun Yard (Passenger & Crew Cabins)",null,"no","yes",null,null,null,"no","no",null,null,null,"no","no",null,null,null,"no","no",null,null,null,"no","no",null,null,null,"no","no",null,null,null,"no","no",null,null,null,"no","no",null,null,null,"no","no",null,null,null,"no","no",0,1,1,null,null,null,"no","no","For EFWs maintenance activities and pax-to-freighter-conversion tools and test equipment will be designed, manufactured, tested, modified and calibrated.","Development, manufacturing and installation of A330 and A320/A321 P2F special tools.",null,"no","yes","Nondestructive testing (NDT)\na) within D1 Rating: Ultrasonic, Penetrant and Eddy current inspection,\nb) within A and C Ratings additionally: Tap test and Thermographic Inspection\nc) within A rating additionally: magnetic particle inspection\n\nTesting of Materials\nCalibration Services","Approval as a Part 21J Design Organization, Part 21G Production Organization and Part 145 Maintenance Organization (EASA).",null,"no","yes",1,0,"Design Services and certification support\n- Product design, system integration and modification design\n- certification of repair solutions and modifications (STCs) of small up to large aircrafts\n- Certification and/or qualification of equipment and installation\n- Continuous Airworthiness\n- Project Management","Approval as a Part 21J Design Organization (EASA).\nDesign & Built for Pax and Cargo floor-panels and interiors for the entire Airbus family.\nSTCs for: \n- A330-200 and A330-300 Pax-to-freighter conversion\n- A330 and A300-600 Courier Stowage\n- A330 Lavatory A\n- A300-600 Cargo Loading System\n- A330 Powered Cargo Loading System\n- A310-304 Cabin Reconfiguration\n- A310-304 Floor Path Marking\n- A319 Structural Modification for Antenna and Window Plug Installation\n- Design Organization for A319 Replacement of Window Plugs by Mission Windows",null,0,1,null,null,null,"no","no",0,null,null,"no","no"]
["Elektro-Metall Export GmbH",0,0,0,0,null,null,null,"no","no",null,null,null,"no","no",null,null,null,"no","no",null,null,null,"no","no",1,1,0,1,0,0,0,0,0,0,0,1,0,0,"Cockpit avionic boxes and elements; switch boxes, control panels","NH90, H135, H145, A320, A321, Others",null,"yes","no","Linear electro-mechanical actuators; Rotary electro-mechanical actuators; Design, develop, qualify, manufacture, innovate and full service","Diverse special applications; Access doors, Inlet/Outlet doors, Rear ramp system NH90, diverse Flap & Trim applications (roll, pitch, yaw); Brake parachute actuation; engine throttle actuator; Eurofighter, Tornado MRCA, Tiger Combat Helicopter, NH90, UAV","Smart actuation, light weight, harsh environment, high reliability, low noise, 3d print, new materials, seat actuation","yes","yes",null,null,null,"no","no","Control boxes, circuit boards, wire assemblies, cables, Stick shake, Diverse multi axis joysticks (cargo loading)","Cabin interior, full structural harnesses, special application harness (Eurofighter), Cargo loading Long Range Aircraft","Hybrid cables assemblies (data & power), robustness, highly flexible cable assemblies with extreme integritiy properties","yes","no",null,null,null,"no","no",null,null,null,"no",null,null,null,null,"no","no",null,null,null,"no","no",null,null,null,"no","no",null,null,null,"no","no",null,null,null,"no","no","Hydraulic Pressure Switches, Temperature switches, pedal sensing units (Eurofighter)","Manifold pressure systems, water & waste systems, hydraulic system appications, turbine applications",null,"yes","no",null,null,null,"no","no",null,null,null,0,0,0,1,0,0,0,0,null,null,null,"no","no","Harness, cables, seat-to-seat cables","Hatrack, Ceiling, Sidewall, Doorframe, Entrance Areas, Seats","Hybrid cables (Data & Power);","yes","no",null,null,null,"no","no",null,null,null,"no","no",null,null,null,"no","no",null,null,null,"no","no",0,0,0,0,0,0,0,null,null,null,"no","no",null,null,null,"no","no",null,null,null,"no","no",null,null,null,"no","no",null,null,null,"no","no",null,null,null,"no","no",null,null,null,0,0,0,0,1,0,0,0,null,null,null,"no","no",null,null,null,"no","no","Hydraulic Pressure Switches","Rolls-Royce Trent 700/7000",null,"yes","no",null,null,null,"no","no",null,null,null,"no","no",null,null,null,"no","no",0,0,0,0,0,0,0,0,0,0,null,null,null,"no","no",null,null,null,"no","no",null,null,null,"no","no",null,null,null,"no","no",null,null,null,"no","no",null,null,null,"no","no",null,null,null,"no","no",null,null,null,"no","no",null,null,null,"no","no",null,null,null,"no","no",0,0,0,null,null,null,"no","no",null,null,null,"no","no",null,null,null,"no","no",0,0,null,null,null,0,0,null,null,null,"no","no",0,null,null,"no","no"]
["EOS GmbH",0,0,0,0,null,null,null,"no","no",null,null,null,"no","no",null,null,null,"no","no",null,null,null,"no","no",0,0,0,0,0,0,0,0,0,0,0,0,0,0,null,null,null,"no","no",null,null,null,"no","no",null,null,null,"no","no",null,null,null,"no","no",null,null,null,"no","no",null,null,null,"no",null,null,null,null,"no","no",null,null,null,"no","no",null,null,null,"no","no",null,null,null,"no","no",null,null,null,"no","no",null,null,null,"no","no",null,null,null,"no","no",null,null,null,0,0,0,0,0,0,0,0,null,null,null,"no","no",null,null,null,"no","no",null,null,null,"no","no",null,null,null,"no","no",null,null,null,"no","no",null,null,null,"no","no",0,0,0,0,0,0,0,null,null,null,"no","no",null,null,null,"no","no",null,null,null,"no","no",null,null,null,"no","no",null,null,null,"no","no",null,null,null,"no","no",null,null,null,0,0,0,0,0,0,0,0,null,null,null,"no","no",null,null,null,"no","no",null,null,null,"no","no",null,null,null,"no","no",null,null,null,"no","no",null,null,null,"no","no",0,0,0,0,0,0,1,0,0,0,null,null,null,"no","no",null,null,null,"no","no",null,null,null,"no","no",null,null,null,"no","no",null,null,null,"no","no",null,null,null,"no","no","We make 3 D Printers for metal and polymer materials","Our customers are MTU, Airbus and supply chain",null,"no","no",null,null,null,"no","no",null,null,null,"no","no",null,null,null,"no","no",0,0,0,null,null,null,"no","no",null,null,null,"no","no",null,null,null,"no","no",0,0,null,null,null,0,0,null,null,null,"no","no",0,null,null,"no","no"]
["ESG Elektroniksystem- und Logistic GmbH",0,0,0,0,null,null,null,"no","no",null,null,null,"no","no",null,null,null,"no","no",null,null,null,"no","no",0,0,0,0,0,0,0,0,0,0,0,0,0,0,null,null,null,"no","no",null,null,null,"no","no",null,null,null,"no","no",null,null,null,"no","no",null,null,null,"no","no",null,null,null,"no",null,null,null,null,"no","no",null,null,null,"no","no",null,null,null,"no","no",null,null,null,"no","no",null,null,null,"no","no",null,null,null,"no","no",null,null,null,"no","no",null,null,null,0,0,0,0,0,0,0,0,null,null,null,"no","no",null,null,null,"no","no",null,null,null,"no","no",null,null,null,"no","no",null,null,null,"no","no",null,null,null,"no","no",1,0,0,0,0,0,0,"Integrated Modular Avionics HW & SW covering all functionalities","TIGER Mission Data Recorder\nMajor contribution to STANAG 4626 \nF&T IMA-Demonstrators  \n","see national FCAS concept study","yes","yes",null,null,null,"no","no",null,null,null,"no","no",null,null,null,"no","no",null,null,null,"no","no",null,null,null,"no","no",null,null,null,0,0,0,0,0,0,0,0,null,null,null,"no","no",null,null,null,"no","no",null,null,null,"no","no",null,null,null,"no","no",null,null,null,"no","no",null,null,null,"no","no",0,0,0,0,0,0,0,0,0,0,null,null,null,"no","no",null,null,null,"no","no",null,null,null,"no","no",null,null,null,"no","no",null,null,null,"no","no",null,null,null,"no","no",null,null,null,"no","no",null,null,null,"no","no",null,null,null,"no","no",null,null,null,"no","no",0,1,1,null,null,null,"no","no","Rig Engineering (development and production)\nTest bench development ","Part of SUZ TIGER/NH 90\nMTA CH-53GA Ground Test bench","overarching use\nInternet of Things","yes","yes","Development of Test concepts \nImplementation of test campaigns\nTest automation","A400M Mission Management System Tests\nSupport Ground- & Flighttest for Mission Tactical Worksation (MTA) CH-53","overarching use\nInternet of Things\nKey Technologies usage","yes","yes",1,1,"Technical & logistic studies & concepts \nPrognostic / preventive & predictive Maintenance\nProduct Support / Monitoring\nIn-Service Data Feedback\nLCCM\nIETD\nObsolescence Management\nSASPF data management\nDistribution / Supply management\nEnvironmental Impact Assessment\nNATO Codification System Repository\nCyber and IT Security\nIntegrated Modular Avionics HW & SW as a Gateway for physical interfaces ","ZEBEL – Material Management for the centralized Army warehouse\nBEL – Material Management for the German Air Force warehouses\nMaterial Management for A400M, P-3C\nTransport & Traffic Supply Chain LogZBw\nSupply Chain Analysis for German Armed Forces (Ensure Improved Data Quality)\nTechnical & logistical support for GAF (TORNADO, EF, A400M, Helicopters etc.) \nContribution to ASD Spec S1000D and S2000M\nMember of the International S5000F development Team\nN-CORE NG\n","ZEBEL – Material Management for the centralized Army warehouse\nBEL – Material Management for the German Air Force warehouses\nMaterial Management for A400M, P-3C\nTransport & Traffic Supply Chain LogZBw\nSupply Chain Analysis for German Armed Forces (Ensure Improved Data Quality)\nTechnical & logistical support for GAF (TORNADO, EF, A400M, Helicopters etc.) \nContribution to ASD Spec S1000D and S2000M\nMember of the International S5000F development Team\nN-CORE NG\n",1,1,"Development & set-up of trainings -simulators and -scenarios\nInnovative / Blended learning including Live Virtual Constructive  \nModelling of virtual mission environment\nOpen and modular simulator architectures\n","Enhanced Virtual Avionic System / Prototyping & Familiarization Device for TORNADO\nA310 – MRTT Procedure Trainer\nSea Lynx Cockpit Procedure Trainer\nCH-53GA – Maintenance Trainer & Scenario Trainer \nPilot Screening System\nMultiple Aircraft Tactical Trainer – MATT -Reconfigurable Tactics training System\nTIGER Maintenance Trainer\nTraining Simulator Joint Fire Support Team\nMission Tactical Workstation – Scenario Trainer\nCH-53GA Full Flight Simulator \n","see national FCAS Master Plan\nGetting the right mix of live virtual constructive training and simulation\n\n","yes","yes",1,"Networked Sensor and Effector Systems \nMission Systems\nETAP TDP\nFCAS Master Plan\n\"Open Sky\" Mission System \nTactical Information Mission Management System\nCentral Mission Planning Taurus\nMission Tactical Workstation\nEnMC SW Tornado \nA400m BITE Mission Management System","See national FCAS/NGWS Konzept Study, FCAS Masterplan and “Technologieschwerpunkte - Nationale Schlüsseltechnologien”","yes","yes"]
["ETW - European Transonic Windtunnel GmbH",0,0,0,0,null,null,null,"no","no",null,null,null,"no","no",null,null,null,"no","no",null,null,null,"no","no",0,0,0,0,0,0,0,0,0,0,0,0,0,0,null,null,null,"no","no",null,null,null,"no","no",null,null,null,"no","no",null,null,null,"no","no",null,null,null,"no","no",null,null,null,"no",null,null,null,null,"no","no",null,null,null,"no","no",null,null,null,"no","no",null,null,null,"no","no",null,null,null,"no","no",null,null,null,"no","no",null,null,null,"no","no",null,null,null,0,0,0,0,0,0,0,0,null,null,null,"no","no",null,null,null,"no","no",null,null,null,"no","no",null,null,null,"no","no",null,null,null,"no","no",null,null,null,"no","no",0,0,0,0,0,0,0,null,null,null,"no","no",null,null,null,"no","no",null,null,null,"no","no",null,null,null,"no","no",null,null,null,"no","no",null,null,null,"no","no",null,null,null,0,0,0,0,0,0,0,0,null,null,null,"no","no",null,null,null,"no","no",null,null,null,"no","no",null,null,null,"no","no",null,null,null,"no","no",null,null,null,"no","no",0,0,0,0,0,0,0,0,0,0,null,null,null,"no","no",null,null,null,"no","no",null,null,null,"no","no",null,null,null,"no","no",null,null,null,"no","no",null,null,null,"no","no",null,null,null,"no","no",null,null,null,"no","no",null,null,null,"no","no",null,null,null,"no","no",0,0,1,null,null,null,"no","no",null,null,null,"no","no","High-Reynolds Wind Tunnel Testing at Flight-Relevant High-Lift & High Speed Conditions (unique in Europe)","Dassault, Airbus, Boeing, Bombardier, Embraer, Gulfstream, etc.\nAlpha Jet, Aermacchi, and other confidential project\n","Highly productive high-resolution steady and unsteady testing up to the borders of the flight envelope, applying standard WTT techniques, deformation measurement, pressure- & temperature sensitive paints (PSP/TSP), particle-image velocimetry (PIV), etc","yes","yes",0,0,null,null,null,0,0,null,null,null,"no","no",0,null,null,"no","no"]
["FERCHAU GmbH",null,null,null,null,null,null,null,null,null,null,null,null,null,null,null,null,null,null,null,null,null,null,null,null,null,null,null,null,null,null,null,null,null,null,null,null,null,null,null,null,null,null,null,null,null,null,null,null,null,null,null,null,null,null,null,null,null,null,null,null,null,null,null,null,null,null,null,null,null,null,null,null,null,null,null,null,null,null,null,null,null,null,null,null,null,null,null,null,null,null,null,null,null,null,null,null,null,null,null,null,null,null,null,null,null,null,null,null,1,1,1,null,null,null,"Design, Justification, Optimization of primary and secondary structural components (fuselage, wing, highlift, MSI, ESI, FTI)","all Airbus civil programs, C295, A400M","weight optimization, automated design ","yes","yes","System Engineering, End-to-End Design, Qualification, Certification, Vendor Management, Testing","cabin systems, water/waste/aux heating, galleys, monuments, lavatories, seats, IFE, connectivity, bins, doghouses, lining, panels, curtains, floors, ",null,"yes","yes","System Engineering, Design, Certfication Support of Seats","all Airbus programs",null,"yes","yes",null,null,null,null,null,null,null,null,null,null,null,null,null,null,null,1,null,null,null,null,null,1,"Development of Connectivity Components for Aircraft Cabin, Development and Manufacture of ATE Test Equipment for Avionoc Equipment","CWLU, NWLU",null,"yes","yes",null,null,null,null,null,null,null,null,null,null,null,null,null,null,null,null,null,null,null,null,null,null,null,null,null,"Rehosting and Simulation of DASS for training purposes","MST (Maintenance Simulation Trainer) for Eurofighter",null,"yes","yes",null,null,null,null,1,null,null,null,null,null,null,null,null,null,null,null,null,null,null,null,null,null,null,null,null,null,"System architecture, design & development, system safety of fuel and fluid systems",null,null,"yes","yes",null,null,null,null,null,null,null,null,null,null,null,null,null,null,null,null,null,null,null,null,null,null,null,null,null,null,null,null,null,null,null,null,null,null,null,null,null,null,null,null,null,null,null,null,null,null,null,null,null,null,null,null,null,null,null,null,null,null,null,null,null,null,null,null,null,null,1,1,null,null,null,null,null,"Design, Manufacturing, Maintenance of Automated Test Systems, Test Rigs or Test Benches","ATEs for all major Airbus programs",null,"yes","yes","Definition and processing of test procedures for avionics","NH90, Tiger helicopters",null,"yes","yes",1,1,"System Engineering, Model  Based System Engineering, Mechanical Design and Analysis, Electronic and Embedded Development, SW Development and Test, Process Engineering","All Airbus programs","Design Automation, Process Automation, End-to-End Design","yes","yes","Mock-Ups, Procedure and Equipment Trainers, Full Flight Simulator, Part Task Trainer, Virtual Maintenance Trainer, Development Simulator","Cabin Emergency Evacuation Trainer, EF MST, TMT, PC-21 Simulator","Part and full virtualization of training devices","yes","yes"]
["GKN Aerospace Deutschland GmbH",1,1,0,0,"Surface protection, base painting and final painting of flying structural parts","Customer requirements from Airbus, Bombardier, MBDA, Triumph and Airbus Defense & Space","n/a","no","no","CFRP and GFRP large scale structural parts, ultralight Space components","Customer requirements from Airbus, Bombardier, MBDA, Triumph and Airbus Defense & Space, NADCAP, EASA Part 21 and 145, EN9100","Different Composite Technologies in use (prepreg, RTM and fiber winding and assembly), 3D Additive Manufacturing for Composite in preparation","yes","no",null,null,null,"no","no",null,null,null,"no","no",0,0,0,0,0,0,0,0,0,1,0,0,1,0,null,null,null,"no","no",null,null,null,"no","no",null,null,null,"no","no",null,null,null,"no","no",null,null,null,"no","no",null,null,null,"no",null,null,null,null,"no","no",null,null,null,"no","no",null,null,null,"no","no","see Composite description","see Composite description","see Composite description","no","no",null,null,null,"no","no",null,null,null,"no","no","see Composite description","see Composite description","see Composite description","yes","no",null,null,null,0,0,0,0,0,0,0,0,null,null,null,"no","no",null,null,null,"no","no",null,null,null,"no","no",null,null,null,"no","no",null,null,null,"no","no",null,null,null,"no","no",0,0,0,0,0,0,0,null,null,null,"no","no",null,null,null,"no","no",null,null,null,"no","no",null,null,null,"no","no",null,null,null,"no","no",null,null,null,"no","no",null,null,null,0,0,0,0,0,0,0,0,null,null,null,"no","no",null,null,null,"no","no",null,null,null,"no","no",null,null,null,"no","no",null,null,null,"no","no",null,null,null,"no","no",0,0,1,1,1,1,1,1,1,0,null,null,null,"no","no",null,null,null,"no","no","high Technology US robots and conventional equipment","detailed Information (tech. specification) on request, NADCAP NDT (X-Ray and Ultra Sonic)","n/a","yes","yes","5-axis machining fo large structure parts (12 x 3 m)","detailed Information (tech. specification) on request","high precision additional machines planned","yes","yes","complete facility and machine service for our manufacturing site","detailed Information (tech. specification) on request","n/a","yes","yes","different measurement Equipment (different CMM, laser tracking)","detailed Information (tech. specification) on request","n/a","yes","yes","all Equipment for Composite manufacturing and assembly available (ATLs, Autoclaves, etc.)","detailed Information (tech. specification) on request","AFP (Automated Fibre Placement) in preparation","yes","yes","Complete Paint Shop available","detailed Information (tech. specification) on request","n/a","yes","yes","Tooling Design and Tooling manufacturing/maintenance available (metal and Composite tooling for the Composite manufacturing)","detailed Information (tech. specification) on request","n/a","yes","yes",null,null,null,"no","no",0,0,0,null,null,null,"no","no",null,null,null,"no","no",null,null,null,"no","no",1,0,"Design, Stress and Configuration Management specialists available","detailed Information (tech. specification) on request","n/a",0,1,null,null,null,"no","no",0,null,null,"no","no"]
["Goodrich Lighting Systems GmbH",0,0,0,0,null,null,null,"no","no",null,null,null,"no","no",null,null,null,"no","no",null,null,null,"no","no",0,0,0,0,0,0,1,0,0,0,0,0,0,0,null,null,null,"no","no",null,null,null,"no","no",null,null,null,"no","no",null,null,null,"no","no",null,null,null,"no","no",null,null,null,"no",null,"We design qualify and build all airborne exterior and interior lighting and associated electronics for all sort of air vehicles from fighter, trainer to transport","reference programs: EF2000, Tornado, AlphaJet, FA-50, F-22, F-16, Mig-29, SU-30, V-22, EC-135, A400m, C-295, C-5, C-17, C-130, C-27 ","latest completed development: LED multimode Landing Searchlight EC-135. Latest active development: Multi Function Runway Light A320 Potential Development FCAS:  Self Orienting Matrix Light","yes","yes",null,null,null,"no","no",null,null,null,"no","no",null,null,null,"no","no",null,null,null,"no","no",null,null,null,"no","no",null,null,null,"no","no",null,null,null,0,0,0,0,0,0,0,0,null,null,null,"no","no",null,null,null,"no","no",null,null,null,"no","no",null,null,null,"no","no",null,null,null,"no","no",null,null,null,"no","no",0,0,0,0,0,0,0,null,null,null,"no","no",null,null,null,"no","no",null,null,null,"no","no",null,null,null,"no","no",null,null,null,"no","no",null,null,null,"no","no",null,null,null,0,0,0,0,0,0,0,0,null,null,null,"no","no",null,null,null,"no","no",null,null,null,"no","no",null,null,null,"no","no",null,null,null,"no","no",null,null,null,"no","no",0,0,0,0,0,0,0,0,0,0,null,null,null,"no","no",null,null,null,"no","no",null,null,null,"no","no",null,null,null,"no","no",null,null,null,"no","no",null,null,null,"no","no",null,null,null,"no","no",null,null,null,"no","no",null,null,null,"no","no",null,null,null,"no","no",0,0,0,null,null,null,"no","no",null,null,null,"no","no",null,null,null,"no","no",0,0,null,null,null,0,0,null,null,null,"no","no",1,"Flight control Sticks and Emergency Switches we do Switches for the Hawk and Eurofighter program as well as Boeing engine fire shut off Switches.\nEmergency Jettison Switch\nEm. Landing Gear Switches\nBrake Parachute Switches",null,"yes","no"]
["Günter Apelt GmbH",0,0,0,0,null,null,null,"no","no",null,null,null,"no","no",null,null,null,"no","no",null,null,null,"no","no",0,0,0,0,0,0,0,1,0,0,0,0,0,0,null,null,null,"no","no",null,null,null,"no","no",null,null,null,"no","no",null,null,null,"no","no",null,null,null,"no","no",null,null,null,"no",null,null,null,null,"no","no","turned and milled parts including heat- and surface treatment","application: acuating systems, landing  gears","speciality: 5-axis simultaneous milling of prototypes and single parts via CAD/CAM","yes","yes",null,null,null,"no","no",null,null,null,"no","no",null,null,null,"no","no",null,null,null,"no","no",null,null,null,"no","no",null,null,null,0,0,0,0,0,0,0,0,null,null,null,"no","no",null,null,null,"no","no",null,null,null,"no","no",null,null,null,"no","no",null,null,null,"no","no",null,null,null,"no","no",0,0,0,0,0,0,0,null,null,null,"no","no",null,null,null,"no","no",null,null,null,"no","no",null,null,null,"no","no",null,null,null,"no","no",null,null,null,"no","no",null,null,null,0,0,0,0,0,0,0,0,null,null,null,"no","no",null,null,null,"no","no",null,null,null,"no","no",null,null,null,"no","no",null,null,null,"no","no",null,null,null,"no","no",1,0,0,0,0,0,0,0,0,0,"system: edge-CAM",null,null,"no","no",null,null,null,"no","no",null,null,null,"no","no",null,null,null,"no","no",null,null,null,"no","no",null,null,null,"no","no",null,null,null,"no","no",null,null,null,"no","no",null,null,null,"no","no",null,null,null,"no","no",0,0,0,null,null,null,"no","no",null,null,null,"no","no",null,null,null,"no","no",0,0,null,null,null,0,0,null,null,null,"no","no",0,null,null,"no","no"]
["HEGGEMANN AG",0,0,0,0,null,null,null,"no","no",null,null,null,"no","no",null,null,null,"no","no",null,null,null,"no","no",0,0,0,0,0,0,0,1,1,0,0,0,1,0,null,null,null,"no","no",null,null,null,"no","no",null,null,null,"no","no",null,null,null,"no","no",null,null,null,"no","no",null,null,null,"no",null,null,null,null,"no","no","Welding components, NADCAP qualification, thin-walled jet engine parts to complex structure parts, from steel to titanium, machining, sheet metal production.","Airbus, Rolls-Royce, GE, MTU","Hot forming of titanium ","no","no","Welding components, NADCAP qualification, thin-walled jet engine parts to complex structure parts, from steel to titanium, machining, sheet metal production.","Airbus, Rolls-Royce, GE, MTU, Eaton",null,"no","no",null,null,null,"no","no",null,null,null,"no","no",null,null,null,"no","no","Welding components, NADCAP qualification, thin-walled jet engine parts to complex structure parts, from steel to titanium, machining, sheet metal production.","Airbus, Rolls-Royce, GE, MTU",null,"no","no",null,null,null,0,0,0,1,0,0,1,0,null,null,null,"no","no","Metal structures for Economy and Business Class Seating.\nincl. Development","Recaro","Hot-Forming","no","no",null,null,null,"no","no",null,null,null,"no","no","high degree of trust in capabilities of HEGGEMANN by aircraft manufacturers, 300 landing gear systems per year. Any step of product life cycle: design, prototyping, testing or serial production\n","Diamond, RUAG, Pilatus, Grob, 328, PT-Indonesia, Zeppelin","Special Technologies for Air-Taxi landing Gears","yes","yes",null,null,null,"no","no",0,0,0,0,0,0,0,null,null,null,"no","no",null,null,null,"no","no",null,null,null,"no","no",null,null,null,"no","no",null,null,null,"no","no",null,null,null,"no","no",null,null,null,0,0,0,0,1,0,1,0,null,null,null,"no","no",null,null,null,"no","no","Welding components, NADCAP qualification, thin-walled jet engine parts to complex structure parts, from steel to titanium, machining, sheet metal production.","Rolls-Royce, GE, MTU, Siemens","Hot Forming of Titanium, WAAM","yes","yes",null,null,null,"no","no","Welding components, NADCAP qualification, thin-walled jet engine parts to complex structure parts, from steel to titanium, machining, sheet metal production.","div. customers",null,"yes","no",null,null,null,"no","no",0,0,0,1,0,1,0,0,0,0,null,null,null,"no","no",null,null,null,"no","no",null,null,null,"no","no","Mechanical Processing,\nHEGGEMANN’s machinig capabilities\n• Milling (simultaneous 5 axis milling)\n• Turning (with powered tools)\n• Complete CAM integration\n",null,null,"no","no",null,null,null,"no","no","Non-destructive testings methods:\n•Visual test (VT) \n•Crack detection: magnetic particle inspection (MT) and fluorescent penetrant inspection (PT)\nDestructive testing methods:\n•Metallographical tests \n•Hardness test \n•Tensile test\n",null,null,"no","no",null,null,null,"no","no",null,null,null,"no","no",null,null,null,"no","no",null,null,null,"no","no",0,0,1,null,null,null,"no","no",null,null,null,"no","no","Drop-Test Facility, for landing gear Systems e.g.",null,null,"yes","yes",1,0,"Manufacturing Engineering Service; Design to Cost; Full Landing Gear System Development to Spec.",null,null,1,1,null,null,null,"no","no",0,null,null,"no","no"]
["HEILIND Electronics GmbH",0,0,0,0,null,null,null,"no","no",null,null,null,"no","no",null,null,null,"no","no",null,null,null,"no","no",0,0,0,0,1,0,0,0,0,0,0,0,0,0,null,null,null,"no","no",null,null,null,"no","no",null,null,null,"no","no",null,null,null,"no","no","Circular and rectangular connectors for signal, power, data\nPushbutton and Toggle Switches, Relais,  circuit breaker","Specifications according to JN, PAN, ASNE, ABS, EN, HE, MIL-QPL","reduced weight, smaller sizes, composite materials, higher data","yes","yes",null,null,null,"no",null,null,null,null,"no","no",null,null,null,"no","no",null,null,null,"no","no",null,null,null,"no","no",null,null,null,"no","no",null,null,null,"no","no",null,null,null,"no","no",null,null,null,0,0,0,0,0,0,0,0,null,null,null,"no","no",null,null,null,"no","no",null,null,null,"no","no",null,null,null,"no","no",null,null,null,"no","no",null,null,null,"no","no",0,0,0,0,0,0,0,null,null,null,"no","no",null,null,null,"no","no",null,null,null,"no","no",null,null,null,"no","no",null,null,null,"no","no",null,null,null,"no","no",null,null,null,0,0,0,0,0,0,0,0,null,null,null,"no","no",null,null,null,"no","no",null,null,null,"no","no",null,null,null,"no","no",null,null,null,"no","no",null,null,null,"no","no",0,0,0,0,0,0,0,0,0,0,null,null,null,"no","no",null,null,null,"no","no",null,null,null,"no","no",null,null,null,"no","no",null,null,null,"no","no",null,null,null,"no","no",null,null,null,"no","no",null,null,null,"no","no",null,null,null,"no","no",null,null,null,"no","no",0,0,0,null,null,null,"no","no",null,null,null,"no","no",null,null,null,"no","no",0,0,null,null,null,0,0,null,null,null,"no","no",0,null,null,"no","no"]
["Heinkel Group",0,1,0,0,null,null,null,"no","no","Justification and sizing of composite structures acc. to accepted methods incl. sandwich structures. Optimization of lay-up and topology.","Multiple customers in the aerospace industry.",null,"yes","no",null,null,null,"no","no",null,null,null,"no","no",0,0,0,0,0,0,0,0,0,0,0,0,1,0,null,null,null,"no","no",null,null,null,"no","no",null,null,null,"no","no",null,null,null,"no","no",null,null,null,"no","no",null,null,null,"no",null,null,null,null,"no","no",null,null,null,"no","no",null,null,null,"no","no",null,null,null,"no","no",null,null,null,"no","no",null,null,null,"no","no","Static & dynamic analysis, Fatigue & damage tolerance, Topology and shape optimization, Design and manufacturing drawing creation, Test support","Customers in multiple fields: Aerospace, Automotive, Ship building, Manufacturing, Renewable Energy",null,"yes","no",null,null,null,0,0,0,1,1,0,0,0,null,null,null,"no","no","Sizing and design, material selection for cabin interiors, pre-design, feasibility studies.","Multiple customers in the aerospace industry.",null,"no","no","Sizing for Cabin Attendant Seat, either wall mounted or floor mounted.","Multiple customers in the aerospace industry.",null,"no","no",null,null,null,"no","no",null,null,null,"no","no",null,null,null,"no","no",0,0,0,0,0,0,0,null,null,null,"no","no",null,null,null,"no","no",null,null,null,"no","no",null,null,null,"no","no",null,null,null,"no","no",null,null,null,"no","no",null,null,null,0,0,0,0,0,0,0,0,null,null,null,"no","no",null,null,null,"no","no",null,null,null,"no","no",null,null,null,"no","no",null,null,null,"no","no",null,null,null,"no","no",0,0,0,0,0,0,0,0,0,0,null,null,null,"no","no",null,null,null,"no","no",null,null,null,"no","no",null,null,null,"no","no",null,null,null,"no","no",null,null,null,"no","no",null,null,null,"no","no",null,null,null,"no","no",null,null,null,"no","no",null,null,null,"no","no",0,0,1,null,null,null,"no","no",null,null,null,"no","no","Static & dynamic cabin monument testing (planning, witnessing, analysis) including seats, Cabin acoustic laboratory & in-flight tests.","Multiple customers in the aerospace industry.",null,"yes","no",1,1,"Acoustics (Simulation&Test), Cabin Stress, Design (incl. Jigs&Tools, CE-Cert.), Structural calculation of aerospace structures and ALM/3D. ","Customers in multiple fields: Aerospace, Automotive, Ship building, Manufacturing, Renewable Energy",null,1,0,"Simulation of aerospace structures. Acoustical analysis with FE, SEA and ray-tracing methods. Training & consulting in additive manufacturing.","Customers in multiple fields: Aerospace, Automotive, Ship building, Manufacturing, Renewable Energy",null,"yes","no",0,null,null,"no","no"]
["Hensoldt Sensors GmbH",0,0,0,0,null,null,null,"no","no",null,null,null,"no","no",null,null,null,"no","no",null,null,null,"no","no",0,0,0,0,0,0,0,0,0,0,0,0,0,0,null,null,null,"no","no",null,null,null,"no","no",null,null,null,"no","no",null,null,null,"no","no",null,null,null,"no","no",null,null,null,"no",null,null,null,null,"no","no",null,null,null,"no","no",null,null,null,"no","no",null,null,null,"no","no",null,null,null,"no","no",null,null,null,"no","no",null,null,null,"no","no",null,null,null,0,0,0,0,0,0,0,0,null,null,null,"no","no",null,null,null,"no","no",null,null,null,"no","no",null,null,null,"no","no",null,null,null,"no","no",null,null,null,"no","no",1,1,1,0,0,0,1,"Hensoldt ITAR Free Certifiable Airborne Computer combines safety and high-performance characteristics within one chassis. It implements complete hardware abstraction through pre-integrated platform software, ready to host selected safety-critical functions and customer furnished application to feature user requirements of an advanced Mission Computer. The CAC meets the requirements according to DO 178 and DO 254 for qualification up to DAL C (DAL D for the high performance block).","Eurofighter Typhoon (GE, UK, Italy and Spain); MRCA Tornado (GE, UK, Italy); Tiger, NH90, CH53 (GE, FR, AUS); A400M (GE, FR, Malaysia)","Certifiable Multicore Processing, Combination of Safety and Security certification requirements, ITAR Free Multicore Chip and RT-OS Development ","yes","yes","Hensoldt can provide different type of mode S/IFF transponder, which can be used without restrictions for both civilian air traffic control and military applications to identify friendly units. The Transponders provide to the Flight Management System (FMS) of the platform all interfaces neccessary for the Mode S data links Comm-A, Comm-B and Comm-C (extended length messages) and for the generation of the extended squitter transmissions.",null,"Optical (Laser) Communication Subsystems","yes","yes","Hensoldt can provide ITAR Free Flight Control Computer (FCC) for Control of the Aircraft (Engine, Steering, Landing Gear), certifiable up to DAL A in a system context, prepared for civil certification (DO254, DO-178C). ITAR Free Flight and Mission Data Recording & Management, SferiRec comprises flight and mission data recording, data transfer and analysis capabilities which are key capabilities for the complete mission lifecycle (planning, flight and debriefing). Protected recording for Flight data and cockpit voice (Crash recorder).","FCC: EuroMALE, various Drones; SferiRec: Tornado combat aircraft; P-3C Orion maritime reconnaissance aircraft; Helicopters NH90, Tiger, UH-1D, CH-53","Reduced size and weight by increased processing power and storage capacity. DAL A certifiable interfaces (e.g. Cross Channel Data Link)","yes","yes",null,null,null,"no","no",null,null,null,"no","no",null,null,null,"no","no","Hensoldt develops and produces Missile-, Radar and Laser Warning Systems like AMPS (Airborne Missile Protection System); Market leader for these systems (outside US domestic market). The Solutions combine sensors, signal processing and counter measures as well as different sensor solutions","Available and in operational use in several configurations on different platform types with several customers (national and worldwide); Representative platforms (>250 AMPS systems, plus more than 500 derivate systems); AH Tiger, MRH NH90, C-130, B-737, A-340, PC-12, MI-8, MI-17, H145M, CH53-GS, EC635, H225, Bell 407, CH47, UH60, P3C, Cougar H/C, Hawker; Beechcraft, Multirole Fighter Aircraft F16","Next generation sensors (against new and emerging threats); Next generation countermeasures (directed countermeasures); Next generation Radar Warning ",1,1,0,0,0,0,0,0,null,null,null,"no","no",null,null,null,"no","no",null,null,null,"no","no",null,null,null,"no","no",null,null,null,"no","no",null,null,null,"no","no",0,0,0,0,0,0,0,0,0,0,null,null,null,"no","no",null,null,null,"no","no",null,null,null,"no","no",null,null,null,"no","no",null,null,null,"no","no",null,null,null,"no","no",null,null,null,"no","no",null,null,null,"no","no",null,null,null,"no","no",null,null,null,"no","no",0,0,0,null,null,null,"no","no",null,null,null,"no","no",null,null,null,"no","no",0,0,null,null,null,0,0,null,null,null,"no","no",1,"Mission Systems / Networked Sensor and Effector Systems Hensoldt can provide as member of the FCMS industrial team networked sensor and effector systems, related the cross plattform networking of integrated RF and EO/IR systems and usage in a multistatic approach.\nReference is for example Eurofighter E-Scan Radar, Multifunctional ISR Radar Preciser, EW Systems, Passive Radar Systems ","See national FCAS/NGWS Konzept Study, FCAS Masterplan and “Technologieschwerpunkte - Nationale Schlüsseltechnologien / Sensorik”","yes","yes"]
["Hexcel Composites GmbH",0,1,0,0,null,null,null,"no","no","Hexcel is a leader in the Space & Defense market, primarily in the manufacture of advanced composites used in commercial helicopters and in military aircraft. We are currently qualified to supply materials to a broad range of more than 100 helicopter, military aircraft and space programs","Our top 10 programs by revenues represent about 56% of our Space & Defense revenues. Key programs include the F-35 (joint strike fighter or JSF), Sikorsky CH53K King Stallion, V-22 (Osprey) tilt rotor aircraft, UH60M Blackhawk, AH-64 Apache, A400M military transport, European Fighter Aircraft (Typhoon), F/A-18E/F (Hornet), Rafale fighter jet, and MH90 Enforcer",null,"yes","no",null,null,null,"no","no",null,null,null,"no","no",0,0,0,0,0,0,0,0,0,0,0,0,0,0,null,null,null,"no","no",null,null,null,"no","no",null,null,null,"no","no",null,null,null,"no","no",null,null,null,"no","no",null,null,null,"no",null,null,null,null,"no","no",null,null,null,"no","no",null,null,null,"no","no",null,null,null,"no","no",null,null,null,"no","no",null,null,null,"no","no",null,null,null,"no","no",null,null,null,0,0,0,0,0,0,0,0,null,null,null,"no","no",null,null,null,"no","no",null,null,null,"no","no",null,null,null,"no","no",null,null,null,"no","no",null,null,null,"no","no",0,0,0,0,0,0,0,null,null,null,"no","no",null,null,null,"no","no",null,null,null,"no","no",null,null,null,"no","no",null,null,null,"no","no",null,null,null,"no","no",null,null,null,0,0,0,0,0,0,0,0,null,null,null,"no","no",null,null,null,"no","no",null,null,null,"no","no",null,null,null,"no","no",null,null,null,"no","no",null,null,null,"no","no",0,0,0,0,0,0,0,0,0,0,null,null,null,"no","no",null,null,null,"no","no",null,null,null,"no","no",null,null,null,"no","no",null,null,null,"no","no",null,null,null,"no","no",null,null,null,"no","no",null,null,null,"no","no",null,null,null,"no","no",null,null,null,"no","no",0,0,0,null,null,null,"no","no",null,null,null,"no","no",null,null,null,"no","no",0,0,null,null,null,0,0,null,null,null,"no","no",0,null,null,"no","no"]
["HYDRO Systems KG",1,1,1,1,{"$cut":{"chars":30050,"head":"Table of Contents\n\n\n\nChange management\t3\n1\t          Objective\t4\n2\t          Scope / Responsibility\t4\n3\t          Terms\t4\n4\t          Description\t6\n4.1\t Selection of a corrosion protection\t7\n4.1.1       Galvanized\t7\n4.1.2\tElectroless Nickel Plating\t7\n4.1.3\tPhosphated\t7\n4.1.4\tNitrided\t8\n4.1.5\tBlack oxided\t8\n4.1.6\tPainted\t8\n4.1.7\tHot-dip galvanized\t8\n4.1.8\tAnodized\t8\n4.1.9\tRilsan®coating (plastic coating):\t9\n4.1.10\tTeflon coating\t9\n4.2\t  Indication of corrosion protection type\t10\n4.2.1\tNitrieren\t10\n4.2.2\tBlack oxiding\t12\n4.2.3\tPhosphating\t12\n4.2.4\tZinc-plating + thick-film passivation\t13\n4.2.5\tChemical nickel-plating\t16\n4.2.6\tPainting\t19\n4.2.7\tComponent or material-related indications on drawings\t20\n4.2.8\tHard anodizing\t21\n4.2.9\tRilsan coating\t22\n4.2.10\tTeflon coating\t23\n4.2.11\tCoating thicknesses that can be expected \t24\n5\t           Applicable documents / records\t24\n\n\n\n\n\n\n\n  \t  Change management\n\nrevision\tchapter\tAdjustment\tdate\tamendet by\n00\t\tInitial puplication\t07.2009\tE. Müller\n19\t\t\t05.2014\tA. Wolk\n\t\t\t\t\n\t\t\t\t\n\t\t\t\t\n\t\t\t\t\n\t\t\t\t\n\t\t\t\t\n\t\t\t\t\n\t\t\t\t\n\n\t1\tObjective\n\tThis guideline is to be used to ensure the uniform, effective and cost-effective selection (process) of a surface protection process. Furthermore, this Hydro standard shall specify alternative procedures in the case of unclear/missing drawing specifications. The guideline also contains background knowledge relevant to the specifications. This can be found in the bb l u e  boxes. This guideline applies to both new designs and the overhaul/upgrading of existing equipment.\n\t2\tScope / Responsibility\n\tResponsible for the implementation and compliance is the head of Engineering.\n\t3\tTerms\n\tChromium-containing coatings and chromium-free coatings\nThe following systems have developed over the past years in the area of the electroplated corrosion protection systems.  Chromium(VI)-free systems include blue chromating (Cr(III) and thin film as well as thick film passivation (chemically on chromium(III) base).\nThe following terminology is used in the area of surface technology:\nChromium(VI)-containing:\n\tZinc layer + hexavalent chromate coating\n\tCommonly referred to as yellow galvanized or yellow-chromated.\nChromium(VI)-free:\n\tZinc coat + conversion layer (or chemical chromium(III) base)\n\tCommonly referred to as blue chromating, blue passivation, thin film passivation or thick film passivation. However, there are marked differences between these labels in regard to corrosion protection. Blue chromating (blue-galvanized) belongs also to the chromium(VI)-free coatings. However, blue chromating provides a significantly poorer corrosion protection compared to thick-film passivation. \nNitrided \nNitrided is a process for surface hardening. This nitrogen is used. The result is a surface layer that is resistant to about 500 ° Celsius. Possible methods: gas nitrided, plasma nitrided etc..\nBlack oxiding\nThe black oxide coating is produced chemically by immersing the workpieces in a heated, strongly alkaline solution. This produces an oxide coating (magnetite - Fe3O4) on iron and steel materials. The black oxide treatment is not considered to be a state-of-the-art corrosion protection!\nPhosphating\nPhosphating is a chemical / electrochemical process, in which thin, microcystalline and water insoluble phosphates are produced on metal surfaces from phosphoric acid solutions in a dipping or spraying process. As they arise from a chemical reaction with the base metal, the light to dark grey coloured metal phosphate layers are firmly anchored in the metal surface and have numerous cavities and capillaries. This property provides the phosphate layers with an optimal absorption capacity for oils, waxes, colouring pigments and paints so that they have proved to be an effective corrosion protection and undercoat for painting and varnishing. Phosphating is not considered to be a state-of-the-art corrosion protection!\nHard anodizing\nModified anodizing process. Compared to anodizing, hard anodizing distinguishes itself by a very high hardness, a better wear resistance, a good sliding behaviour and a good"}},"■DIN EN ISO 3834-2-2006\n■Didsbury\n■ISO 9001:2015\n",null,"no","yes",{"$cut":{"chars":30050,"head":"Table of Contents\n\n\n\nChange management\t3\n1\t          Objective\t4\n2\t          Scope / Responsibility\t4\n3\t          Terms\t4\n4\t          Description\t6\n4.1\t Selection of a corrosion protection\t7\n4.1.1       Galvanized\t7\n4.1.2\tElectroless Nickel Plating\t7\n4.1.3\tPhosphated\t7\n4.1.4\tNitrided\t8\n4.1.5\tBlack oxided\t8\n4.1.6\tPainted\t8\n4.1.7\tHot-dip galvanized\t8\n4.1.8\tAnodized\t8\n4.1.9\tRilsan®coating (plastic coating):\t9\n4.1.10\tTeflon coating\t9\n4.2\t  Indication of corrosion protection type\t10\n4.2.1\tNitrieren\t10\n4.2.2\tBlack oxiding\t12\n4.2.3\tPhosphating\t12\n4.2.4\tZinc-plating + thick-film passivation\t13\n4.2.5\tChemical nickel-plating\t16\n4.2.6\tPainting\t19\n4.2.7\tComponent or material-related indications on drawings\t20\n4.2.8\tHard anodizing\t21\n4.2.9\tRilsan coating\t22\n4.2.10\tTeflon coating\t23\n4.2.11\tCoating thicknesses that can be expected \t24\n5\t           Applicable documents / records\t24\n\n\n\n\n\n\n\n  \t  Change management\n\nrevision\tchapter\tAdjustment\tdate\tamendet by\n00\t\tInitial puplication\t07.2009\tE. Müller\n19\t\t\t05.2014\tA. Wolk\n\t\t\t\t\n\t\t\t\t\n\t\t\t\t\n\t\t\t\t\n\t\t\t\t\n\t\t\t\t\n\t\t\t\t\n\t\t\t\t\n\n\t1\tObjective\n\tThis guideline is to be used to ensure the uniform, effective and cost-effective selection (process) of a surface protection process. Furthermore, this Hydro standard shall specify alternative procedures in the case of unclear/missing drawing specifications. The guideline also contains background knowledge relevant to the specifications. This can be found in the bb l u e  boxes. This guideline applies to both new designs and the overhaul/upgrading of existing equipment.\n\t2\tScope / Responsibility\n\tResponsible for the implementation and compliance is the head of Engineering.\n\t3\tTerms\n\tChromium-containing coatings and chromium-free coatings\nThe following systems have developed over the past years in the area of the electroplated corrosion protection systems.  Chromium(VI)-free systems include blue chromating (Cr(III) and thin film as well as thick film passivation (chemically on chromium(III) base).\nThe following terminology is used in the area of surface technology:\nChromium(VI)-containing:\n\tZinc layer + hexavalent chromate coating\n\tCommonly referred to as yellow galvanized or yellow-chromated.\nChromium(VI)-free:\n\tZinc coat + conversion layer (or chemical chromium(III) base)\n\tCommonly referred to as blue chromating, blue passivation, thin film passivation or thick film passivation. However, there are marked differences between these labels in regard to corrosion protection. Blue chromating (blue-galvanized) belongs also to the chromium(VI)-free coatings. However, blue chromating provides a significantly poorer corrosion protection compared to thick-film passivation. \nNitrided \nNitrided is a process for surface hardening. This nitrogen is used. The result is a surface layer that is resistant to about 500 ° Celsius. Possible methods: gas nitrided, plasma nitrided etc..\nBlack oxiding\nThe black oxide coating is produced chemically by immersing the workpieces in a heated, strongly alkaline solution. This produces an oxide coating (magnetite - Fe3O4) on iron and steel materials. The black oxide treatment is not considered to be a state-of-the-art corrosion protection!\nPhosphating\nPhosphating is a chemical / electrochemical process, in which thin, microcystalline and water insoluble phosphates are produced on metal surfaces from phosphoric acid solutions in a dipping or spraying process. As they arise from a chemical reaction with the base metal, the light to dark grey coloured metal phosphate layers are firmly anchored in the metal surface and have numerous cavities and capillaries. This property provides the phosphate layers with an optimal absorption capacity for oils, waxes, colouring pigments and paints so that they have proved to be an effective corrosion protection and undercoat for painting and varnishing. Phosphating is not considered to be a state-of-the-art corrosion protection!\nHard anodizing\nModified anodizing process. Compared to anodizing, hard anodizing distinguishes itself by a very high hardness, a better wear resistance, a good sliding behaviour and a good"}},"■Global supply with Make-to-Print tools for manufacturing programs as well as after sales programs (civil as well as A400M military)\n■Global supply with Make-to-Print tools for Airbus Helicopters\n","3D print","no","no","electrical",null,null,"no","yes",{"$cut":{"chars":30050,"head":"Table of Contents\n\n\n\nChange management\t3\n1\t          Objective\t4\n2\t          Scope / Responsibility\t4\n3\t          Terms\t4\n4\t          Description\t6\n4.1\t Selection of a corrosion protection\t7\n4.1.1       Galvanized\t7\n4.1.2\tElectroless Nickel Plating\t7\n4.1.3\tPhosphated\t7\n4.1.4\tNitrided\t8\n4.1.5\tBlack oxided\t8\n4.1.6\tPainted\t8\n4.1.7\tHot-dip galvanized\t8\n4.1.8\tAnodized\t8\n4.1.9\tRilsan®coating (plastic coating):\t9\n4.1.10\tTeflon coating\t9\n4.2\t  Indication of corrosion protection type\t10\n4.2.1\tNitrieren\t10\n4.2.2\tBlack oxiding\t12\n4.2.3\tPhosphating\t12\n4.2.4\tZinc-plating + thick-film passivation\t13\n4.2.5\tChemical nickel-plating\t16\n4.2.6\tPainting\t19\n4.2.7\tComponent or material-related indications on drawings\t20\n4.2.8\tHard anodizing\t21\n4.2.9\tRilsan coating\t22\n4.2.10\tTeflon coating\t23\n4.2.11\tCoating thicknesses that can be expected \t24\n5\t           Applicable documents / records\t24\n\n\n\n\n\n\n\n  \t  Change management\n\nrevision\tchapter\tAdjustment\tdate\tamendet by\n00\t\tInitial puplication\t07.2009\tE. Müller\n19\t\t\t05.2014\tA. Wolk\n\t\t\t\t\n\t\t\t\t\n\t\t\t\t\n\t\t\t\t\n\t\t\t\t\n\t\t\t\t\n\t\t\t\t\n\t\t\t\t\n\n\t1\tObjective\n\tThis guideline is to be used to ensure the uniform, effective and cost-effective selection (process) of a surface protection process. Furthermore, this Hydro standard shall specify alternative procedures in the case of unclear/missing drawing specifications. The guideline also contains background knowledge relevant to the specifications. This can be found in the bb l u e  boxes. This guideline applies to both new designs and the overhaul/upgrading of existing equipment.\n\t2\tScope / Responsibility\n\tResponsible for the implementation and compliance is the head of Engineering.\n\t3\tTerms\n\tChromium-containing coatings and chromium-free coatings\nThe following systems have developed over the past years in the area of the electroplated corrosion protection systems.  Chromium(VI)-free systems include blue chromating (Cr(III) and thin film as well as thick film passivation (chemically on chromium(III) base).\nThe following terminology is used in the area of surface technology:\nChromium(VI)-containing:\n\tZinc layer + hexavalent chromate coating\n\tCommonly referred to as yellow galvanized or yellow-chromated.\nChromium(VI)-free:\n\tZinc coat + conversion layer (or chemical chromium(III) base)\n\tCommonly referred to as blue chromating, blue passivation, thin film passivation or thick film passivation. However, there are marked differences between these labels in regard to corrosion protection. Blue chromating (blue-galvanized) belongs also to the chromium(VI)-free coatings. However, blue chromating provides a significantly poorer corrosion protection compared to thick-film passivation. \nNitrided \nNitrided is a process for surface hardening. This nitrogen is used. The result is a surface layer that is resistant to about 500 ° Celsius. Possible methods: gas nitrided, plasma nitrided etc..\nBlack oxiding\nThe black oxide coating is produced chemically by immersing the workpieces in a heated, strongly alkaline solution. This produces an oxide coating (magnetite - Fe3O4) on iron and steel materials. The black oxide treatment is not considered to be a state-of-the-art corrosion protection!\nPhosphating\nPhosphating is a chemical / electrochemical process, in which thin, microcystalline and water insoluble phosphates are produced on metal surfaces from phosphoric acid solutions in a dipping or spraying process. As they arise from a chemical reaction with the base metal, the light to dark grey coloured metal phosphate layers are firmly anchored in the metal surface and have numerous cavities and capillaries. This property provides the phosphate layers with an optimal absorption capacity for oils, waxes, colouring pigments and paints so that they have proved to be an effective corrosion protection and undercoat for painting and varnishing. Phosphating is not considered to be a state-of-the-art corrosion protection!\nHard anodizing\nModified anodizing process. Compared to anodizing, hard anodizing distinguishes itself by a very high hardness, a better wear resistance, a good sliding behaviour and a good"}},null,null,"no","yes",0,0,0,1,0,0,0,0,0,0,0,0,0,0,null,null,null,"no","no",null,null,null,"no","no",null,null,null,"no","no"," an option in combination with our central Electronic Jacking And Levelling control system (EJAL). ",null,null,"no","no",null,null,null,"no","no",null,null,null,"no",null,null,null,null,"no","no",null,null,null,"no","no",null,null,null,"no","no",null,null,null,"no","no",null,null,null,"no","no",null,null,null,"no","no",null,null,null,"no","no",null,null,null,0,0,0,0,0,0,0,0,null,null,null,"no","no",null,null,null,"no","no",null,null,null,"no","no",null,null,null,"no","no",null,null,null,"no","no",null,null,null,"no","no",0,0,0,0,0,0,0,null,null,null,"no","no",null,null,null,"no","no",null,null,null,"no","no",null,null,null,"no","no",null,null,null,"no","no",null,null,null,"no","no",null,null,null,0,0,0,0,1,1,0,0,null,null,null,"no","no",null,null,null,"no","no","All required engine tools need to be received on time, in right quality, quantity and within budget:","11.533 engine tools delivered in 2017 with 2.847 bespoke\n",null,"no","no","All required engine tools need to be received on time, in right quality, quantity and within budget:","11.533 engine tools delivered in 2017 with 2.847 bespoke",null,"no","no",null,null,null,"no","no",null,null,null,"no","no",0,1,0,0,1,0,1,0,1,1,null,null,null,"no","no","We ensure the operational safety of our GSE equipment with the following measures:\n■In-house proof load testing of all HYDRO GSE equipment up to 350 metric tons\n■Fully aligned to OEM and customer requirements\n■Batch tracking of all axle-jack cylinders\n■Impact test specimen\n■Type examination\nThe portfolio includes tripod-jacks with a wide range of 2 up to 210 tons. The whole aircraft fleet—narrow-body, wide-body, business jets, regional jet aircraft or helicopters is covered.","3,000 +GSE products in our portfolio\n","■Safety, quality and durability “Made in Germany”\n■Airbus validated\n■Long service life\n■Robust and proven design\n■Secondary cylinder seal for protection against contaminants and to prolong primary seal life\n■At least 10 years of spare part availability\n■On-site service\n","no","yes",null,null,null,"no","no",null,null,null,"no","no",{"$cut":{"chars":30050,"head":"Table of Contents\n\n\n\nChange management\t3\n1\t          Objective\t4\n2\t          Scope / Responsibility\t4\n3\t          Terms\t4\n4\t          Description\t6\n4.1\t Selection of a corrosion protection\t7\n4.1.1       Galvanized\t7\n4.1.2\tElectroless Nickel Plating\t7\n4.1.3\tPhosphated\t7\n4.1.4\tNitrided\t8\n4.1.5\tBlack oxided\t8\n4.1.6\tPainted\t8\n4.1.7\tHot-dip galvanized\t8\n4.1.8\tAnodized\t8\n4.1.9\tRilsan®coating (plastic coating):\t9\n4.1.10\tTeflon coating\t9\n4.2\t  Indication of corrosion protection type\t10\n4.2.1\tNitrieren\t10\n4.2.2\tBlack oxiding\t12\n4.2.3\tPhosphating\t12\n4.2.4\tZinc-plating + thick-film passivation\t13\n4.2.5\tChemical nickel-plating\t16\n4.2.6\tPainting\t19\n4.2.7\tComponent or material-related indications on drawings\t20\n4.2.8\tHard anodizing\t21\n4.2.9\tRilsan coating\t22\n4.2.10\tTeflon coating\t23\n4.2.11\tCoating thicknesses that can be expected \t24\n5\t           Applicable documents / records\t24\n\n\n\n\n\n\n\n  \t  Change management\n\nrevision\tchapter\tAdjustment\tdate\tamendet by\n00\t\tInitial puplication\t07.2009\tE. Müller\n19\t\t\t05.2014\tA. Wolk\n\t\t\t\t\n\t\t\t\t\n\t\t\t\t\n\t\t\t\t\n\t\t\t\t\n\t\t\t\t\n\t\t\t\t\n\t\t\t\t\n\n\t1\tObjective\n\tThis guideline is to be used to ensure the uniform, effective and cost-effective selection (process) of a surface protection process. Furthermore, this Hydro standard shall specify alternative procedures in the case of unclear/missing drawing specifications. The guideline also contains background knowledge relevant to the specifications. This can be found in the bb l u e  boxes. This guideline applies to both new designs and the overhaul/upgrading of existing equipment.\n\t2\tScope / Responsibility\n\tResponsible for the implementation and compliance is the head of Engineering.\n\t3\tTerms\n\tChromium-containing coatings and chromium-free coatings\nThe following systems have developed over the past years in the area of the electroplated corrosion protection systems.  Chromium(VI)-free systems include blue chromating (Cr(III) and thin film as well as thick film passivation (chemically on chromium(III) base).\nThe following terminology is used in the area of surface technology:\nChromium(VI)-containing:\n\tZinc layer + hexavalent chromate coating\n\tCommonly referred to as yellow galvanized or yellow-chromated.\nChromium(VI)-free:\n\tZinc coat + conversion layer (or chemical chromium(III) base)\n\tCommonly referred to as blue chromating, blue passivation, thin film passivation or thick film passivation. However, there are marked differences between these labels in regard to corrosion protection. Blue chromating (blue-galvanized) belongs also to the chromium(VI)-free coatings. However, blue chromating provides a significantly poorer corrosion protection compared to thick-film passivation. \nNitrided \nNitrided is a process for surface hardening. This nitrogen is used. The result is a surface layer that is resistant to about 500 ° Celsius. Possible methods: gas nitrided, plasma nitrided etc..\nBlack oxiding\nThe black oxide coating is produced chemically by immersing the workpieces in a heated, strongly alkaline solution. This produces an oxide coating (magnetite - Fe3O4) on iron and steel materials. The black oxide treatment is not considered to be a state-of-the-art corrosion protection!\nPhosphating\nPhosphating is a chemical / electrochemical process, in which thin, microcystalline and water insoluble phosphates are produced on metal surfaces from phosphoric acid solutions in a dipping or spraying process. As they arise from a chemical reaction with the base metal, the light to dark grey coloured metal phosphate layers are firmly anchored in the metal surface and have numerous cavities and capillaries. This property provides the phosphate layers with an optimal absorption capacity for oils, waxes, colouring pigments and paints so that they have proved to be an effective corrosion protection and undercoat for painting and varnishing. Phosphating is not considered to be a state-of-the-art corrosion protection!\nHard anodizing\nModified anodizing process. Compared to anodizing, hard anodizing distinguishes itself by a very high hardness, a better wear resistance, a good sliding behaviour and a good"}},null,null,"no","no",null,null,null,"no","no","\n \n\n In Stock \n\n\n Tripod-jacks \n\n\n Tow-bars \n\n\n Axle-jacks \n\n\n Landing gear change equipment \n\n\n Engine change equipment \n\n\n Service carts \n\n\n Hydraulic Power Unit \n\n\n Other products \n\n\n\n Airframe & Engine Tooling  \n\n  \n Airframe Tooling \n\n\n Engine Tooling \n\n\n\n Engine Transportation  \n\n  \n Basic Engine Stands \n\n\n Whole Engine Stands (WES) \n\n\n Split Engine Stands (SES) \n\n\n All Purpose Stands (APS) \n\n\n\n Engineered Solutions  \n\n",null,null,"no","yes",null,null,null,"no","no","Half a century of experience\n\nIn an industry that is driven by technology and innovation, 50 years is a long time. And they are made all the more impressive by the fact that we have been a well-established licensee of Airbus and Boeing and have worked together with industry-leading aircraft and engine manufacturers, their customers, and MRO providers for several decades\nSolid financial fundamentals\n\nThe fact that we are privately owned and had revenue of over 155 million euros in 2018 means that our customers can rely on our financial stability at all times. This, combined with a worldwide team that has more than 750 members, ensures that you can count on us to help drive your long-term success.\nWorldwide supply chain\n\nOur suppliers are close to our major customers all throughout the globe. Moreover, we have supplier quality engineers (SQEs) working for us in every single region, where they are continuously working on our supply chain management and improving and expanding our supplier network.\nIndustry leadership\n\nWe enjoy having our performance measured. Expect record lead times and uncompromising quality with the “Designed and Made in Germany” seal of quality.\nOne-of-a-kind service and customer care\n\nWith 10 service centers, we have a worldwide presence that covers every single strategically important airline hub. In other words, we are always right there for our customers with more than 30 years of service experience.\nReliability\n\nWe know that our customers’ success depends on the reliability of the work we do, which is why we always keep our word no matter what.\n\n","4.000 Airbus tools delivered in 2017 with 407 bespoke\n12.081 Boeing tools delivered in 2017 with 742 \nCertifications\n■DIN EN ISO 3834-2-2006\n■Didsbury\n■ISO 9001:2015\n",null,"no","yes","Half a century of experience\n\nIn an industry that is driven by technology and innovation, 50 years is a long time. And they are made all the more impressive by the fact that we have been a well-established licensee of Airbus and Boeing and have worked together with industry-leading aircraft and engine manufacturers, their customers, and MRO providers for several decades\nSolid financial fundamentals\n\nThe fact that we are privately owned and had revenue of over 155 million euros in 2018 means that our customers can rely on our financial stability at all times. This, combined with a worldwide team that has more than 750 members, ensures that you can count on us to help drive your long-term success.\nWorldwide supply chain\n\nOur suppliers are close to our major customers all throughout the globe. Moreover, we have supplier quality engineers (SQEs) working for us in every single region, where they are continuously working on our supply chain management and improving and expanding our supplier network.\nIndustry leadership\n\nWe enjoy having our performance measured. Expect record lead times and uncompromising quality with the “Designed and Made in Germany” seal of quality.\nOne-of-a-kind service and customer care\n\nWith 10 service centers, we have a worldwide presence that covers every single strategically important airline hub. In other words, we are always right there for our customers with more than 30 years of service experience.\nReliability\n\nWe know that our customers’ success depends on the reliability of the work we do, which is why we always keep our word no matter what.","4.000 Airbus tools delivered in 2017 with 407 bespoke\n12.081 Boeing tools delivered in 2017 with 742 \nCertifications\n■DIN EN ISO 3834-2-2006\n■Didsbury\n■ISO 9001:2015\n",null,"no","yes",0,1,1,null,null,null,"no","no","Every single one of our services is focused on efficiency. That is why we are a full-service provider for the areas of tool management, maintenance, repairs, upgrades, airframe service, GSE service, tools for engines, etc. \n\nIn addition, a highly efficient infrastructure with tools such as SAP, a ticket system, KPI reports, engineering and technical support, etc. all ensure that the benefits you reap from working with us will always be maximized. And to make sure we are always there for you, our technical support staff can be reached at any time through our hotline.\nCapabilities\nInspection\nTesting\nCalibration\nRepairs / Overhaul\nRecertification\nTest of electrical equipment\nModification of tools\nLocal customer support service\nPressure measurement\n","Certifications\n■ISO 9001 certification\n■Airbus certified partner\n■Boeing certified partner\n■Rolls-Royce certified partner\n■Didsbury certified partner\n■Newbow certified partner\n",null,"no","yes","Every single one of our services is focused on efficiency. That is why we are a full-service provider for the areas of tool management, maintenance, repairs, upgrades, airframe service, GSE service, tools for engines, etc. \n\nIn addition, a highly efficient infrastructure with tools such as SAP, a ticket system, KPI reports, engineering and technical support, etc. all ensure that the benefits you reap from working with us will always be maximized. And to make sure we are always there for you, our technical support staff can be reached at any time through our hotline.\nInspection\nTesting\nCalibration\nRepairs / Overhaul\nRecertification\nTest of electrical equipment\nModification of tools\nLocal customer support service\nPressure measurement\n","■ISO 9001 certification\n■Airbus certified partner\n■Boeing certified partner\n■Rolls-Royce certified partner\n■Didsbury certified partner\n■Newbow certified partner\n",null,"no","yes",1,1,"Every single one of our services is focused on efficiency. That is why we are a full-service provider for the areas of tool management, maintenance, repairs, upgrades, airframe service, GSE service, tools for engines, etc. \n\nIn addition, a highly efficient infrastructure with tools such as SAP, a ticket system, KPI reports, engineering and technical support, etc. all ensure that the benefits you reap from working with us will always be maximized. And to make sure we are always there for you, our technical support staff can be reached at any time through our hotline.","■ISO 9001 certification\n■Airbus certified partner\n■Boeing certified partner\n■Rolls-Royce certified partner\n■Didsbury certified partner\n■Newbow certified partner\n",null,0,1,"Training for our products",null,null,"no","yes",0,null,null,"no","no"]
["IABG mbH",0,1,1,1,null,null,null,"no","no","Determination of material parameters under static and cyclic loads. Development and execution of custom tests. Method development for virtual strength evaluation.","- Different Customer Projects (testing, method development, simulation)\n- Research projects\n- Publications","Method development and application for strength evaluation by finite element simulation.","no","no","- Mechanical characterisation of ceramic materials, Rubber and SFRP\n- Characterization of adhesive properties of bulletproof glass\n","- FCAS-Sensor Window for FCAS Platform\n- Fatigue and ageing study regarding to bulletproof glass","Continuous simulation chain for sfrp. from manufacturing to fatigue.","no","no","- Thermomechanical- and fretting fatigue behavior for metals\n- Mechanical characterisation of ferrous- and non-ferrous metals\n- Method development for strength evaluation.","- PHD and Publications\n- Founded Projects for AM-Parts\n- several sustomer projects","Statistical approaches for evaluation of failure probability based on crack initiation on imperfections inside the material.\nQA-concepts for production","no","no",0,1,1,0,1,0,0,1,0,0,0,0,1,1,null,null,null,"no","no","Testing and qualification of hydraulic and electromechanical actuators for control surfaces and landing gear actuation","Qualification of actuators and control surface components for Boeing and Pilatus","Automated testing of actuation under the influence of contamination and varying climate conditions at high testing speed","no","no","Testing and qualification of spherical and roller bearings (static, fatigue and endurance tests) of military and civil aircrafts","Numerous testing and qualification campaigns for civil and military aircrafts (Bombardier, Airbus, Embraer, ...)","Highly automated mechanical testing of bearings and tribological components under the influence of contamination and climate conditions","no","no",null,null,null,"no","no","X-Ray analysis (2D, µCT, in-Situ) for structural and geometrical characterisation, material characterisation on microstructural level","Performance of root cause Investigations for complex failure situations (across all business sectors)","Product development support by the performance of root cause investigations and material characterisation","no","no",null,null,null,"no",null,null,null,null,"no","no","Testing and qualification of mechanical assemblies (metallic and composite) with focus on strength and fatigue.","Extenisve experiences from nearly all european development programes over the last decades.","Amongst others:\n- Further improvement of established test technologies w.r.t. accuracy and test speed\n- Implementation of HIL- and Virtual testing capabilities for structural and system","no","no",null,null,null,"no","no",null,null,null,"no","no",null,null,null,"no","no",null,null,null,"no","no","Testing and qualification of structural components (metallic and composite) with focus on strength and fatigue.","Extensive experiences from nearly all european development programes over the last decades.","Amongst others:\n- Further improvement of established test technologies w.r.t. accuracy and test speed\n- Implementation of HIL- and Virtual testing capabilities for structural and system","no","no","Testing and qualification of valves and other pressurized components of military and civil aircrafts","Extensive experiences from nearly all european development programes over the last decades.","Amongst others:\n- Further improvement of established test technologies w.r.t. accuracy and test speed\n- Implementation of HIL- and Virtual testing capabilities for structural and system",0,0,1,1,0,0,1,1,"Testing and qualification of airframe assemblies up to complete airframes (metallic and composite) with focus on strength and fatigue.","Extensive experiences from nearly all european development programes over the last decades.","Amongst others:\n- Further improvement of established test technologies w.r.t. accuracy and test speed\n- Implementation of HIL- and Virtual testing capabilities for structural and system","no","no","Testing and qualification of components for cabin interior (metallic and composite) with focus on environmental and static testing.","Extensive experiences from nearly all european development programes over the last decades.","Amongst others:\n- Further improvement of established test technologies w.r.t. accuracy and test speed\n- Implementation of HIL- and Virtual testing capabilities for structural and system","no","no",null,null,null,"no","no",null,null,null,"no","no","Testing and qualification of landing assemblies (components up to functional landing gears with focus on environmental, functional (drop, impact) and fatigue and static testing","Extensive experiences from nearly all european development programes over the last decades.","Amongst others:\n- Further improvement of established test technologies w.r.t. accuracy and test speed\n- Implementation of HIL- and Virtual testing capabilities for structural and system testing services","no","no","Operational & Engineering Consulting\n- system of system analysis\n- operational & functional requirement analysis\n- market & feasibility studies\n- performance analysis\n- development cost & risk analyses\n- Threat analysis","- TORNADO\n- EF/TYPHOON\n- Varios international Systems\n- Complete range of unmanned Systems from micro to HALE","- digital twin\n- virtual testing\n- vulnerability analysis\n- predictive maintenance\n- low observability","no","no",1,1,0,0,0,0,1,"Engineering Consulting IMA\n- Radar performance analysis\n- IMA (integrated modular avionic)\n- Airborne sensors\n- Avionics integration","- Various international systems\n- test infrastructure IMA\n- AESA Radar\n- EF/TYPHOON\ncomplete sensor and avionic competence: e.g.\nTORNADO ASTA 3\nTIGER capability assurance programme","Requirement driven avionic concepts","no","no","Engineering Consulting data link\n- communication standards\n- communication performance analysis\n- feasibility analysis","- Engineering Consulting for almost all national data links for UAS\n- Link 16","- Demonstrator Digital Aided Close Air Support (DACAS)","no","no",null,null,null,"no","no",null,null,null,"no","no",null,null,null,"no","no",null,null,null,"no","no","- Engineering Consulting DAS\n- Electronic Warfare\n- Towed Decoy\n- Chaff/Flare Optimization\n- DIRCM\n- Mission data preparation","- EF\n- Tornado\n- A-400M\n- Various international systems\n- CH-53",null,0,0,0,0,0,1,1,0,null,null,null,"no","no",null,null,null,"no","no",null,null,null,"no","no","FEM simulation and expert expertise in vibration and fatigue.\nMethod development for Structural Health Monitoring\nRotor dynamics","Several customer project\nPublications especially regarding vibration, fatigue and SHM","Model based method for SHM of structures by using of a digital twin controlled by real measurements.","no","no","Engineering Consulting Air to Air refueling","- Engineering Analyses and Studies for national and international Customers (EDA)\n- Testing & Instrumentation Tornado\n- A400M Carry Clearance preparation and support",null,"no","no",null,null,null,"no","no",0,0,0,0,0,0,0,0,0,0,null,null,null,"no","no",null,null,null,"no","no",null,null,null,"no","no",null,null,null,"no","no",null,null,null,"no","no",null,null,null,"no","no",null,null,null,"no","no",null,null,null,"no","no",null,null,null,"no","no",null,null,null,"no","no",1,1,1,"Engineering Consulting\n- ILS\n- Consulting & Implementation CAMO\n- Cost analysis\n- Lean management\n- Safety analysis\n- Logistic fleet simulation","Engineering Consulting\n- almost all national helicopter\n- EF","- Product liefecycle management\n- ILS benefits through 3D-print optimized design\n- Maintenance plan optimization\n- Performance based logistics\n- Predictive maintenance","no","no","Huge variety of equipment and self-designed test benches to perform testing for the development and qualification for aircraft parts and systems up to entire airframes, incl. flight-testing.","Capable to perform various testing requirements with existing equipment, for structural, functional and environmental testing needs","Improvement of test equipment to fulfill future requirements for an optimized (virtual) development and certification process.\nDevelopment of own designed test benches and CMS-systems.","no","no","All relevant testing services with focus on mechanical (static, fatugue, environmental) and electrical systems and parts/elements.\nIABG is a strategic partner for the aeronautics industry during the development and certification of their products.","As an independent and product-neutral service provider, our Testing Services have been called upon by a wide range of public and private clients in a national and international context both in the commercial and military sector, e.g.\n- Entire Airbus family (A300 to most recent Airbus A350 XWB)\n- Bombardier (C-Series, now A220)\n- General aviation aircraft (Pilatus PC-24, Extra 400, Grob G180)\n- Commuter aircraft (PC-12)","Amongst others:\n- Further improvement of established test technologies w.r.t. accuracy and test speed\n- Implementation of HIL- and Virtual testing capabilities for structural and system testing services\n- Improved Structural Integrity Services applying Machine Learning and Artificial Intelligence in close interaction with testing activities, like FSFT\n","no","no",1,1,"Simulation (FEM, CFD, MBS)\nSystems Engineering \nHuman Factors\nE2E SW Development\nRAMT\nRequirements & Config Mgmt\nSafety\nStructural Analysis\nLifeCycleCost","As an independent and product-neutral service provider, our Engineering Services have been called upon by a wide range of public and private clients in a national and international context both in the commercial and military sector.\nProject references span across all major Bundeswehr AirForce procurement and INService projects","Amongst others:\n- Virtual Testing Capabilities\n- Improved Structural Integrity Services applying Machine Learning and Artificial Intelligence\n- Enhanced Life Cycle Management Suite",0,0,"Operational & Engineering Consulting:\n- System of system trade offs\n- threat evaluation\n- performance analyses (WS and effectors)\n- fighter weapons school\n- larger formations effect simulation via monte carlo\n- Manned/unmanned teaming\n- mission debriefing systems \n- conops","- EF\n- FCAS\n- A400M\n- Tornado\n- Several UAS","- Linked training and simulation environments\n- Virtual reality and hardware in the loop methods\n- Digital twin","no","no",1,"Effectors / weaponsOperational & Engineering Consulting for effectors\n- Performance analysis\n- Feasibility analysis\nMETEOR",null,"no","no"]
["ILFA Feinstleitertechnologie",0,0,0,0,null,null,null,"no","no",null,null,null,"no","no",null,null,null,"no","no",null,null,null,"no","no",0,0,0,1,1,0,0,0,0,0,1,1,0,0,null,null,null,"no","no",null,null,null,"no","no",null,null,null,"no","no","PCB technology HF, HDI, embedded components","Airbus, Rheinmetall, Atlas Electronic","PCB hybrid and very fine 20 20 y structures; glass in PCB; liquid cooling inside PCB","yes","yes","PCB technology HF, HDI, embedded components",null,null,"yes","yes",null,null,null,"no",null,null,null,null,"no","no",null,null,null,"no","no",null,null,null,"no","no",null,null,null,"no","no","PCB technology HF, HDI, embedded components",null,null,"yes","yes","PCB technology HF, HDI, embedded components",null,null,"yes","yes",null,null,null,"no","no",null,null,null,0,0,0,1,0,0,0,1,null,null,null,"no","no","PCB technology HF, HDI, embedded components",null,null,"no","no",null,null,null,"no","no",null,null,null,"no","no",null,null,null,"no","no","PCB technology HF, HDI, embedded components",null,null,"no","no",1,1,1,1,1,1,1,"PCB technology HF, HDI, embedded components",null,null,"yes","yes","PCB technology HF, HDI, embedded components",null,null,"no","no","PCB technology HF, HDI, embedded components",null,null,"yes","yes","PCB technology HF, HDI, embedded components",null,null,"yes","yes","PCB technology HF, HDI, embedded components",null,null,"yes","yes","PCB technology HF, HDI, embedded components",null,null,"yes","yes","PCB technology HF, HDI, embedded components",null,null,1,1,1,1,0,0,0,0,"PCB technology HF, HDI, embedded components",null,null,"yes","yes","PCB technology HF, HDI, embedded components",null,null,"yes","yes",null,null,null,"no","no",null,null,null,"no","no",null,null,null,"no","no",null,null,null,"no","no",0,0,0,0,0,0,0,0,0,0,null,null,null,"no","no",null,null,null,"no","no",null,null,null,"no","no",null,null,null,"no","no",null,null,null,"no","no",null,null,null,"no","no",null,null,null,"no","no",null,null,null,"no","no",null,null,null,"no","no",null,null,null,"no","no",0,0,0,null,null,null,"no","no",null,null,null,"no","no",null,null,null,"no","no",0,0,null,null,null,0,0,null,null,null,"no","no",0,null,null,"no","no"]
["IMA Materialforschung und Anwendungstechnik GmbH",1,1,1,1,"Pull-Out-Tests, Media / Temperature / Climate Tests, Shear Tests","Confidential - Testing for several industrial branches (Aerospace, Automotive, Wind Energy, Railway. Medical Industry)","Not relevant","no","no","Laminate & Specimen Manufacturing, Physical Testing (Density / Fibre Content / Polished Section Analysis / Fibre Distribution) & Thermal Testing (DSC / DMA / Dilatometry), Static Material Testing, Fatigue Material Testing (under Temperature Conditions / Low & High & Hot-Wet Conditions / Pulsating & Alternating Loading / Crack Documentation / S-N-Curve Determination / Fatigue Testing of Specimen Geometries & Methods), Material Creep Tests, Static Material Testing (Tension / Compression / Bending, Shear / Joints / Climate Testing / Fracture Toughness Determination G1c / G2c / Mixed Mode Testing), Impact Testing (CAI / Impact Depth Measurement / Stringer Impact / Fatigue Load of impact damaged components), Temperature Testing, Instrumentation & Quality Assurance (3D Coordinate Measurement, Strain Gauge Application), Environmental Testing, Material Data Base","Confidential - Testing for several industrial branches (Aerospace, Automotive, Wind Energy, Railway. Medical Industry)","Not relevant","no","no","Laminate & Specimen Manufacturing, Physical Testing (Density / Fibre Content / Polished Section Analysis / Fibre Distribution) & Thermal Testing (DSC / DMA / Dilatometry), Static Material Testing, Fatigue Material Testing (under Temperature Conditions / Low & High & Hot-Wet Conditions / Pulsating & Alternating Loading / Crack Documentation / S-N-Curve Determination / Fatigue Testing of Specimen Geometries & Methods), Material Creep Tests, Static Material Testing (Tension / Compression / Bending, Shear / Joints / Climate Testing / Fracture Toughness Determination G1c / G2c / Mixed Mode Testing), Impact Testing (CAI / Impact Depth Measurement / Stringer Impact / Fatigue Load of impact damaged components), Temperature Testing, Instrumentation & Quality Assurance (3D Coordinate Measurement, Strain Gauge Application), Environmental Testing, Material Data Base","Confidential - Testing for several industrial branches (Aerospace, Automotive, Wind Energy, Railway. Medical Industry)","Not relevant","no","no","Testing of metallic materials: Mechanical Tests, Static Load Tests (Tensile / Fracture Toughness, Compression, Bending, Torsion, Shear, Stress Rupture Test, Bearing Test, Hardness Tests), Cyclic Load Testing (Fatigue Tests / HCF / LCF, TMF / Determination of Cyclic Deformation Curves / S-N-Curves / Fracture Mechanics / Crack Propagation), Surface Quality Testing (Profilometry / Roughness), Impact Load Testing (Charpy Impact Test / Pellini Tests /Crash Tests), Technological Testing (Connection Element Testing / Junkers Tests / Soldered, brazed and welded Joints / Riveted and adhesively bonded Connections), Chemical Analysis (EDX / Optimal Emission Spectroscopy), Tribological Testing (Abrasion Resistance / Friction Coefficient / High-Speed Abrasion Testing / Component oriented Test Rigs), Testing under Medial Influences (Steels / Aluminium Materials / Metals), Sample Manufacturing, Material Data Base ","Confidential - Testing for several industrial branches (Aerospace, Automotive, Wind Energy, Railway. Medical Industry)","Not relevant ","no","no",1,0,1,1,1,1,0,1,1,1,1,1,1,1,"Mechanical Tests, Vibration Tests & Shock Tests, High- Performance Tests, Lifetime Testing, Heating & Continuous Current Tests, Insulation Tests, Climate & Temperature Tests, Insulation Tests, FEM-Analysis & Simulation, Non-Destructive-Testing, Damage Analysis ","Confidential - Testing for several industrial branches (Aerospace, Automotive, Wind Energy, Railway. Medical Industry)","Not relevant ","no","no",null,null,null,"no","no","Mechanical Tests, Vibration Tests & Shock Tests, Climate & Temperature Tests, Load Simulation Tests, High Frequency Tests, Load Simulation Test, Corrosion Test, Comparision Tests, Starter-Tests, FEM Simulation & Analysis, Impact Tests, Outer Bearing Ring Tests (under Heat Treatment), Rupture Tests, Fracture & Failure Analysis, Online-Monitoring, Material Management System, Construction & Test Rig Design","Confidential - Testing for several industrial branches (Aerospace, Automotive, Wind Energy, Railway. Medical Industry)","Not relevant ","no","no","Mechanical Tests, Vibration Tests & Shock Tests, High- Performance Tests, Lifetime Testing, Heating & Continuous Current Tests, Insulation Tests, Climate & Temperature Tests, Insulation Tests, FEM-Analysis & Simulation, Non-Destructive-Testing, Damage Analysis ","Confidential - Testing for several industrial branches (Aerospace, Automotive, Wind Energy, Railway. Medical Industry)","Not relevant","no","no","Mechanical Tests, Vibration Tests & Shock Tests, High- Performance Tests, Lifetime Testing, Heating & Continuous Current Tests, Insulation Tests, Climate & Temperature Tests, Insulation Tests, FEM-Analysis & Simulation, Non-Destructive-Testing, Damage Analysis ","Confidential - Testing for several industrial branches (Aerospace, Automotive, Wind Energy, Railway. Medical Industry)","Not relevant","no","no","Mechanical Tests, Static and Dynamic Tests, Vibration Tests & Shock Tests, Climate & Temperature Tests, Load Simulation Tests, High Frequency Tests, FEM Simulation & Analysis, Rupture Tests, Fracture & Failure Analysis, Online-Monitoring, Material Management System, Construction & Test Rig Design","Confidential - Testing for several industrial branches (Aerospace, Automotive, Wind Energy, Railway. Medical Industry)","Not relevant","no",null,null,null,null,"no","no","Mechanical Tests, Static and Dynamic Tests, Vibration Tests & Shock Tests, Climate & Temperature Tests, Load Simulation Tests, High Frequency Tests, FEM Simulation & Analysis, Rupture Tests, Fracture & Failure Analysis, Online-Monitoring, Material Management System, Construction & Test Rig Design","Confidential - Testing for several industrial branches (Aerospace, Automotive, Wind Energy, Railway. Medical Industry)","Not relevant","no","no","Mechanical Tests, Static and Dynamic Tests, Vibration Tests & Shock Tests, Climate & Temperature Tests, Load Simulation Tests, High Frequency Tests, FEM Simulation & Analysis, Rupture Tests, Fracture & Failure Analysis, Online-Monitoring, Material Management System, Construction & Test Rig Design","Confidential - Testing for several industrial branches (Aerospace, Automotive, Wind Energy, Railway. Medical Industry)","Not relevant","no","no","Mechanical Tests, Static and Dynamic Tests, Vibration Tests & Shock Tests, Climate & Temperature Tests, Load Simulation Tests, High Frequency Tests, FEM Simulation & Analysis, Rupture Tests, Fracture & Failure Analysis, Online-Monitoring, Material Management System, Construction & Test Rig Design","Confidential - Testing for several industrial branches (Aerospace, Automotive, Wind Energy, Railway. Medical Industry)","Not relevant","no","no","Mechanical Tests, Vibration Tests & Shock Tests, High- Performance Tests, Lifetime Testing, Heating & Continuous Current Tests, Insulation Tests, Climate & Temperature Tests, Insulation Tests, FEM-Analysis & Simulation, Non-Destructive-Testing, Damage Analysis ","Confidential - Testing for several industrial branches (Aerospace, Automotive, Wind Energy, Railway. Medical Industry)","Not relevant","no","no","Mechanical Tests, Static and Dynamic Tests, Vibration Tests & Shock Tests, Climate & Temperature Tests, High Frequency Tests, Load Simulation Test, FEM Simulation & Analysis, Material Management System","Confidential - Testing for several industrial branches (Aerospace, Automotive, Wind Energy, Railway. Medical Industry)","Not relevant","no","no","Mechanical Tests, Static and Dynamic Tests, Vibration Tests & Shock Tests, Climate & Temperature Tests, High Frequency Tests, Load Simulation Test, FEM Simulation & Analysis, Material Management System","Confidential - Testing for several industrial branches (Aerospace, Automotive, Wind Energy, Railway. Medical Industry)","Not relevant","no","no","Mechanical Tests, Static and Dynamic Tests, Tensile & Pressure & Bending & Actuating Strength, Corrosion Resistance, Pressure Tests, Creep Tests, Vibration Tests & Shock Tests, Climate & Temperature Tests, High Frequency Tests, Load Simulation Test, FEM Simulation & Analysis, Material Management System","Confidential - Testing for several industrial branches (Aerospace, Automotive, Wind Energy, Railway. Medical Industry)","Not relevant ",0,0,1,1,0,0,1,0,"Mechanical Tests, Static and Dynamic Tests, Vibration Tests & Shock Tests, Climate & Temperature Tests, High Frequency Tests, Load Simulation Test, FEM Simulation & Analysis, Material Management System","Confidential - Testing for several industrial branches (Aerospace, Automotive, Wind Energy, Railway. Medical Industry)","Not relevant","no","no","Mechanical Tests, Static and Dynamic Tests, Vibration Tests & Shock Tests, Climate & Temperature Tests, High Frequency Tests, Load Simulation Test, FEM Simulation & Analysis, Material Management System","Confidential - Testing for several industrial branches (Aerospace, Automotive, Wind Energy, Railway. Medical Industry)","Not relevant","no","no",null,null,null,"no","no",null,null,null,"no","no","Mechanical Tests, Static and Dynamic Tests, Vibration Tests & Shock Tests, Climate & Temperature Tests, High Frequency Tests, Load Simulation Test, FEM Simulation & Analysis, Material ","Confidential - Testing for several industrial branches (Aerospace, Automotive, Wind Energy, Railway. Medical Industry)","Not relevant","no","no",null,null,null,"no","no",1,0,0,0,0,0,0,"Mechanical Tests, Static and Dynamic Tests, Vibration Tests & Shock Tests, Climate & Temperature Tests, High Frequency Tests, Load Simulation Test, FEM Simulation & Analysis, Material ","Confidential - Testing for several industrial branches (Aerospace, Automotive, Wind Energy, Railway. Medical Industry)","Not relevant","no","no",null,null,null,"no","no",null,null,null,"no","no",null,null,null,"no","no",null,null,null,"no","no",null,null,null,"no","no",null,null,null,0,0,0,0,1,0,0,0,null,null,null,"no","no",null,null,null,"no","no","Mechanical Tests, Static and Dynamic Tests, Vibration Tests & Shock Tests, Climate & Temperature Tests, High Frequency Tests, Load Simulation Test, FEM Simulation & Analysis, Material ","Confidential - Testing for several industrial branches (Aerospace, Automotive, Wind Energy, Railway. Medical Industry)","Not relevant","no","no",null,null,null,"no","no",null,null,null,"no","no",null,null,null,"no","no",0,0,0,0,0,0,0,0,0,0,null,null,null,"no","no",null,null,null,"no","no",null,null,null,"no","no",null,null,null,"no","no",null,null,null,"no","no",null,null,null,"no","no",null,null,null,"no","no",null,null,null,"no","no",null,null,null,"no","no",null,null,null,"no","no",0,0,1,null,null,null,"no","no",null,null,null,"no","no","Accreditation acc. to EN 9100 & ISO 14001: Technical-scientific services and research services on the fields of material testing  (metals, plastics, composites); component-, structure- and product testing;  product qualification, development of technologies, products made of fibre components  and test procedures; calculation and development/the sale of material databases\n\nAccreditation acc. to ISO 17025: Tribological component test, component oriented and model testing under dry friction, liquid friction or mixed friction conditions; mechanical vibration and shock tests as well as static and dynamic tests with internal pressure;  mechanical strength and functional tests on specimens, specimen similar structural elements, building components, components, structures and complete products; mechanical-technological and physical tests on polymer materials and derived products; structural mechanical, analytical and physical tests on pipes, fittings and their materials; manual non‐destructive tests (ultrasonic, visual, magnetic particle and penetrant testing) as well as mechanical ultrasonic testing of metallic and fibre reinforced materials and plastic as well as composite materials; metallographic investigations and spark discharge optical emission spectrometric analyses of the chemical composition of steel and alloys of Al- and Cu-Basis;  Corrosion tests (dipping method); electrical tests on switchgear, switchgear assemblies, terminals as well as testing of the voltage resistance - electrical tests of components and assemblies \n ","Confidential - Testing for several industrial branches (Aerospace, Automotive, Wind Energy, Railway. Medical Industry)","Not relevant ","no","no",1,1,"Measurement Data, FE Analysis & Calculation, Non-Destructive Testing, Support in Test Lab Design and Test Rig Design, Online Monitoring Systems","Confidential - Testing for several industrial branches (Aerospace, Automotive, Wind Energy, Railway. Medical Industry)","Not relevant",0,0,"Training of operational stability / Load Simulation Tests, Training of Non-Destructive Testing, Training of Fracture Tests & Behaviour, Training of Lab View & Test Rig Design","Confidential - Testing for several industrial branches (Aerospace, Automotive, Wind Energy, Railway. Medical Industry)","Not relevant ","no","no",0,null,null,"no","no"]
["INTEC Industrie-Technik GmbH & Co.KG",0,0,0,0,null,null,null,"no","no",null,null,null,"no","no",null,null,null,"no","no",null,null,null,"no","no",0,0,0,0,0,0,0,0,0,0,0,0,0,0,null,null,null,"no","no",null,null,null,"no","no",null,null,null,"no","no",null,null,null,"no","no",null,null,null,"no","no",null,null,null,"no",null,null,null,null,"no","no",null,null,null,"no","no",null,null,null,"no","no",null,null,null,"no","no",null,null,null,"no","no",null,null,null,"no","no",null,null,null,"no","no",null,null,null,0,0,0,1,1,0,0,0,null,null,null,"no","no","Design of Aircraft Interior - Floor to floor. All components inside cabin. Design of Cockpit consoles","Interior: Diehl Aviation / Airbus Single Aisle, Long Range and A380, \nCockpits: Airbus Helicopters H135, H145","New materials (fire protection), innovative concepts for light weight construction, HMI ","yes","no","Design of aircraft seats for all passanger classes, design of seats for racing cars, ","ZIM Flugsitz - Business Class and Premium Economy Seats, \nBMW: Seats for all car derivates (Mini, BMW, Rolls Royce, DTM)","Leight weight construction, new materials for fire protection","yes","no",null,null,null,"no","no",null,null,null,"no","no",null,null,null,"no","no",0,0,0,0,0,0,0,null,null,null,"no","no",null,null,null,"no","no",null,null,null,"no","no",null,null,null,"no","no",null,null,null,"no","no",null,null,null,"no","no",null,null,null,0,0,0,1,0,0,0,0,null,null,null,"no","no","Design of electrical systems of different aircrafts, defining system architecture, 3D design, electrical load analysis, cooling concepts for electrical components, high voltage, low voltage","P-3C ORION full electrical system re-design. CityAirbus: Electrical Architecture and full 3D design ","Experience with full electrical flight (CityAirbus) - high energy consumption, need for cooling, power management","yes","yes",null,null,null,"no","no",null,null,null,"no","no",null,null,null,"no","no",null,null,null,"no","no",1,0,0,0,0,0,0,0,1,0,"Production planing for Airbus Helicopters NH90 and H135, Use of 3D Data for production process (CAD to CNC to Production), Augmented Reality in Production","Production planing for Airbus Helicopters NH90 and H135","Augmented Reality in Production ","yes","yes",null,null,null,"no","no",null,null,null,"no","no",null,null,null,"no","no",null,null,null,"no","no",null,null,null,"no","no",null,null,null,"no","no",null,null,null,"no","no","Design of all kinds of jigs and tools for production of Airbus Cabin interior","Diehl Aerosystems",null,"yes","yes",null,null,null,"no","no",0,0,0,null,null,null,"no","no",null,null,null,"no","no",null,null,null,"no","no",1,1,"Integrated Logistic Support Services covering Logistic Support Analysis, Technical Documentation, Training and Maintenance Optimization","Airbus Helicopters, Airbus Defence and Space, Rheinmetall, Hensold Sensors, MTU","Use of Augmented Reality for Technical Documentation and Training, ",1,1,"Training of Maintenance Personell,\nSimulation of complex Szenarios (Battles), Integration of Sensor Data (e.g. Radar) into Simulation, Train as you fight","Airbus Defence and Space: Training of Aircraft Maintenance Personell in Airframe, Engine and Avionics, Simulation of Sensors and Effectors for the German Navy for Ship Self Defence / Protection","Implementation of real life content into simulation (e.g. real air traffic)\nNetwork centric Training  / collaborative Training","yes","yes",0,null,null,"no","no"]
["Jena-Optronik GmbH",0,0,0,0,null,null,null,"no","no",null,null,null,"no","no",null,null,null,"no","no",null,null,null,"no","no",1,0,0,1,1,0,1,1,0,0,1,1,0,0,"Usage of microcircuits, processors, memories, specific analoge microcircuits, transistors, diodes for electronic subassamblies","aocs sensors, lidars, general electronics for optical sub-systems","miniaturization for example by bare-die assembly","yes","yes",null,null,null,"no","no",null,null,null,"no","no","Usage of microcircuits, processors, memories, specific analoge microcircuits, transistors, diodes for electronic subassamblies","aocs sensors, lidars, general electronics for optical sub-systems","miniaturization for example by bare-die assembly","yes","yes","Usage of microcircuits, processors, memories, specific analoge microcircuits, transistors, diodes for electronic subassamblies","aocs sensors, lidars, general electronics for optical sub-systems","miniaturization for example by bare-die assembly","no","no",null,null,null,"no",null,"Usage of microcircuits, processors, memories, specific analoge microcircuits, transistors, diodes for electronic subassamblies","aocs sensors, lidars, general electronics for optical sub-systems","miniaturization for example by bare-die assembly","yes","yes","asseblies for opto-mechanical sub-systems and components","aocs sensors, lidars, optical sub-assemblies for e.g. earth observation missions","design and development of high performance components for e.g. ALM technologies","yes","yes",null,null,null,"no","no",null,null,null,"no","no","Usage of microcircuits, processors, memories, specific analoge microcircuits, transistors, diodes for electronic subassamblies","aocs sensors, lidars, general electronics for optical sub-systems","miniaturization for example by bare-die assembly","yes","yes","Usage of microcircuits, processors, memories, specific analoge microcircuits, transistors, diodes for electronic subassamblies","aocs sensors, lidars, general electronics for optical sub-systems","miniaturization for example by bare-die assembly","yes","yes",null,null,null,"no","no",null,null,null,0,0,0,0,0,0,0,0,null,null,null,"no","no",null,null,null,"no","no",null,null,null,"no","no",null,null,null,"no","no",null,null,null,"no","no",null,null,null,"no","no",0,0,0,0,1,1,1,null,null,null,"no","no",null,null,null,"no","no",null,null,null,"no","no",null,null,null,"no","no","gyroscopes","astro-gyro","miniaturization for example by bare-die assembly","yes","yes","optical sensors for detection of e.g. different spectrums of light or lasers",null,null,"yes","yes","optical sensors for detection of e.g. different spectrums of light or lasers",null,null,1,1,0,0,0,0,0,0,null,null,null,"no","no",null,null,null,"no","no",null,null,null,"no","no",null,null,null,"no","no",null,null,null,"no","no",null,null,null,"no","no",0,0,0,0,1,0,0,0,0,0,null,null,null,"no","no",null,null,null,"no","no",null,null,null,"no","no",null,null,null,"no","no","assembly, integration and test of opto-electronic components and sensors; ",null,null,"no","no",null,null,null,"no","no",null,null,null,"no","no",null,null,null,"no","no",null,null,null,"no","no",null,null,null,"no","no",0,1,0,null,null,null,"no","no","development of optical and electrical ground support equipment","GSE for star sensors, electrical sub-assemblies and other optical systems",null,"yes","yes",null,null,null,"no","no",1,0,"optical-, structural-, thermal analysis; software and mechanical engineering, development of digital and analogue electronics ",null,null,1,1,null,null,null,"no","no",0,null,null,"no","no"]
["Jeppesen GmbH / Boeing Digital Solutions",0,0,0,0,null,null,null,"no","no",null,null,null,"no","no",null,null,null,"no","no",null,null,null,"no","no",0,0,0,0,0,0,0,0,0,0,0,0,0,0,null,null,null,"no","no",null,null,null,"no","no",null,null,null,"no","no",null,null,null,"no","no",null,null,null,"no","no",null,null,null,"no",null,null,null,null,"no","no",null,null,null,"no","no",null,null,null,"no","no",null,null,null,"no","no",null,null,null,"no","no",null,null,null,"no","no",null,null,null,"no","no",null,null,null,0,0,0,1,0,0,0,0,null,null,null,"no","no","cabin design and functions",null,"next generation of Boeing cabin design support.","no","no",null,null,null,"no","no",null,null,null,"no","no",null,null,null,"no","no",null,null,null,"no","no",0,0,0,0,0,0,0,null,null,null,"no","no",null,null,null,"no","no",null,null,null,"no","no",null,null,null,"no","no",null,null,null,"no","no",null,null,null,"no","no",null,null,null,0,0,0,0,0,0,0,0,null,null,null,"no","no",null,null,null,"no","no",null,null,null,"no","no",null,null,null,"no","no",null,null,null,"no","no",null,null,null,"no","no",0,0,0,0,0,0,0,0,0,0,null,null,null,"no","no",null,null,null,"no","no",null,null,null,"no","no",null,null,null,"no","no",null,null,null,"no","no",null,null,null,"no","no",null,null,null,"no","no",null,null,null,"no","no",null,null,null,"no","no",null,null,null,"no","no",0,0,0,null,null,null,"no","no",null,null,null,"no","no",null,null,null,"no","no",0,1,null,null,null,0,0,"building training material for airlines from simulator training, training curriculums, books",null,null,"no","no",0,null,null,"no","no"]
["JK Defence & Security Products GmbH",0,0,0,0,null,null,null,"no","no",null,null,null,"no","no",null,null,null,"no","no",null,null,null,"no","no",0,0,0,0,0,0,0,0,0,0,0,0,0,0,null,null,null,"no","no",null,null,null,"no","no",null,null,null,"no","no",null,null,null,"no","no",null,null,null,"no","no",null,null,null,"no",null,null,null,null,"no","no",null,null,null,"no","no",null,null,null,"no","no",null,null,null,"no","no",null,null,null,"no","no",null,null,null,"no","no",null,null,null,"no","no",null,null,null,0,0,0,0,0,0,0,0,null,null,null,"no","no",null,null,null,"no","no",null,null,null,"no","no",null,null,null,"no","no",null,null,null,"no","no",null,null,null,"no","no",0,1,0,0,0,0,0,null,null,null,"no","no","JK Defence is the German representative of Harris Tactical Communications and provides full product lifecycle support to the end user incl. logistics, maintenance and technical documentation.","Harris has provided airborne radios for several aircraft such as C-130, C-160, CH-47, CH-53 and many more.",null,"yes","yes",null,null,null,"no","no",null,null,null,"no","no",null,null,null,"no","no",null,null,null,"no","no",null,null,null,0,0,0,0,0,0,0,0,null,null,null,"no","no",null,null,null,"no","no",null,null,null,"no","no",null,null,null,"no","no",null,null,null,"no","no",null,null,null,"no","no",0,0,0,0,0,0,0,0,0,0,null,null,null,"no","no",null,null,null,"no","no",null,null,null,"no","no",null,null,null,"no","no",null,null,null,"no","no",null,null,null,"no","no",null,null,null,"no","no",null,null,null,"no","no",null,null,null,"no","no",null,null,null,"no","no",0,0,0,null,null,null,"no","no",null,null,null,"no","no",null,null,null,"no","no",0,0,null,null,null,0,0,null,null,null,"no","no",1,"Emergency-, Survival-, Rescue (ESR) Kits for aircrew\nJK Defence is single source of many ESR kits for all aircraft of the German Bundeswehr. We manufacture, compile and configurate ESR equipment and provide full lifecycle support incl. logistics, maintenance, obsolescence management, and technical documentation.\nall aircraft of the German Bundeswehr",null,"yes","no"]
["Liebherr Aerospace GmbH",0,1,0,0,null,null,null,"no","no","GFK, CFK, Peek\nDesign, Construction, Production and Repair","Drive/Torque Tubes, Brackets, LGS Structures","Automated Industrial Design.","yes","yes",null,null,null,"no","no",null,null,null,"no","no",1,1,0,1,0,0,0,1,0,0,0,1,0,1,"Electromechanical, Electrohydraulic, Electropneumatic Components,\nMotor Control Electronics, HVDC Power Management, Static Inverters, Boost Converter, SSPC","Primary/Secondary Flight Control, LGS, Hydraulic/Pneumatic Systems, Air Management","SMART, Robustness, Integration in Health Monitoring","yes","yes","Mechanic, Electromechanic, Hydraulic, Electrohydraulic, Linear, Rotary, Frontline and Backup, Fans","Primary/Secondary Flight Control, Air Brake, LGS, Utility, Doors, Air Management","Front line EHA, Advanced EHSV and DDV Technology, SMART Actuators, ALM Actuators","yes","yes",null,null,null,"no","no","Motors, Position Sensors, Proxi Sensors, Torque Sensors, EHSV, DDV","Primary/Secondary Flight Control, LGS, Hydraulic System, Pneumatic System","SMART, Robustness, Integration in Health Monitoring","yes","yes",null,null,null,"no","no",null,null,null,"no",null,null,null,null,"no","no","Actuators, Gears, Torque Tubes, Structural Components (LGS), Heat Exchangers, Turbines, Compressors","Secondary Flight Control, LGS, APU-, Helicopter- and Engine-Gears, Air Management","High Efficiency Gears, ALM Components","yes","yes",null,null,null,"no","no",null,null,null,"no","no",null,null,null,"no","no","Position, Proxi, Linear and Rotary Sensors, Temp Sensors, Power Monitoring","Primary/Secondary Flight Control, Hydraulic Systems, Motor Control and Power Electronics","SMART, Robustness, Integration in Health Monitoring","yes","yes",null,null,null,"no","no","Pneumatic, Hydraulic, Fueldraulic Valves which are mech, pneumatic, hydraulic or elctrical activated.","Primary/Secondary Flight Control, LGS, Hydraulic System, Pneumatic System, Air Management","SMART, Robustness, Integration in Health Monitoring",1,1,0,0,0,1,1,0,null,null,null,"no","no",null,null,null,"no","no",null,null,null,"no","no","Decentralized Hydraulic Generation Systems, EDP, EHP, Hydraulic Motor, Air Refueling Boom System ","Flight Control, LGS, Tactical Tanker","Decentralized compact Power System","yes","yes","Design, Qualification, Production, Repair, Service of total landing Gear Systems incl. Cockpit Control, Steering, Actuation, Emergency. Release, Uplock, Doors","Civil and Military fixed/rotary wing Aircraft. ","Alternate Material, Health Monitoring, ALM","yes","yes",null,null,null,"no","no",0,0,1,0,0,0,0,null,null,null,"no","no",null,null,null,"no","no","Flight Control Computers\nActuation Control Computers\nRemote Electronic Units\nCockpit Controls","Primary/Secondary Flight Control, Trimable Horizontal Stabilizer","Universal Control System\nHealth Monitoring\nIntegrated Sensoring","yes","yes",null,null,null,"no","no",null,null,null,"no","no",null,null,null,"no","no",null,null,null,0,0,0,1,1,0,0,1,null,null,null,"no","no","Motor Control Electronics\nHVDC Power Management\nStatic Inverter\nBoost Converter, SSPC","Flight Controls, Air Management, Landing Gear Systems (LGS), Hydraulic Systems","High Integration, SiCa Technology, Integrated Health Monitoring","yes","yes","Power Gears, Pneumatic Valves, Electrical Valves, EDP, Loose Gears, Fueldraulic Valves, Heat Exchangers","Propulsion System, Bleed System, Hydraulic Generation","High Efficiency, Compact Design","yes","yes",null,null,null,"no","no",null,null,null,"no","no","Mechanic, Pneumatic, Hydraulic, Electric Systems with integrated Control and Monitoring","Primary/Secondary Flight Control, Air Management, Hydraulic Packs","New Materials, Advanced Production Methodology, ALM, Health Monitoring","yes","yes",1,0,0,1,1,0,0,1,0,0,"Digital work&quality planning processes, preparation of work instructions, offline programming of NC machines and CMM, detailed order planning and fully digital CAQ system","Fully digital workflow for CAM programming. Fully integrated tool data management platform. 100% simulation of NC programs. Flow down from NC database to the machines including the usage of a tool offset postprocessor.","Working on a digital continuity process chain from Model Based System Engineering to Model Based Manufacturing with the 3D Model as a reference \"3D Master\"","yes","yes",null,null,null,"no","no",null,null,null,"no","no","All processes which are required to treat Aluminium, Steel and Titan . Certified ALM production","Actuation, Landing Gear, Power Gears, Gears","Fully integrated process within MBSE/MBM environment.","yes","yes","Built to Print contracts in relevance to product portfolio","Flight Control Systems, Landing Gear Systems, Helicopter Gears, Power Gears","Advanced Industrialization Process","yes","yes",null,null,null,"no","no",null,null,null,"no","no","Mechanical, Shot Peening, Galvanic, Flame Spray, Heat Treatment, Plasma, Electric","Current Product Portfolio","Full Reach Compliance","yes","yes",null,null,null,"no","no",null,null,null,"no","no",0,1,0,null,null,null,"no","no","Performance, Strength, Stress, Fatigue,  Environment, Integration, HALT, HASS \nTesting as it is required for Qualification","In House Test Center","Advance Simulation Capabilities","yes","yes",null,null,null,"no","no",1,0,"System/Component Design, Qualification, Production, Test, Repair \nServices as required for current Product Portfolio","Air Management, Flight Control, Landing Gear, Hydraulic Systems","n.a.",1,1,null,null,null,"no","no",0,null,null,"no","no"]
["Leistritz Turbinentechnik",0,0,0,0,null,null,0,0,null,null,null,0,0,null,null,null,0,0,null,null,null,0,0,null,0,0,0,0,0,0,0,0,0,0,0,0,0,0,null,null,0,0,null,null,null,null,0,0,null,null,null,0,0,null,null,null,0,0,null,null,null,0,0,null,null,null,0,null,null,null,null,0,0,null,null,null,0,0,null,null,null,0,0,null,null,null,0,0,null,null,null,0,0,null,null,null,0,0,null,null,null,0,0,null,null,null,0,0,0,0,0,0,0,0,null,null,null,0,0,null,null,null,0,0,null,null,null,0,0,null,null,null,0,0,null,null,null,0,0,null,null,null,0,0,0,0,0,0,0,0,0,null,null,null,0,0,null,null,null,0,0,null,null,null,0,0,null,null,null,0,0,null,null,null,0,0,null,null,null,0,0,0,0,0,0,0,0,null,"1",null,null,null,null,null,null,null,null,null,null,null,null,null,"compressor blades and vanes/ vane clusters, compressor and turbine disks, TiAl turbine blades, structural parts/engine mounts","MTU-RB199, EJ200, PW1100, SAFRAN-M88, SAM146, LEAP, Rolls-Royce-Trent engines, Pratt&Whitney-PW1100","blisks/IBRs, metal leading edges","yes","yes",null,null,null,null,null,null,null,null,null,null,null,null,null,null,null,null,null,null,null,null,null,null,null,null,null,null,null,null,null,null,null,null,null,null,null,null,null,null,null,null,null,null,null,null,null,null,null,null,0,0,null,null,null,0,0,null,null,null,0,0,null,null,null,0,0,null,null,null,0,0,0,0,0,null,null,null,0,0,null,null,null,0,0,null,null,null,0,0,0,0,null,null,null,0,0,null,null,null,0,0,null,null,null,0,0,0]
["Lufthansa Technik",0,0,0,0,null,null,null,"no","no",null,null,null,"no","no",null,null,null,"no","no",null,null,null,"no","no",0,0,0,0,0,0,0,0,0,0,0,0,0,0,null,null,null,"no","no",null,null,null,"no","no",null,null,null,"no","no",null,null,null,"no","no",null,null,null,"no","no",null,null,null,"no",null,null,null,null,"no","no",null,null,null,"no","no",null,null,null,"no","no",null,null,null,"no","no",null,null,null,"no","no",null,null,null,"no","no",null,null,null,"no","no",null,null,null,0,0,0,0,0,0,0,0,null,null,null,"no","no",null,null,null,"no","no",null,null,null,"no","no",null,null,null,"no","no",null,null,null,"no","no",null,null,null,"no","no",0,0,0,0,0,0,0,null,null,null,"no","no",null,null,null,"no","no",null,null,null,"no","no",null,null,null,"no","no",null,null,null,"no","no",null,null,null,"no","no",null,null,null,0,0,0,0,0,0,0,0,null,null,null,"no","no",null,null,null,"no","no",null,null,null,"no","no",null,null,null,"no","no",null,null,null,"no","no",null,null,null,"no","no",0,0,0,0,0,0,0,0,0,0,null,null,null,"no","no",null,null,null,"no","no",null,null,null,"no","no",null,null,null,"no","no",null,null,null,"no","no",null,null,null,"no","no",null,null,null,"no","no",null,null,null,"no","no",null,null,null,"no","no",null,null,null,"no","no",0,0,0,null,null,null,"no","no",null,null,null,"no","no",null,null,null,"no","no",0,0,null,null,null,0,0,null,null,null,"no","no",1,"MRO, Logistik",null,"no","no"]
["MBDA Deutschland GmbH",1,1,0,0,"Investigation of advanced Technologies - material/production (i.e.coating, non metallic materials) with focus on an low observable airframe structure and material","visibility study; verification measurement test in laboratory","transfer of RF measurement expertise into simulation framework; setup of coating process at RC framework ","no","yes","Assessment of composits technology potential in future production process; Integration into relevant RC structure elements  ",null,null,"no","yes",null,null,null,"no","no",null,null,null,"no","no",0,1,0,0,0,0,0,0,0,0,1,1,0,0,null,null,null,"no","no","Actuator for Missile/RC systems, high dynamic, precision; miniaturized","broad spectrum of Missile Systems (i.e. KPED, PARS3)","Adaption of new technology to short innovation cycles (i.e. miniaturization)","no","yes",null,null,null,"no","no",null,null,null,"no","no",null,null,null,"no","no",null,null,null,"no",null,null,null,null,"no","no",null,null,null,"no","no",null,null,null,"no","no",null,null,null,"no","no","passive RF seeker electronics, high sensitivity, long range detection","integrated in operational missile system","modular concept with open Architecture Interface to be adaptable to alternative antenna structure elements","yes","yes","Electro-optical multispectral seekers (TV/IT), gimbal stabilized, miniaturized architecture, Cooled/Uncooled, Day/Night, high resolution Sensor; signal processing on sensor data (data fusion, Find/Fix/Track algorithms); Point Of Interest Handover - Algorithms","Operational in Missile System (i.e. KEPD); Demonstrators within TRL4-6","Application on high Resolution detectors including alternative cooling process, KI/deep learning based signal processing","yes","yes",null,null,null,"no","no",null,null,null,0,0,0,0,0,0,0,1,null,null,null,"no","no",null,null,null,"no","no",null,null,null,"no","no",null,null,null,"no","no",null,null,null,"no","no","Broad spectrum of weapon systems (i.e. A2A, A2G Missiles)","i.e. KEPD, Meteor, RAM, PARS3; i.e. direct energy High Energy Laser Demonstrator - G2G","i.e. innovative structure material (i.e. Low Observability, Light Weight, modular payload - Lethal/Non Letahl); i.e. high integrated propulsion system for long range mission","yes","yes",1,1,0,0,1,0,0,"Flight Control Computer - high performances, modular architecture, robust & miniaturized","Operational on KEPD, PARS3, Meteor Missile, others","continuous performance improvement (increase of calculation cycles, miniaturization)","no","yes","Munition/RC Datalink Miniaturised Modem for Long Range (LOS) application, Bi-directional Command&Control; optional Video Data Transfer","Demonstrator Applikation","Miniaturized (Low Volume/, Weight) SW defined Datalink Modem; Applicable on broad Frequence spectrum; Improvement of LO and robustness in jammed Environment","no","yes",null,null,null,"no","no",null,null,null,"no","no","High integrated Navigation Sensor Suite; Multi Sensor (IMU/GPS/Altimeter/EO) based Navigation Algorithms with focus on robust Navigation in GNSS denied areas","KEPD; R&T Navigation Demonstrator on Ground/Air based plattforms","Continuous  improvement of Sensor Signal processing/data Fusion (i.e based on EO sensor typs); Integration & test of next generation sensor moduls; ","no","yes",null,null,null,"no","no",null,null,null,0,0,0,0,0,0,0,0,null,null,null,"no","no",null,null,null,"no","no",null,null,null,"no","no",null,null,null,"no","no",null,null,null,"no","no",null,null,null,"no","no",0,0,0,0,0,0,0,0,0,0,null,null,null,"no","no",null,null,null,"no","no",null,null,null,"no","no",null,null,null,"no","no",null,null,null,"no","no",null,null,null,"no","no",null,null,null,"no","no",null,null,null,"no","no",null,null,null,"no","no",null,null,null,"no","no",0,0,0,null,null,null,"no","no",null,null,null,"no","no",null,null,null,"no","no",1,1,"Full scale of Engineering developement cycle at Missile /Launcher Systems;\nEngineering on weapon bay design including Munition release process simulation","Integration Support on KEPD, PARS3 Integration inc. release assessment analyse","Support on all Munition/RC Integration Levels",1,1,"Broad spectrum of Simulation Environment/Tools, i.e. operational Mission Scenario assessment, Missile/RC flight Simulation (incl. realtime Simulation, HIL); Training Simulation, i.e. weapon System training","KEPD Mission Planning, Execution, FCAS Missile Simulation Framework, PARS3 Simulation Environment","Provide  RC/Missile simulation models for integration in FCAS Simulation Framework; Availability of RC/Missile payload (lethal/non lethal) models as baseline for prediction of effect on target ","yes","yes",0,null,null,"no","no"]
["MBFZ toolcraft GmbH",0,0,0,0,null,null,null,"no","no",null,null,null,"no","no",null,null,null,"no","no",null,null,null,"no","no",0,0,0,0,0,0,0,0,0,0,0,0,0,0,null,null,null,"no","no",null,null,null,"no","no",null,null,null,"no","no",null,null,null,"no","no",null,null,null,"no","no",null,null,null,"no",null,null,null,null,"no","no",null,null,null,"no","no",null,null,null,"no","no",null,null,null,"no","no",null,null,null,"no","no",null,null,null,"no","no",null,null,null,"no","no",null,null,null,0,0,0,0,0,0,0,0,null,null,null,"no","no",null,null,null,"no","no",null,null,null,"no","no",null,null,null,"no","no",null,null,null,"no","no",null,null,null,"no","no",0,0,0,0,0,0,0,null,null,null,"no","no",null,null,null,"no","no",null,null,null,"no","no",null,null,null,"no","no",null,null,null,"no","no",null,null,null,"no","no",null,null,null,0,0,0,0,0,0,0,0,null,null,null,"no","no",null,null,null,"no","no",null,null,null,"no","no",null,null,null,"no","no",null,null,null,"no","no",null,null,null,"no","no",0,0,0,1,1,1,0,0,0,0,null,null,null,"no","no",null,null,null,"no","no",null,null,null,"no","no","CNC-machining,\nadditive manufacturing (metal)\nincluding topology optimization and process simulation\noptical and tactile measurement\nHeat treatment (vacuum furnace)","Hermle, DMG, Grob, Mazak\nTrumpf, EOS, Concept Laser (additive)\n","Investment in LMD-technology \nIntegration of MES-system for addtive technologies","yes","yes","CNC-machining,\nadditive manufacturing (metal)\nincluding topology optimization and process simulation\noptical and tactile measurement\nHeat treatment (vacuum furnace)","Hermle, DMG, Grob, Mazak\nTrumpf, EOS, Concept Laser (additive)","Investment in LMD-technology \nIntegration of MES-system for addtive technologies","yes","yes","tactile and optical measurment systems","Hexagon, Zeiss, GOM",null,"yes","yes",null,null,null,"no","no",null,null,null,"no","no",null,null,null,"no","no",null,null,null,"no","no",0,0,0,null,null,null,"no","no",null,null,null,"no","no",null,null,null,"no","no",0,0,null,null,null,0,0,null,null,null,"no","no",0,null,null,"no","no"]
["MHR GmbH",0,0,0,0,null,null,null,"no","no",null,null,null,"no","no",null,null,null,"no","no",null,null,null,"no","no",0,0,0,0,0,0,0,0,0,0,0,0,0,0,null,null,null,"no","no",null,null,null,"no","no",null,null,null,"no","no",null,null,null,"no","no",null,null,null,"no","no",null,null,null,"no",null,null,null,null,"no","no",null,null,null,"no","no",null,null,null,"no","no",null,null,null,"no","no",null,null,null,"no","no",null,null,null,"no","no",null,null,null,"no","no",null,null,null,0,0,0,0,0,0,0,0,null,null,null,"no","no",null,null,null,"no","no",null,null,null,"no","no",null,null,null,"no","no",null,null,null,"no","no",null,null,null,"no","no",0,0,0,0,0,0,0,null,null,null,"no","no",null,null,null,"no","no",null,null,null,"no","no",null,null,null,"no","no",null,null,null,"no","no",null,null,null,"no","no",null,null,null,0,0,0,0,0,0,0,0,null,null,null,"no","no",null,null,null,"no","no",null,null,null,"no","no",null,null,null,"no","no",null,null,null,"no","no",null,null,null,"no","no",0,0,0,0,0,0,0,0,0,0,null,null,null,"no","no",null,null,null,"no","no",null,null,null,"no","no",null,null,null,"no","no",null,null,null,"no","no",null,null,null,"no","no",null,null,null,"no","no",null,null,null,"no","no",null,null,null,"no","no",null,null,null,"no","no",0,0,0,null,null,null,"no","no",null,null,null,"no","no",null,null,null,"no","no",1,0,"Unterstützung, Beratung und Dienstleistungen für ILS und ISS Disziplinen","MTU, Hensoldt, Vincorion, Airbus, Diehl, ",null,1,1,null,null,null,"no","no",0,null,null,"no","no"]
["MT Aerospace AG",1,1,1,1,"Corrosion protection and thermal protection design and application","Various space applications incl. Ariane 5 and 6","Spray on advanced thermal protection","yes","yes","Wet winding, dry winding / Infusion, prepreg, thermoplastic fiber placement, hybid technology","Military aircraft incl. A400M, space Technology Demonstrators on full-scale Level (e.g. solid propellant stages)","Latice structures, hybrid sandwich technology","yes","yes","Wet winding, dry winding / Infusion, prepreg, thermoplastic fiber placement, hybid Technology, ceramics and adhesives","Military aircraft incl. A400M, space Technology Demonstrators on full-scale Level (e.g. solid propellant stages), X-38 re-entry Vehicle, IXV","Latice structures, hybrid sandwich technology","yes","yes","Any metal and alloys incl. titanium, aluminum and inconel; Welding (TIG, EB, FSW)","Various space applications (launcher, space craft / satellites) and missile components","Hybrid Technologies, additive manufacturing","yes","yes",0,0,0,0,0,0,0,1,1,1,0,0,1,0,null,null,null,"no","no",null,null,null,"no","no",null,null,null,"no","no",null,null,null,"no","no",null,null,null,"no","no",null,null,null,"no",null,null,null,null,"no","no"," Gimbals, turbo pumps","Ariane 4 & 5",null,"yes","yes","Primary load brackets and attachments; CFRP/Titanium helicopter transmission shafts","Ariane 5 and 6, helicopters","Additive manufacturing (powder based, direct Energy, add. friction steer welding)","yes","yes","Heat shields and other thermal protection, motor cases,\nfuel tank systems\nnozzles","IRIS-T, Taurus and various space applications",null,"yes","yes",null,null,null,"no","no",null,null,null,"no","no","Primary and secondary aerostructures in various forms and sizes (up to 6m diameter)","Various global space launcher and applications, Military Aircraft (e.g. A400M, Dornier 728)","Advanced composites and friction steer welded metallics","yes","yes",null,null,null,0,0,1,0,0,0,0,0,"Primary and secondary aerostructures in various forms and sizes (up to 6m diameter)","Ariane 5 (e.g. front-skirt - the \"wing box\" of A5 launcher), missile tank systems","Robotic full automation","yes","yes",null,null,null,"no","no",null,null,null,"no","no",null,null,null,"no","no",null,null,null,"no","no",null,null,null,"no","no",0,0,0,0,0,0,0,null,null,null,"no","no",null,null,null,"no","no",null,null,null,"no","no",null,null,null,"no","no",null,null,null,"no","no",null,null,null,"no","no",null,null,null,0,0,0,0,1,0,0,0,null,null,null,"no","no",null,null,null,"no","no","Various rotative engine components (blades, blisks, rings, …)","Rolls-Royce, MTU, SNECMA, ...","Additive manufacturing","yes","yes",null,null,null,"no","no",null,null,null,"no","no",null,null,null,"no","no",0,0,1,1,0,0,0,0,1,0,null,null,null,"no","no",null,null,null,"no","no","Focused on processes and Special applications (x-ray, eddy current, ultrasonic, dye penetrant, acoustic Emission, shearography, automated optical Surface inspection","Special tooling for various space launcher applications","Fully automated eddy current testing","yes","yes","Various aerospace qualified high precision large scale machining capabilities/capacities;\nDefinition and design of Special application machining and tooling (e.g. 3m Diameter flow forming, fully automated FSW welding and milling portals)","Machining and tooling for the production of primary structural components ","Advanced welding Technologies, additive FSW for large panels and skins","yes","yes",null,null,null,"no","no",null,null,null,"no","no",null,null,null,"no","no",null,null,null,"no","no","Special application machining and tooling (e.g. 3m Diameter flow forming, fully automated FSW welding and milling portals)","Machining and tooling for the production of primary structural components ","Advanced welding Technologies, additive FSW for large panels and skins","no","no",null,null,null,"no","no",0,0,0,null,null,null,"no","no",null,null,null,"no","no",null,null,null,"no","no",1,0,"System engineering, requirements and verification management, cost engineering, analysis and simulation  (structural response analysis, damage tolerance and fracture control, thermal Analysis, Fluidics, fluid structure interaction, RAMS analysis, detailed design development, jigs and tools development and definition","Various launcher and space craft /satellite tanks and structures, water & waste tanks, various aircraft aerostructures","Design for additive manufacturing; Partner to NASA game changing program for lightweight structures",1,1,null,null,null,"no","no",1,"Metal, CFRP and hybrid tanks of various sizes\nPropellant tanks (gas and fluid and solid), potable water and waste tanks\nVarious Airbus aircraft, Dassault Business jets and various satellites and space launcher","CFRP embedded sensors","yes","yes"]
["MTU Aero Engines AG",1,1,1,0,"coatings in engine applications  für u.a. :\nErosion-, Oxidation-, Sulfidationcoatings, thermal barriercoatings und further more  ","RB199, EJ200, MTR390, TP400","coatings for further improvement of engine performances and weight, as well as Reduction of Life Cycle Cost","yes","no","Carbon Fibre, ceramic matrix composits","TP400","for further improvement of engine performances and weight","yes","no","Carbon Fibre, ceramic matrix composits","TP400",null,"yes","yes",null,null,null,"no","no",1,1,1,1,1,0,1,1,0,0,1,1,1,1,"all kind of active electronic components within the engine control and monitoring system ","RB199, EJ200, MTR390, TP400","reduction of size and weight,\nimprovements of performance of electronic components","yes","yes","for controlling an engine, several actuators are necessary. ",null,"more electrical engine with more electrical actuators","yes","yes","engines are needing bearings which have to reliably operate in hostile and server environment ","RB199, EJ200, MTR390, TP400",null,"yes","yes","all kind of electronic components within the engine control and monitoring system ","RB199, EJ200, MTR390, TP400","reduction of size and weight,\nimprovement of performance of electronic components","yes","yes","all kind of electronic conectors within the engine control and monitoring system ","RB199, EJ200, MTR390, TP400",null,"yes","yes",null,null,null,"no",null,"lighting strike protection for engine and engine control and monitoring system","RB199, EJ200, MTR390, TP400",null,"yes","yes","all mechanical components necessary for engine. A more detailed Definition of \"mechanical component\" is needed","RB199, EJ200, MTR390, TP400",null,"yes","yes",null,null,null,"no","no",null,null,null,"no","no","all kind of passive electronic components within the engine control and monitoring system ","RB199, EJ200, MTR390, TP400","reduction of size and weight,\nimprovements of performance of electronic components","yes","yes","all kind of sensors, transduceder and detectors within the engine control and monitoring system ","RB199, EJ200, MTR390, TP400","reducing size and weight of sensors etc. and improving reliability of such components","yes","yes","all structural components necessary for engine. A more detailed Definition of \"structural component\" is needed.","RB199, EJ200, MTR390, TP400",null,"yes","yes","all kind of valves (air, oil, fuel)  necessary for engine. ","RB199, EJ200, MTR390, TP400",null,0,0,0,0,0,0,0,0,null,null,null,"no","no",null,null,null,"no","no",null,null,null,"no","no",null,null,null,"no","no",null,null,null,"no","no",null,null,null,"no","no",1,0,1,0,0,0,0,"all avionic components for engine control and cockpit indications","RB199, EJ200, MTR390, TP400",null,"yes","yes",null,null,null,"no","no","all data necessary for engine control and monitoring","RB199, EJ200, MTR390, TP400",null,"yes","yes",null,null,null,"no","no",null,null,null,"no","no",null,null,null,"no","no",null,null,null,0,0,0,1,1,1,1,1,null,null,null,"no","no","in current engine configurations, the engine has to provide the electrical power.","RB199, EJ200, MTR390, TP400",null,"yes","yes","all kind of components for engines","RB199, EJ200, MTR390, TP400","broad spectrum of Innovation outlook of the complete set of  an complete engine ","yes","yes","self explanatory for an engine manufacturer","RB199, EJ200, MTR390, TP400","broad spectrum of Innovation outlook of a complete engine ","no","no","engine related part of the complete fuel system",null,null,"yes","yes","all parts/components  of the power transmission/ power off take  related to engine.","RB199, EJ200, MTR390, TP400",null,"yes","yes",1,1,1,1,1,1,1,1,1,1,"all relevant parts of enignes are designed and manufactured based on CIM Technologies.",null,"CIM will be enforced by approaches digitalisation Technologies ","yes","yes","necessary for all aspects of logistics along life cycle on engine, component and parts level.",null,"step by step handling equipment will be defined and used in the frame of digitalisation ","yes","yes","necessary for all aspects of logistics along life cycle on engine, component and parts level.",null,"step by step inspection equipment will be defined and used in the frame of digitalisation ","yes","yes","machining is part of manufacturing and repair Technologies. \nNeed more Explanation!",null,"machining is part of manufacturing and repair Technologies. \nNeed more Explanation!","yes","yes","manufacturing services are part of manufacturing and repair Technologies. \nNeed more Explanation!",null,null,"yes","yes","necessary for all aspects of manufacturing and procurement along life cycle on engine, component and parts level.",null,"step by step measurement will be defined and operated in the frame of digitalisation ","yes","yes","necessary for all aspects of logistics along life cycle on engine, component and parts level.",null,"step by step production equipment will be defined and used in the frame of digitalisation ","yes","yes","well established technology to influence locally characteristic of a part. ",null,"further improvement of Surface treatement Technology, in future subject of Simulation.","yes","yes","necessary for all aspects of logistics along life cycle on engine, component and parts level.",null,"step by step tooling will be defined and used in the frame of digitalisation ","yes","yes","tools is a General Expression to support processes along the complete life cycle of an engine. ",null,"tools is a General Expression to support processes along the complete life cycle of an engine. More and more this is subject of digitalisation","yes","yes",0,1,0,null,null,null,"no","no","test equipment is mandatory to validate product or technologies. ",null,"test equipment is mandatory to validate product or technologies. Aspects of digitalisation will be incorporated also in test equipment","yes","yes",null,null,null,"no","no",0,1,null,null,null,0,0,"training of special skills for engine is mandatory for design, manufacting and operating of engines. Development of Simulation tools and the application is essential of a safe engine Operation,  ",null,"In particular simulation is a fast growing field to ease training. ","yes","yes",0,null,null,"no","no"]
["NG LITEF GmbH",0,0,1,0,null,null,null,"no","no",null,null,0,0,null,"Navigation Solutions based Fiber Optical (FOG) and Micro Electro Mechanical (MEMS) Technology","Planar structure transfer (wafer process)\n\nModern optics (laser optics, fiber optics, integrated optics)\n\nMEMS (wet chemical and dry etching to the sensor chip manufacturing, wafer bonding process)\n\nElectronics (analog and digital circuits, signal processing)\n\nConstruction and connection technology (optics, optoelectronics, microelectronics)\n",0,0,null,"Navigation Solutions for Military Environment and different Performance categories",null,null,null,null,0,0,0,0,0,0,0,0,0,0,0,0,0,0,null,null,null,null,null,null,null,null,0,0,null,null,null,0,0,null,null,null,0,0,null,null,null,0,0,null,null,null,0,null,null,null,null,0,0,null,null,null,0,0,null,null,null,0,0,null,null,null,0,0,null,null,null,0,0,null,null,null,0,0,null,null,null,0,0,null,null,null,0,0,0,0,0,0,0,0,null,null,null,0,0,null,null,null,0,0,null,null,null,0,0,null,null,null,0,0,null,null,null,0,0,null,null,null,0,0,1,0,0,0,1,0,0,"Accelerometers and Angular Rate Sensors,\nInertial Measurement Units (IMUs),\nAttitude & Heading Reference Systems (AHRS) and\nNavigation systems including integration with GPS for Military use\n","Accelerometers and Angular Rate Sensors,\nInertial Measurement Units (IMUs),\nAttitude & Heading Reference Systems (AHRS) and\nNavigation systems including integration with GPS for Military use\n","Based on MEMS and FOG Technology advanced products in higher performence classes",0,0,null,null,null,0,0,null,null,null,0,0,null,null,null,0,0,"siehe Avionic Components",null,null,0,0,null,null,null,0,0,0,0,0,0,0,0,null,null,null,0,0,null,null,null,0,0,null,null,null,0,0,null,null,null,0,0,null,null,null,0,0,null,null,null,0,0,0,0,0,0,0,0,0,0,0,0,null,null,null,0,0,null,null,null,0,0,null,null,null,0,0,null,null,null,0,0,null,null,null,0,0,null,null,null,0,0,null,null,null,0,0,null,null,null,0,0,null,null,null,"no","no",null,null,null,"no","no",0,0,0,null,null,null,0,0,null,null,null,"no","no",null,null,null,"no","no",0,0,null,null,null,0,0,null,null,null,0,0,null,null,null,null,"no",0,null,null,"no","no"]
["Nord-Micro",0,0,0,0,null,null,null,"no","no",null,null,null,"no","no",null,null,null,"no","no",null,null,null,"no","no",0,0,0,1,0,0,0,1,0,0,0,1,0,1,null,null,null,"no","no",null,null,null,"no","no",null,null,null,"no","no","Design and Manufacturing of Black Boxes (Controller, Motor Driver etc.)  including PWB Assembly and Test",null,null,"yes","yes",null,null,null,"no","no",null,null,null,"no",null,null,null,null,"no","no","Machining and surface treatment of castings/hog Outs and Final Assembly and Test  ",null,null,"yes","yes",null,null,null,"no","no",null,null,null,"no","no",null,null,null,"no","no","Pressure Sensors for flight control application",null,null,"yes","yes",null,null,null,"no","no","Design and Manufacturing of actuated/non-actuated low pressure valves",null,null,1,1,0,0,0,0,0,0,null,null,null,"no","no",null,null,null,"no","no",null,null,null,"no","no",null,null,null,"no","no",null,null,null,"no","no",null,null,null,"no","no",1,0,0,0,0,0,0,"Flight Control for Tiger Helicopter, various initial production controllers for Eurofighter, Aird data Computer for Airbus A310",null,null,"yes","yes",null,null,null,"no","no",null,null,null,"no","no",null,null,null,"no","no",null,null,null,"no","no",null,null,null,"no","no",null,null,null,0,0,0,0,1,0,0,0,null,null,null,"no","no",null,null,null,"no","no","Tubes, mechanical assemblies for engines",null,null,"yes","yes",null,null,null,"no","no",null,null,null,"no","no",null,null,null,"no","no",1,0,1,1,0,1,1,1,0,0,"Full design and manufacturing capability for electronic and mechanical components",null,null,"yes","yes",null,null,null,"no","no","All types of insppection equipment",null,null,"no","no","all type of machining for small and medium sized components",null,null,"no","no",null,null,null,"no","no","3D measurement Equipment, AOI etc.",null,null,"no","no","All type of Equipment for electronic and mechanical production",null,null,"no","no","Anodizing ",null,null,"no","no",null,null,null,"no","no",null,null,null,"no","no",0,1,0,null,null,null,"no","no","Testers for our OE products for AM purposes",null,null,"yes","no",null,null,null,"no","no",0,0,null,null,null,0,0,null,null,null,"no","no",0,null,null,"no","no"]
["OHB System, AG",0,0,0,0,null,null,null,"no","no",null,null,null,"no","no",null,null,null,"no","no",null,null,null,"no","no",0,0,0,0,0,0,0,0,0,0,0,1,0,0,null,null,null,"no","no",null,null,null,"no","no",null,null,null,"no","no",null,null,null,"no","no",null,null,null,"no","no",null,null,null,"no",null,null,null,null,"no","no",null,null,null,"no","no",null,null,null,"no","no",null,null,null,"no","no",null,null,null,"no","no","EO/IR-, Hyperspectral- and SAR (radar-technology) Sensors","e.g. SAR-Lupe, MTG (IR-Spectroscopy), EnMap (hyperspectral imaging), ExoMars (High resolution imaging)","Super-Spektral-Sensors, Bi-Statical & Passive Radar (SAR) Sensors","yes","yes",null,null,null,"no","no",null,null,null,0,0,0,0,0,0,0,0,null,null,null,"no","no",null,null,null,"no","no",null,null,null,"no","no",null,null,null,"no","no",null,null,null,"no","no",null,null,null,"no","no",0,1,1,0,0,0,0,null,null,null,"no","no","Reliable High Rate Data Link for airborne multisensor data. \nVery High Secure Command and Control Links.\nReliable and Secure World Wide Data Communication via SatCom. \nHigh Rate End to End Encryption.","BAAINBw Projects eg. D-WERDAS, Agile UAV, SAR-Lupe, SatComBw2","Robust, covered and secure high rate air to air and air to ground network data link system\nProtected Data Communication via SatCom","yes","yes","Realtime On-Board Sensor-Data- Management & -Processing-System for Hyperspektral-, EO-, IR- & SAR-Image Data including external e.g. Sat Reconnaissance sensor data.\nOn-Board Sensor-Data-Fusion inkl. Target Detection & Recognition.\nOn-Board Situational Awareness incl. AI-based predictive capabilities","BAAINBw Contracts in FCAS Masterplan Program\n","Realtime On-Board Sensor-Data- Management & -Processing-System for Hyperspektral-, EO-, IR- & SAR-Image Data including external e.g. Sat Reconnaissance sensor data.\nOn-Board Sensor-Data-Fusion inkl. Target Detection & Recognition.\nOn-Board Situational Awareness incl. AI-based predictive capabilities","yes","yes",null,null,null,"no","no",null,null,null,"no","no",null,null,null,"no","no",null,null,null,0,0,0,0,0,0,0,0,null,null,null,"no","no",null,null,null,"no","no",null,null,null,"no","no",null,null,null,"no","no",null,null,null,"no","no",null,null,null,"no","no",0,0,0,0,0,0,0,0,0,0,null,null,null,"no","no",null,null,null,"no","no",null,null,null,"no","no",null,null,null,"no","no",null,null,null,"no","no",null,null,null,"no","no",null,null,null,"no","no",null,null,null,"no","no",null,null,null,"no","no",null,null,null,"no","no",0,0,0,null,null,null,"no","no",null,null,null,"no","no",null,null,null,"no","no",0,0,null,null,null,0,0,null,null,null,"no","no",0,null,null,"no","no"]
["OTTO FUCHS KG",0,1,0,1,null,null,null,"no","no","Structure parts, Fuselage, Wing, ...",null,"braided structural parts","yes","yes",null,null,null,"no","no","Aluminum, Titanium, Nickel parts (Structure & Engine)","Airbus, Boeing, Bombardier, Embraer, Gulfstream, BAE, Lockheed, MTU, SAFRAN, Rolls-Royce, Pratt&Whitney",null,"yes","yes",0,0,0,0,0,0,0,0,0,0,0,0,1,0,null,null,null,"no","no",null,null,null,"no","no",null,null,null,"no","no",null,null,null,"no","no",null,null,null,"no","no",null,null,null,"no",null,null,null,null,"no","no",null,null,null,"no","no",null,null,null,"no","no",null,null,null,"no","no",null,null,null,"no","no",null,null,null,"no","no","Frame, Wing, Landing Gear Nacelle, Engine","Airbus, Boeing, Bombardier, Liebherr, Embraer, Gulfstream, BAE, Lockheed",null,"no","no",null,null,null,0,0,0,0,0,0,0,0,null,null,null,"no","no",null,null,null,"no","no",null,null,null,"no","no",null,null,null,"no","no",null,null,null,"no","no",null,null,null,"no","no",0,0,0,0,0,0,0,null,null,null,"no","no",null,null,null,"no","no",null,null,null,"no","no",null,null,null,"no","no",null,null,null,"no","no",null,null,null,"no","no",null,null,null,0,0,0,0,1,0,0,0,null,null,null,"no","no",null,null,null,"no","no","Forged and Ringrolled Rings, Discs, OGV, SGV","MTU, SAFRAN, Rolls-Royce, Pratt&Whitney",null,"no","no",null,null,null,"no","no",null,null,null,"no","no",null,null,null,"no","no",0,0,0,0,0,0,0,0,0,0,null,null,null,"no","no",null,null,null,"no","no",null,null,null,"no","no",null,null,null,"no","no",null,null,null,"no","no",null,null,null,"no","no",null,null,null,"no","no",null,null,null,"no","no",null,null,null,"no","no",null,null,null,"no","no",0,0,0,null,null,null,"no","no",null,null,null,"no","no",null,null,null,"no","no",0,0,null,null,null,0,0,null,null,null,"no","no",0,null,null,"no","no"]
["P3 GmbH",null,null,null,null,null,null,null,null,null,null,null,null,null,null,null,null,null,null,null,null,null,null,null,null,null,null,null,null,null,null,null,null,null,null,null,null,1,null,null,null,null,null,null,null,null,null,null,null,null,null,null,null,null,null,null,null,null,null,null,null,null,null,null,null,null,null,null,null,null,null,null,null,null,null,null,null,null,null,null,null,null,null,null,null,null,null,null,null,null,null,null,null,null,null,null,null,null,null,"Architecture, Design, Stress and Fatigue analysis of Aircraft structural components (Primary and Secondary Structure such as fuselage, wings, High-Lift systems / Flaps / Slats, Empennage, Vertical Tail Plane, Horizontal Tail Plane, Secondary structure)\nwith implementation of innovative development processes and solutions such as Parametric Design and Design Automation.\nExample of projects where innovative processes and solutions were applied: \n•\tEurofighter Centre Box Development\n•\tBELUGA XL Floor to Floor\n","•\tEurofighter Tranche 4 Stress justification and Certification Dossier\n•\tBELUGA XL Design, Stress and FDT (Application of Parametric Design approach and Design and Stress Automation tools)\n•\tMain structure engineering supplier of Premium AEROTEC in Germany (A350, Single-Aisle family such as A320, A319, A320Neo and A321, Long-Range and A400M programs)\n•\tMain structure engineering supplier of Stelia in France (Single-Aisle family such as A320, A319, A320Neo and A321 and Long-Range program (A300, A300Neo).\n•\tAll major OEMs primary & secondary components\n","•\tUAV for Aerial photography\n•\tDesign Automation Approach including Manufacturing\n•\tP3 DIGILAB (multidisciplinay A/C development)\n","yes","yes",null,null,null,null,null,1,1,null,null,null,null,"•\tAircraft Assembly / factory and process planning\n•\tEnd-to-End Non-Conformity process\n","•\tBELUGA XL Floor to Floor primary structure\n•\tA320/A321/A320 Neo Nose, Center, Forward and Aft Fuselage assembly\n","•\tTablet solutions for in service and Aircraft assembly \n•\tAssembly Process / Time-Optimization\n•\tPredictive Change & Industrial Impact Analysis\n","yes","yes","Currently over 200 engineers working for End-to-End Cabin activities (Cabin Products New Development / Cabin Customization) for all Airbus civil aircraft types. All relevant cabin interior topics are covered by our company (e.g. Engineering, Cabin Modification, Cabin systems and monuments Integration, Production and Production support, Supply Chain Management and coordination, etc...) ","Engineering services related to Cabin Interiors. Current involvement of P3 on all Airbus Commercial aircraft (Single Aisle family, Long-Range family, A350, A380):\n•\tSeats, Seat Power & IFE\n•\tCabin Systems\n•\tCabin Electronics\n•\tCabin Cargo\n•\tFloor 2 Floor\n•\tLavatories & Galleys\n","Emergency Equipment: \n•\tHALON ALTERNATIVE FIRE EXTINGUISHER (HAFEX) \n•\tNew Survival Kit\n•\tNew Axe\n•\tEtc,…\n","yes","yes",null,null,null,null,null,null,null,null,null,null,null,null,null,null,null,null,null,null,null,null,null,null,null,null,null,null,null,null,null,null,null,null,null,null,null,null,null,null,null,null,null,null,null,null,null,null,null,null,null,null,null,null,null,null,null,null,null,null,null,null,null,null,null,null,null,null,null,null,null,null,null,null,null,null,null,null,null,null,null,null,null,null,null,null,null,null,null,null,null,null,null,null,null,null,null,null,null,null,null,null,null,null,1,null,null,null,1,null,null,null,null,null,null,null,null,null,null,null,null,null,null,null,null,null,null,null,null,null,"•\tIndustrial Process Design (Process, technology, MBSE, ...)\n•\tWork Preparation\n•\tJig & Tools concept / specifications to Manufacturing\n•\tShop Floor support\n•\tLean / Production efficiency\n•\tTime calculation\n","•\tAirbus Group preferred Manufacturing Engineering supplier (13M€/year)\n•\tAirbus Group Preferred supplier for Ground Support Equipment (2M€/year)\n•\tComposites manufacturing for Stelia Composites\n•\tGSE Design and data Migration for Dassault Aviation\n•\tDassault Aviation production support\n","•\t3D Print processes qualification\n•\tRobotics definition & implementation\n•\tSmart Tools definition & implementation\n•\tDigital data continuity\n•\tAutomation\n","yes","yes",null,null,null,null,null,null,null,null,null,null,null,null,null,null,null,"P3 is a preferred / Tier1 supplier for Airbus Commercial and Airbus Defence and Space in the area of Jig & Tools Onsite Engineering, Management and Manufacturing Engineering support. \nIn addition to this Jig & Tools Frame Contract, in 2013 P3 has been selected by Airbus Group as a Master Supplier for the delivery of Ground Support Equipment tools and test rigs to be used by Airlines and MRO during aircraft maintenance, refurbishment and retrofit activities. P3 supports all Airbus design offices in Spain, France, Germany and UK, including onsite support. \n","•\tDesign and manufacturing of automated Assembly (Handling, Lifting, Turning devices)\n\n•\tDesign and manufacturing of Production (Forming, Trimming, Curing, Fastening, Riveting, Sealing) and Inspection means\n\n•\tSuspension tools\n•\tSemi-automatic stations\n•\tAutomatic stations\n•\tElevator Assembly Cell Design\n•\tWing Stringers Production Cell\n•\tSpacecraft Assembly, Station design\n•\tFull scale Test rigs\n•\tTrolleys\n•\tLifting Systems / devices\n•\tVaccum Heat Bonding Tool\n•\tTorsion boxes\n•\tACT RI ASSY\n•\tBar Support RI THSA\n•\tRI Pylon\n•\tWeight support during repair operations\n•\tPCE Leak Test Set\n•\tBar support\n\n",null,"yes","yes",null,null,null,null,null,null,1,1,null,null,null,null,null,"P3 operates an own electronics and metalworking workshop offering following products: \n•\tP3 Universal Test Board originally designed and produced for internal use, meanwhile sold to customers in three-digit quantities \n•\tP3 Test Racks for automated tests, HiL testing \n•\tP3 Measuring Box for Charging processes\n•\tP3 Mobile Testing setups\n\nP3 MediaWorld offers media sets for validation: \n•\tP3 Master media Set\n•\tP3 USB Technik Set\n•\tP3 Master SD Set\n•\tP3 Bluetooth Set\n•\tCustomer specific sets of latest devices (e.g. premium devices like Apple, Samsung but also devices like Xiaomi etc.)\n\n P3 offers within the test center infrastructure a protected automotive prototype test center:\n•\t400V/32A for the operation of 11kW chargers\n•\tHigh speed network connection \n•\tVisual protection by blinds, access control and electronically controlled gates\n","•\tDaimler AG\n•\tDaimler Greater China Ltd. \n•\tMercedes Benz Research  & Development India \n•\tMercedes Benz Research & Development North America \n•\tVolkswagen AG\n•\tSEAT\n•\tHarman Becker Automotive Systems GmbH\n•\tMBTech Group GmbH & Co. KGaA\n•\tVisteon Electronics GmbH\n•\tRBI GmbH\n",null,"yes","yes","Three main pillars of P3 Systems test services: \n•\tInfotainment testing & Validation\n•\tE-Mobility\n•\tDriver Assistance / ADAS\n\nFurther on: \n•\tEntering embedded Software development \n•\tDrive Testing (e.g. Real Drive Emission tests)\n\nP3 Systems operates at various locations for all major German OEMs test centers. E.g. for Daimler AG P3’s test center is the largest the largest external for Daimler AG:\n•\tTest center area 5.000 m² \n•\t260 desks and >150 work/testing places\n•\tVarious zones with different access authorizations\n•\t3 HiL areas 90 kW electrical power and 30 kW cooling capacity and compressed air supply for each HiL area\n•\tVLANs for projects\n•\t100 MBit/s MPLS connection to OEM network\n•\tHF network for all global radio and TV standards\n•\tCentral component management and update Team Assistance and Facility Management\n","•\tDaimler AG\n•\tDaimler Greater China Ltd. \n•\tMercedes Benz Research  & Development India \n•\tMercedes Benz Research & Development North America \n•\tVolkswagen AG\n•\tSEAT\n•\tHarman Becker Automotive Systems GmbH\n•\tMBTech Group GmbH & Co. KGaA\n•\tVisteon Electronics GmbH\n","•\tEmbedded Software development (currently via JV)\n•\tBig Data Analysis (ongoing improvement) \n","yes","yes",1,null,"Military and Commercial Aircraft:\n•\tExpertise with all Airbus Aircraft (civil and military) in Engineering, Manufacturing Engineering, Logistics and PM\n•\tMilitary Aircraft Development (Structure / Systems / HW / SW), Operations experience and in-service support\n•\tStrong Footprint on A400M development and certification\n•\tInvolvement on Eurofighter, Tornado and other European Fighters\n•\tHands-on expertise in modifying flying aircraft (DO21J.469)\n•\tUnique positioning on FCAS (Political Marketing, Connectivity, Requirements Management, Big Data/Analytics, Design Automation)\n\n\n\nSecured Communications, Intelligence,\nIT and Cyber Security: \n\n•\tDevice Testing and IoT\n•\tNetwork Benchmarking & Optimization\n•\tCrowdsourcing\n•\tConsulting and Cyber Security\n•\tHardware Development\n•\tSystems Connectivity\n\nDigital Transformation, Analytics and Automated Solutions:\nEngineering and Digital Transformation using automation capabilities to develop and enhance robust and reliable E2E processes from requirements, engineering down to manufacturing engineering.\n•\tAnalytics developments of predictive and prescriptive solutions supporting both forward and backward analytical approaches. P3 is deeply involved within Airbus Configuration Management departments to develop tools that are currently deployed in Skywise (Palantir), creating a data lake using the complete data availability from product requirements to in-service data\n\n\n\n","•\tA400M\n•\tEurofighter\n•\tTornado\n•\tBeluga XL\n•\tAll Airbus Commercial aircraft (A320, A321, A319, A320Neo, A350, A380, A330, A330Neo, A340)\n•\tATR72, ATR92\n•\tAll Airbus Helicopters family (Civil and military rotorcrafts)\n•\tDassault Falcon aircraft (F7X, F8X, F5X)\n•\tDassault Rafale Fighter\n•\tEmbraer E-Jets\n","•\tParametric Design\n•\tDesign and Stress automation tools\n","yes","yes"]
["PFW Aerospace GmbH",0,1,1,0,null,null,null,"no","no","- High temperature Composites 900 Grad Tg compliant with ISO2685 . No smoke Emission, no flame Perforation\n- Stealth Composites Structural stealth materials\n - 20db Absorption thin ","M346 ",null,"yes","yes","Thermoplastic forming, bending and joining (e.g. welding and glueing)","A350 Piping","Pipes, Ducts, Fuel Tanks","no","no",null,null,null,"no","no",0,0,0,0,0,0,0,1,1,0,0,0,1,0,null,null,null,"no","no",null,null,null,"no","no",null,null,null,"no","no",null,null,null,"no","no",null,null,null,"no","no",null,null,null,"no",null,null,null,null,"no","no","More than 200 qualified production processes for manufacturing of:\n- Ducting, Piping, Couplings, -Locks (Cargo Compartment), -Cargo Loading Systems, -Additional Fuel Tanks\n- Flaps","Additional Fuel Tanks for MRTT\n- Additional Fuel Tanks for Tornado (drop down)\n- Flaps for Airbus Single Aisle Aircrafts","- Additional Fuel Tanks thermoplastic and composite \n- High temperature compoiste ducts\n- High pressure Composite tubes","yes","yes","Machining and surface treatment for:\n- Connectors and Fittings for fluid systems\n","Airbus civil aircrafts","Substitution of metallics by thermoplastics","yes","yes",null,null,null,"no","no",null,null,null,"no","no",null,null,null,"no","no","Single part manufacturing:\n- forming\n- machining\n- surface Treatment\n\nAssembly and joining of major components","A400M APU Compartment\n- A400M Cargo Floor Structure\n- A320 Belly Fairing\n- A321 Inner Board Flap\n- Various legacy sub-structures\n- Additional Fuel Tanks for millitary and civil applications\n","- Stealth Composites Structural stealth materials\n - 20db Absorption thin ","yes","yes",null,null,null,0,0,0,0,0,1,0,0,null,null,null,"no","no",null,null,null,"no","no",null,null,null,"no","no","Please see chapter \"Components\"","Please see chapter \"Components\"","Please see chapter \"Components\"","yes","yes",null,null,null,"no","no",null,null,null,"no","no",0,0,0,0,0,0,0,null,null,null,"no","no",null,null,null,"no","no",null,null,null,"no","no",null,null,null,"no","no",null,null,null,"no","no",null,null,null,"no","no",null,null,null,0,0,0,0,0,0,1,0,null,null,null,"no","no",null,null,null,"no","no",null,null,null,"no","no",null,null,null,"no","no","Please see chapter \"Components\"","Please see chapter \"Components\"","Highly resistive pipes\nDouble wall pipes","yes","yes",null,null,null,"no","no",0,0,0,1,0,0,0,1,0,0,null,null,null,"no","no",null,null,null,"no","no",null,null,null,"no","no","Machining of plates, bars and profiles \n- Hard metal machining\n- 5 axis milling and turning\n- High automized machine shop (milling)","- Seatrails\n- Floor chanels\n- Various components",null,"yes","yes",null,null,null,"no","no",null,null,null,"no","no",null,null,null,"no","no","NADCAP certified for various surface treatment processes","Parts within the PFW products (small, medium and big parts as assemblies",null,"yes","yes",null,null,null,"no","no",null,null,null,"no","no",0,0,0,null,null,null,"no","no",null,null,null,"no","no",null,null,null,"no","no",1,0,"Engineering competencies in:\n- Technology development\n- Manufacturing Engineering\n- Jigs and Tools\n- Design, Stress and Testing","- Various Airbus and Boeing civil aircrafts\n- A400M",null,1,1,null,null,null,"no","no",0,null,null,"no","no"]
["Philotech Group",0,0,0,0,null,null,null,"no","no",null,null,null,"no","no",null,null,null,"no","no",null,null,null,"no","no",0,0,0,0,0,0,0,0,0,0,0,0,0,0,null,null,null,"no","no",null,null,null,"no","no",null,null,null,"no","no",null,null,null,"no","no",null,null,null,"no","no",null,null,null,"no",null,null,null,null,"no","no",null,null,null,"no","no",null,null,null,"no","no",null,null,null,"no","no",null,null,null,"no","no",null,null,null,"no","no",null,null,null,"no","no",null,null,null,0,0,0,0,0,0,0,0,null,null,null,"no","no",null,null,null,"no","no",null,null,null,"no","no",null,null,null,"no","no",null,null,null,"no","no",null,null,null,"no","no",0,0,0,0,0,0,0,null,null,null,"no","no",null,null,null,"no","no",null,null,null,"no","no",null,null,null,"no","no",null,null,null,"no","no",null,null,null,"no","no",null,null,null,0,0,0,0,0,0,0,0,null,null,null,"no","no",null,null,null,"no","no",null,null,null,"no","no",null,null,null,"no","no",null,null,null,"no","no",null,null,null,"no","no",0,0,0,0,0,0,0,0,0,0,null,null,null,"no","no",null,null,null,"no","no",null,null,null,"no","no",null,null,null,"no","no",null,null,null,"no","no",null,null,null,"no","no",null,null,null,"no","no",null,null,null,"no","no",null,null,null,"no","no",null,null,null,"no","no",0,0,1,null,null,null,"no","no",null,null,null,"no","no","Testing, verification& validation of electronic systems; low level, High level testing, V&V of Software; integration testing, regression testing; assistance in flight tests evaluation. Assistance in certification acc. to EASA regulations.","Projects: \nEurofighter, Tornado, A400M, P3 Orion, E4A, A3xx; \nSystems: Radio and Radio Monitoring Systems, Nav Systems, Flight Control Systems, Avionic Systems, Ground Test Systems, Mission Planning Systems etc.","Closed cooperation with universities, instituts  in developing new test concepts and strategies.","yes","yes",1,1,"Systems Engineering Services: \n•  Model based System Engineering, \n•  Development, Integration and Test Support \nSoftware Engineering:\n•  Embedded, real-time, \n•  safety-critical software \n•  Visualization & Simulation \n•  HMI \n•  Full lifecycle expertise\n•  Agile methods and tools\nVerification & Validation:\n•  Software Test Consulting & Engineering \n•  IVV (Independent V&V)\n•  System/Software Integration Tests \n•  Trainings and Seminars\nSafety and Security:\n•  Safety and Security Concepts\n•  Certification Support\n•  Support and conduct Safety Assessment Activities\n•  Guidance and Training\nSupport Engineering:\n•  Integrated Logistic Support (ILS) \n•  Logistic Support Analysis (LSA)  & Life Cycle Management (LCM)\n•  RAMSST Analyses (Reliability, Availability, Maintainability, Safety, Security, Testability)\n•  Scheduled Maintenance Analysis (SMA,  MSG-3, RCM)\n•  Technical Documentation\n•  Life Cycle Cost Analyses (LCC), \n•  Pricing and Spare parts calculation and optimization\n\nFlight Physics, Aerodynamics:  \n•  Concepts, Software development, Test Evaluation\nConfiguration Management:\n- System and Software CM and Control\nPLM, Product Life Cycle Management: \n- Consulting\n- Software / Data Base Development\n\n\n\n","Companies: Airbus DS, Eurofighter GmbH, Hensoldt, Liebherr, Diehl Aerospace, AOA, RollsRoyce, Rockwell Collins, Northrop Grumman, Elektrometall, Thales Alenia, Lufthansa Technik, BMW, VW, Audi etc.\nSystems: \n-  Flight Control System\n-  Avionic\n-  Navigation\n-  Onboard Systems\n-  Ground Test Systems \n- Simulation Systems\n","- Inflight Entertainment System (Moving Map Software)  “FlightScout\" \n- Image Generation Software (PhiloSim) \n- ILS/LSA product: ASSET3000 (maintence planning, optimization of maintenance concepts (according to latest Standard ASD3000)\n- Mass Management Tool (M3)",1,1,"•  System & SW Specification, Interface Requirements and Design of Flight Simulators, Flight Trainings Devices\n(Desktop Trainers up to Full Flight & Mission Simulators Level D), including Operating/Mission Planning System, \n•  Software Development of Simulation Models, SW Integration and Testing\n•  GUI and Tool Development for the Mission Planning \n•  System Integration and Acceptance Testing \n","•  Eurofighter (EF) Aircrew Synthetic Training Aids (ASTA) Simulation system\n•  EF Maintenance Simulator Trainer MST\n•  Eurofighter (EF) Virtual Maintenance Trainer VMT\n•  Tiger Helicopter Virtual Maintenance Trainer TMT, VMT\n•  Crew Escape System Safety Trainer \n•  EF Interim Training Device ITD\n•  Mission Support System for EF, Tornado\n•  Simulator PC-21\n","FlightScout: \nthe fully configurable In-flight Entertainment System incl.  \n•  3D graphical representation of landscape and camera view around aircraft Moving Map Application Framework\n•  Real-time visualization of the current flight\n•  Platform-independent architecture\n•   Innovative rendering algorithms\n\nPhiloVis:\nthe 3D Terrain Visualization for Flight Simulators and Moving Map Applications\n•  High performance graphic engine. \n•  Certified Visual system for civil and military flight training.\n•  Supports multiple models for Terrain (2D and 3D)\n•  Realistic weather conditions\n•  Visual-, IR-, Radar- Images and scenes \n•  Multi-channel projection\n","yes","yes",0,null,null,"no","no"]
["Premium Aerotec GmbH",1,1,0,1,"In the frame of surface protection of metal (aluminium, titanium steel…) and non metal (CFRP, GFRP…) structures, assemblies and mechanical systems, PAG is qualified for all WP (Airbus commercial, Airbus DS, Pilatus…) to apply all ","Paint Systems applied on Internal Painting, Fuel Tank coating, External Painting. Galvanic Protection for metal materials for Aluminium and its alloys, Titanium and its alloys, Copper and its alloys, Nickel and its alloys, Exceptionally, iron alloys are divided in two groups: Steel and CRES. Available galvanic protection processes for metal materials for Chromic Acid Anodising (CAA), Sulphuric Acid Anodising (SAA), Hard Sulphuric Acid Anodising (HSA), Chemical Conversion Coating (CCC), Tartaric Sulphuric Anodising (TSA), Phosphoric Sulphuric Acid Anodising (PSA), Phosphating (Zn or Mn), Zinc Plating, Aluminium IVD (Ion Vapour Deposition).","In the frame of environmental and health protection requirements, PAG is progressing for a e.g. cadmium free policy by incorporating Aluminium IVD (Ion Vapour Deposition) as a potential cadmium. Replacement technology for Zinc-Nickel-plating as a potential cadmium replacement technology. Development of LO and radarabsover coating for fighter.","yes","yes","Large Structure components up to Section level for A350, A380, Eurofighter, A400: GLARE; Thermoset (duromere, NCF, Prepreg); Thermoplasts (PPS, PEEK, PEKK); VAP","Autoclave process such as Automated fiber placement,  Hand layup, Sandwich design. Out of autoclave process for RTM, Vacuum assisted process (VAP), Thermoplastic processes for shaping parts, overmoulding and thermoplastic welding. Available materials for Prepreg (Thermoset) tapes and fabrics, Non crimped fabrics (dry fiber NCF), Thermoplast materials PEEK, PEKK, PPS. Applied CFRP design project references for  A350 large fuselage shells (Skin up to 14m length in thermoset prepreg tape), Thermoplastic clips and shearwebs for A400M Rear cargo door (VAP), Eurofighter (Airbrake), A380 Flap tracks (VAP and prepreg), A380 inner fixed leading edge (Hand layup).","Development of thermoplastic technology incl. welding  for application in NGF moveables. Thermoplast in combination with Thermoplast welding (also for infield repair), Hybrid structure by overmoulding, Integrated Thermoplast structures (Kevlar, EMP film, fiber transport systems), Bigger surface Thermoplast structures (Cylindrical & double curved), Composite technologies (automatic fiber placement & infusion and automatic fiber placement thermoplastics in-situ consolidation & welding). Development and characterization of LO- and Radome materials for ex.: TRL 6 achievement for structural surface wave absorber material, increased bandwith surface wave absorber material (VHF to Ku band), Precise resistive layer materials, High temperature radar absorber materials, Highly transparent (low e' & e'') skin materials for radar absorbers and radomes, 3D absorber honeycombs and foams, Resistive frequency selective surfaces, low emissive paints and coatings","yes","yes",null,null,null,"no","no","Aluminium, Titan, Steel, Milling, Sheet Metal, Stretch/Roll-Forming, Piping, Welding (Laserbeam, frictionssteer); Additive Manufacturing & 3Dprinting AM (Direct Energy deposition, Pouderbed) ","High cadence strechforming of large A320 family fuselage skin panels, Fuel connector as first flying 3D printed part on A400M refuelling system, High cadence machining capabilities for all PAG projects for large aluminium and titanium parts, Eurofighter center fuselage frames, SA section 15 up to 19.","Development of an affordable, lightweight, easy to maintain an airframe for NGF using advanced metallic such as e.g.: AM technologies: direct energy deposition (DED) & 3D Surfing für surface optimization.","yes","yes",0,0,0,1,0,0,0,1,0,0,0,0,1,0,null,null,null,"no","no",null,null,null,"no","no",null,null,null,"no","no","Electrical Wiring & Looms, distributionbox \nwith Electr. Wiring/Loom, Connectors etc...","Current production for Eurofighter for Center fuselage","Integration of Electr. System direct in Fighter structure","yes","yes",null,null,null,"no","no",null,null,null,"no",null,null,null,null,"no","no","Airbrake (Eurofighter)","Service doors and mechanism for portable water servide panel for A330/A320/A350/Eurofighter airbrake.",null,"yes","yes",null,null,null,"no","no",null,null,null,"no","no",null,null,null,"no","no",null,null,null,"no","no","Fuselage structural parts: Frame, Stringer, Shearwebst, VTP Brackets, Flap tracks, Large Panels, Pressure dome or Rear pressure Bulkhead, Doorsurrounds, Air Intake. Single Parts, Subassemblies, Major Assemblies. Shells, Sections.","Eurofighter components for Center fuselage incl. Air intake, Airbrake, etc..., A320/A350/A380/A400M","Innovative Engineering & Production concepts  for Center fuselage, Connection of Center fuselag to Wings. Integration of Smart structure with integrated Systems in Primary Structur element. Structural Cooling for better Heat management","yes","yes",null,null,null,0,0,1,0,0,0,0,0,"Shells & Sections Level for Civil & Military Aircraft","Eurofighter, A400M, A320/A330/A350/A380","New assembies concepts for Center furselage or wings for NGWS","yes","yes",null,null,null,"no","no",null,null,null,"no","no",null,null,null,"no","no",null,null,null,"no","no",null,null,null,"no","no",0,0,0,0,0,0,0,null,null,null,"no","no",null,null,null,"no","no",null,null,null,"no","no",null,null,null,"no","no",null,null,null,"no","no",null,null,null,"no","no",null,null,null,0,0,0,0,0,0,1,0,null,null,null,"no","no",null,null,null,"no","no",null,null,null,"no","no",null,null,null,"no","no","Fuel Tanks and Fuel supply lines, Hydraulik piping","A400M refuelling system; A320 with Hydraulics, Eurofighter fuel systems",null,"yes","yes",null,null,null,"no","no",1,1,1,1,1,1,1,1,1,1,"Direct numerical control for Single Parts milling manufacturing, based control for Assembly: ex. automated drilling of larger surface panel","used for all Programs: Eurofighter, A320, A380, A350, A400M, Tornado","With implementation of a future digital/automated industry with 1 Platform combining complete computerized manufacturing for Single Parts, Assemblies, logistics over robotics. Implementation of Digital twin systems, augmented reality to crosscheck manufacturing progress of quality.","yes","yes","Database system such as SAP,BDE, system for production prozess controll, etc..."," used for all Programs: Eurofighter, A320, A380, A350, A400M, Tornado","With implementation of a future digital/automated industry with 1 Platform combining complete computerized manufacturing for Single Parts, Assemblies, logistics over robotics. Implementation of Digital twin systems, augmented reality to crosscheck manufacturing progress of quality.","yes","yes","Measure Equipment, MIRA Visualsystem for Assemblies, Ultrasonic inspection, NDT für CFK","used for all Programs: Eurofighter, A320, A380, A350, A400M, Tornado","With implementation of a future digital/automated industry with 1 Platform combining complete computerized manufacturing for Single Parts, Assemblies, logistics over robotics. Implementation of Digital twin systems, augmented reality to crosscheck manufacturing progress of quality.","yes","yes","Milling from Plate/Profile for ex. Frame over NC Programming for material Aluminium, Aluminium/Litium, Titanium, CFK Milling ex. Drilling in Pressuredome, Drillingmachining","used for all Programs: Eurofighter, A320, A380, A350, A400M, Tornado",null,"no","no","After sales; Warehouse & logsitic Center, Material preparation, Procurement, Single Part manufacturing, Surface Treatment, Assemblies, drilling, welding, Logistik, IT","used for all Programs: Eurofighter, A320, A380, A350, A400M, Tornado","See materials & coatings","yes","yes","measurment for 80-M, 80-T, AIPI, AIPS, EN9100 prozess, NDT","used for all Programs: Eurofighter, A320, A380, A350, A400M, Tornado",null,"yes","yes","Machine tool, Milling Machining, \nDrillingmachining, Riveting, Painting/Finishing/Galvanik equipement, Testequiment for Pressure test, measurement tools, CFK automated layersetting, Oven 15m, Laserwelding, Ypsen Oven, 3D DeD/Powderbed laserprinter etc...","used for all Programs: Eurofighter, A320, A380, A350, A400M, Tornado","For use case: 3D Printing 6 larger combined materials","yes","yes","Paintingcabin full equiped with respective tooling, Galvanik: pre-treatment & painting, surface prefinishing","Paintincabin with complete equipment, Painting tooling, Galvanic treatment, surface finishing",null,"yes","yes","Tooling for Assemblies","EF specific Tooling for Assembly","for FCAS Automatized production with Flexible Jigs (ex. F35 Manufacturing)","yes","yes","Tools for NC programming, Riveting system, measurement system. PPS Problemfinding, PPC production pace control, SAP, etc….","used for all Programs: Eurofighter, A320, A380, A350, A400M, Tornado","With implementation of a future digital/automated industry with 1 Platform combining complete computerized manufacturing for Single Parts, Assemblies, logistics over robotics. Implementation of Digital twin systems, augmented reality to crosscheck manufacturing progress of quality.","yes","yes",0,1,1,null,null,null,"no","no","Test equipment for Pressure & Leackage \ntest, Component/Fatigue/Static test for safety classified structural parts, etc…","used for all Programs: Eurofighter, A320, A380, A350, A400M, Tornado",null,"yes","yes","Leackage test, pressure test für Tank, Electric test for Wiring/Looms, Quality control (Laser pointer, etc…), Static/Fatigue Test für Structural parts, etc…","used for all Programs: Eurofighter, A320, A380, A350, A400M, Tornado",null,"yes","yes",1,0,"Stress, Design, Material & Processes, Fatigue & Damage tolerances analysis/simulation, Aircraft concept development over complete Aircraft, Solution definition for After sales, In-service Repair, Service Bulletin","PAG engineering has design responsibility for all relevant PAG WP’s for Airbus commercial products, e.g. A320 family (mainly metal design), A330 (mainly metal design), A380 (mainly metal design and Glare), A350-900 and -1000 (CFRP and metal design), A400M (CFRP and metal design). PAG Engineering can cover all required disciplines over the complete life cycle starting from conceptual design up to in-service phase such as Airbus A1020 design, stress, M&P and test check and approve delegation for all engineering deliverables under EASA and FAA rules: Recognized fatigue and damage tolerance analysis competencies.","Integrated Design-Stress process to reduce engineering lead time significantly, Strong focus on design to cost and Design to value activities, Enhanced CFRP manufacturing spring in and spring back simulation to reduce manufacturing lead time, NRC’s and RC’s significantly: integration of all Engineering activities over 1 effective and improved iteration process which could be handeld over one digital plattform such as 3D experience.\n",1,1,null,null,null,"no","no",1,"Multi Functional Rail Launcher\nComponents for After sale ex. Tornado\nTornado MFRL, EF ",null,"yes","no"]
["ProxiVision GmbH",1,0,1,0,"coating of Phosphor Screens and optical elements",null,"Printed Phosphor Screens\nCoatings for wavelength selection","yes","yes",null,null,null,"no","no","Ceramics\nAdditive Manufacture of Ceramic/Glass structures","Housing and sensor elements for photomultipliers","Additive manufacturing with Special Materials for System Integration","yes","yes",null,null,null,"no","no",1,0,0,1,0,0,0,0,0,0,0,1,0,0,"Electronic components for fast switching purposes in the Nanosecond range; remote control of detctors and sensor devices","Missile Warning Systems for Defense Applications","Miniaturized and fully electro mechanically ingegrated components","yes","yes",null,null,null,"no","no",null,null,null,"no","no","Special electronics for remote control and fast switching purposes",null,"using additive manufacturing for Special materials (galss, ceramics, etc.)","yes","yes",null,null,null,"no","no",null,null,null,"no",null,null,null,null,"no","no",null,null,null,"no","no",null,null,null,"no","no",null,null,null,"no","no",null,null,null,"no","no","Image intensifiers\nPhoto-Mulitpliers \nDetectors for THz, Neutron and X-Ray Radiation.\nCameras and Camera subassemblies for System Integration.","Missile Warning Systems.\nSense to Avoid Appications","Customer specific development and Realisation of detectors.","yes","yes",null,null,null,"no","no",null,null,null,0,0,0,0,0,0,0,1,null,null,null,"no","no",null,null,null,"no","no",null,null,null,"no","no",null,null,null,"no","no",null,null,null,"no","no","Missile Warning System Components",null,null,"yes","no",0,0,0,0,0,0,0,null,null,null,"no","no",null,null,null,"no","no",null,null,null,"no","no",null,null,null,"no","no",null,null,null,"no","no",null,null,null,"no","no",null,null,null,0,0,0,0,0,0,0,0,null,null,null,"no","no",null,null,null,"no","no",null,null,null,"no","no",null,null,null,"no","no",null,null,null,"no","no",null,null,null,"no","no",0,0,0,0,0,0,0,0,0,0,null,null,null,"no","no",null,null,null,"no","no",null,null,null,"no","no",null,null,null,"no","no",null,null,null,"no","no",null,null,null,"no","no",null,null,null,"no","no",null,null,null,"no","no",null,null,null,"no","no",null,null,null,"no","no",0,1,0,null,null,null,"no","no","Teste Equipment for Special electonics and opto-electronic sensors","NDT for Semiconductor industry.\nTest Equipment for detectors in the uv solar blind range and Photo-Multipliers\n",null,"yes","yes",null,null,null,"no","no",1,0,"Development and Manufacture of electonic devices and opto electronic detectors","Life Science, Semiconductor Industry, Defense sector","Customer specific development and manufacture",1,1,null,null,null,"no","no",0,null,null,"no","no"]
["Raytheon Deutschland GmbH",0,0,0,0,null,null,null,"no","no",null,null,null,"no","no",null,null,null,"no","no",null,null,null,"no","no",0,0,0,0,0,0,0,0,0,0,0,0,0,0,null,null,null,"no","no",null,null,null,"no","no",null,null,null,"no","no",null,null,null,"no","no",null,null,null,"no","no",null,null,null,"no",null,null,null,null,"no","no",null,null,null,"no","no",null,null,null,"no","no",null,null,null,"no","no",null,null,null,"no","no",null,null,null,"no","no",null,null,null,"no","no",null,null,null,0,0,0,0,0,0,0,0,null,null,null,"no","no",null,null,null,"no","no",null,null,null,"no","no",null,null,null,"no","no",null,null,null,"no","no",null,null,null,"no","no",0,0,0,0,0,0,1,null,null,null,"no","no",null,null,null,"no","no",null,null,null,"no","no",null,null,null,"no","no",null,null,null,"no","no",null,null,null,"no","no","We provide entirely passive radar / emitter sensing systems (ELINT) with a very high accuracy as well as related firmware, software and analysis tools.","The grandfather of today's systems is known as the Emittter Location System (ELS) on the ECR Tornado aircraft. ","We have successfully flight-tested a modern, passive radar detection system in a podded version mounted to an UAV in late 2018. The technology is based on COTS available products where possible and can easily be adapted to different applications as most system variables can be adapted via software.",1,1,0,0,0,0,0,0,null,null,null,"no","no",null,null,null,"no","no",null,null,null,"no","no",null,null,null,"no","no",null,null,null,"no","no",null,null,null,"no","no",0,0,0,0,0,0,0,0,0,0,null,null,null,"no","no",null,null,null,"no","no",null,null,null,"no","no",null,null,null,"no","no",null,null,null,"no","no",null,null,null,"no","no",null,null,null,"no","no",null,null,null,"no","no",null,null,null,"no","no",null,null,null,"no","no",0,0,0,null,null,null,"no","no",null,null,null,"no","no",null,null,null,"no","no",0,1,null,null,null,0,0,"We provide training and simulation aids for products developed in our company.","Operational and technical crew training is regularly delivered and at the same time we provide simulator elements with regard to our systems.","Our training and simulation equipment will evolve in parallel with future product development steps.","yes","yes",0,null,null,"no","no"]
["RECARO Aircraft Seating GmbH",0,0,0,0,null,null,null,"no","no",null,null,null,"no","no",null,null,null,"no","no",null,null,null,"no","no",0,0,0,0,0,0,0,0,0,0,0,0,0,0,null,null,null,"no","no",null,null,null,"no","no",null,null,null,"no","no",null,null,null,"no","no",null,null,null,"no","no",null,null,null,"no",null,null,null,null,"no","no",null,null,null,"no","no",null,null,null,"no","no",null,null,null,"no","no",null,null,null,"no","no",null,null,null,"no","no",null,null,null,"no","no",null,null,null,0,0,0,0,0,0,0,0,null,null,null,"no","no",null,null,null,"no","no",null,null,null,"no","no",null,null,null,"no","no",null,null,null,"no","no",null,null,null,"no","no",0,0,0,0,0,0,0,null,null,null,"no","no",null,null,null,"no","no",null,null,null,"no","no",null,null,null,"no","no",null,null,null,"no","no",null,null,null,"no","no",null,null,null,0,0,0,0,0,0,0,0,null,null,null,"no","no",null,null,null,"no","no",null,null,null,"no","no",null,null,null,"no","no",null,null,null,"no","no",null,null,null,"no","no",0,0,0,0,0,0,0,0,0,0,null,null,null,"no","no",null,null,null,"no","no",null,null,null,"no","no",null,null,null,"no","no",null,null,null,"no","no",null,null,null,"no","no",null,null,null,"no","no",null,null,null,"no","no",null,null,null,"no","no",null,null,null,"no","no",0,0,0,null,null,null,"no","no",null,null,null,"no","no",null,null,null,"no","no",0,0,null,null,null,0,0,null,null,null,"no","no",0,null,null,"no","no"]
["Robert Hofmann GmbH",0,0,1,1,null,null,null,"no","no",null,null,null,"no","no","injection moulding ","seriel parts for A400M, A320, A330, A340, A350, A380","PEEK, PEI, PES, PSU, PPS\n3D Printing","yes","no","3D Metal Printng","Aluminum, Titanium, Inconel, Stainless Steel ...","3D Metal Printng","yes","yes",0,0,0,0,0,0,0,0,0,0,0,0,0,0,null,null,null,"no","no",null,null,null,"no","no",null,null,null,"no","no",null,null,null,"no","no",null,null,null,"no","no",null,null,null,"no",null,null,null,null,"no","no",null,null,null,"no","no",null,null,null,"no","no",null,null,null,"no","no",null,null,null,"no","no",null,null,null,"no","no",null,null,null,"no","no",null,null,null,0,0,0,0,0,0,0,0,null,null,null,"no","no",null,null,null,"no","no",null,null,null,"no","no",null,null,null,"no","no",null,null,null,"no","no",null,null,null,"no","no",0,0,0,0,0,0,0,null,null,null,"no","no",null,null,null,"no","no",null,null,null,"no","no",null,null,null,"no","no",null,null,null,"no","no",null,null,null,"no","no",null,null,null,0,0,0,0,0,0,0,0,null,null,null,"no","no",null,null,null,"no","no",null,null,null,"no","no",null,null,null,"no","no",null,null,null,"no","no",null,null,null,"no","no",0,0,0,0,0,0,0,0,0,1,null,null,null,"no","no",null,null,null,"no","no",null,null,null,"no","no",null,null,null,"no","no",null,null,null,"no","no",null,null,null,"no","no",null,null,null,"no","no",null,null,null,"no","no",null,null,null,"no","no","Jigs, Gauges, Mock-Ups","Engineering Mock Ups 25m X 6m x 5m, measuring gauges, True to scale Mock ups ","3D Printing","yes","yes",0,0,0,null,null,null,"no","no",null,null,null,"no","no",null,null,null,"no","no",0,0,null,null,null,0,0,null,null,null,"no","no",0,null,null,"no","no"]
["Rockwell Collins Deutschland GmbH",0,0,0,0,null,null,null,"no","no",null,null,null,"no","no",null,null,null,"no","no",null,null,null,"no","no",0,0,0,0,0,0,0,0,0,0,0,0,0,0,null,null,null,"no","no",null,null,null,"no","no",null,null,null,"no","no",null,null,null,"no","no",null,null,null,"no","no",null,null,null,"no",null,null,null,null,"no","no",null,null,null,"no","no",null,null,null,"no","no",null,null,null,"no","no",null,null,null,"no","no",null,null,null,"no","no",null,null,null,"no","no",null,null,null,0,0,0,0,0,0,0,0,null,null,null,"no","no",null,null,null,"no","no",null,null,null,"no","no",null,null,null,"no","no",null,null,null,"no","no",null,null,null,"no","no",1,1,1,1,1,0,0,"Scalable Computer Systems:\nDAL-A cert. Multi-Core\nTailorable & ext. I/O\nUHD Graphics & Vid. Processing\nEfficient HPC\nCyber Sec. Processes & Tech","Flight Mission Computer (FMC) Product Line\nCockpit Interface Units\nAttack & Navigation Computer\nDefensive Aids Computer\nIntegrated Processing Unit\n\nMultiple airborne computer and display products on various fighter platforms  including  EF Typhoon, Tornado, HAWK, Gripen NG\n","AI enabled assistance systems, certifiable low latency video processing, coding & streaming, deep learning data analytics for machine vision\n","yes","yes","Communication Manager Applications incl. controls and management for SATCOM, COMSEC, TRANSSEC, Link16, VMF and GER Data Link.","COMM CSCI, Integration into Flight2 & CAAS System Architecture\nCH-53GA, C-160, SeaLynx (MK-88A), P-3C, Tiger\n","Enhanced COM Manager HMI, AI enabled assistance systems & autonomy\n","yes","yes","Integration of navigation systems. SW-Applications for management and control of the navigation suite. Dual Use Flight Management Systems.\n","CH-53GA, C-160, SeaLynx (MK-88A), P-3C\nFlight Deck solutions based on Flight2, CAAS & Pro Line Fusion Architecture\n","Further enhancement of Dual Use Flight Management Systems\n","no","no","High performance head-up and helmet displays. All optics digitized with low mounting profile and large field of view Head Up Displays (HUD)\n","Integrated Helmet System (IHS)\nLarge Area Displays (LAD 8x20 und 12x24)\nsmall HDD as a back up System\n","5th Generation Fighter Helm Mounted Display (HMD) \nCivil Certification of Multi-Core-Technologie up to DAL A\n","no","no","Wide variety of airborne radio navigation and GNSS solutions. Navigation subsystem capability. \n","TACAN, VOR, ILS, DME, Jamming/Spoofing resistant GNSS, integrated on various platforms including Eurofighter, CH-53GA and P3 Orion.","Roadmap to civil certifiable GPS/Galileo military airborne receiver. ","yes","yes",null,null,null,"no","no",null,null,null,0,0,0,0,0,0,0,0,null,null,null,"no","no",null,null,null,"no","no",null,null,null,"no","no",null,null,null,"no","no",null,null,null,"no","no",null,null,null,"no","no",0,0,0,0,0,0,0,0,0,0,null,null,null,"no","no",null,null,null,"no","no",null,null,null,"no","no",null,null,null,"no","no",null,null,null,"no","no",null,null,null,"no","no",null,null,null,"no","no",null,null,null,"no","no",null,null,null,"no","no",null,null,null,"no","no",0,1,0,null,null,null,"no","no","Design and production of Special Type Test Equipment (STTE) for airborne equipment for qualification, production and service.\n","Various test equipment for Collins products on platforms such as CH-53GA, Eurofighter, Tornado or land based solutions.","Integrative and synchronized generic test approach for all life cycle phases of the products, i.e. from design, development, production and service.\n","yes","yes",null,null,null,"no","no",0,1,null,null,null,0,0,"Prototyping and design of HMI Concepts and definition of Systems for Trainers/Simulators\n","Fighter and Trainer Demonstrator","Data retrieval and exchange for live, virtual and constructed simulation networks (JSAS and LVC)","yes","yes",0,null,null,"no","no"]
["Rolls-Royce",0,0,0,0,null,null,null,"no","no",null,null,null,"no","no",null,null,null,"no","no",null,null,null,"no","no",0,0,0,0,0,0,0,0,0,0,0,0,0,0,null,null,null,"no","no",null,null,null,"no","no",null,null,null,"no","no",null,null,null,"no","no",null,null,null,"no","no",null,null,null,"no",null,null,null,null,"no","no",null,null,null,"no","no",null,null,null,"no","no",null,null,null,"no","no",null,null,null,"no","no",null,null,null,"no","no",null,null,null,"no","no",null,null,null,0,0,0,0,0,0,0,0,null,null,null,"no","no",null,null,null,"no","no",null,null,null,"no","no",null,null,null,"no","no",null,null,null,"no","no",null,null,null,"no","no",0,0,0,0,0,0,0,null,null,null,"no","no",null,null,null,"no","no",null,null,null,"no","no",null,null,null,"no","no",null,null,null,"no","no",null,null,null,"no","no",null,null,null,0,0,1,0,0,1,0,0,"Rolls-Royce Deutschland is the only company in Germany with the competence for the complete engine system with the official license for the development, production and support of civil and military engines.",null,null,"yes","yes",null,null,null,"no","no",null,null,null,"no","no","Rolls-Royce Deutschland is the only company in Germany with the competence for the complete engine system with an official license for the development, production and support of civil and military engines.",null,null,"yes","yes",null,null,null,"no","no",null,null,null,"no","no",0,0,0,0,0,0,0,0,0,0,null,null,null,"no","no",null,null,null,"no","no",null,null,null,"no","no",null,null,null,"no","no",null,null,null,"no","no",null,null,null,"no","no",null,null,null,"no","no",null,null,null,"no","no",null,null,null,"no","no",null,null,null,"no","no",0,0,0,null,null,null,"no","no",null,null,null,"no","no",null,null,null,"no","no",0,0,null,null,null,0,0,null,null,null,"no","no",0,null,null,"no","no"]
["RUAG Aerostructures",1,1,0,0,"Electrostatic Primer and top coat painting/simple AND complex parts. ","Use as decoration and anti-corrosion protection; can be applied on any type of metal and in every colour according to spec.\nComplex parts with masking possible.\nMax size: 7000 x 2300 x 1000mm\n\nQualifications: \nAirbus\nBoeing\nBombardier\nGE\nPilatus\nSAAB\nNADCAP\nEN9100\nREACH-compliant\n","Surface Treatment CAA, TSA, CCC Alodine 1200, etc. \nAnti-corrosion protection and\nunderlayer for painting on\naluminium alloy\nMax size: 7000 x 2300 x 1000mm\nState of the art facility ","yes","yes","Prepreg & RTM manufacturing of monolithic and sandwich structures. Composite/metal bonding - Al, Ti and steel ","Cleanroom size of 750 square meter. LaserEdge positioning system\nAutoclaves up to: Ø 3.00 m x 8.00 m","Composite/metal bonding and a high degree of Automation such as inserts placing in Sandwich Panels. ","yes","yes",null,null,null,"no","no",null,null,null,"no","no",0,0,0,0,0,0,0,0,0,0,0,0,1,0,null,null,null,"no","no",null,null,null,"no","no",null,null,null,"no","no",null,null,null,"no","no",null,null,null,"no","no",null,null,null,"no",null,null,null,null,"no","no",null,null,null,"no","no",null,null,null,"no","no",null,null,null,"no","no",null,null,null,"no","no",null,null,null,"no","no","Complete Fuselage sections & wings. Aerostructures components and Systems. Aerostructure Services and detailled parts","Entire Airbus Family of aircraft\nBombardier CRJ 700/800/900\nPilatus PC-21 und PC-12\nBoeing F/A-18\nNorthrop F5 Tiger\nSaab Grippen\n","Friction Stir Welding (FSW) Technologys for airframe and aircraft parts such as pressure bulkheds.","yes","yes",null,null,null,0,0,1,0,0,0,0,0,"Complete Fuselage sections & wings. Aerostructures components and Systems. Aerostructure Services and detailled parts","Entire Airbus Family of aircraft.\nBombardier CRJ 700/800/900\nPilatus PC-21 und PC-12\nBoeing F/A-18\nNorthrop F5 Tiger\nSaab Grippen","Friction Stir Welding (FSW) Technologys for airframe and aircraft parts such as pressure bulkheds.","yes","yes",null,null,null,"no","no",null,null,null,"no","no",null,null,null,"no","no",null,null,null,"no","no",null,null,null,"no","no",0,0,0,0,0,0,0,null,null,null,"no","no",null,null,null,"no","no",null,null,null,"no","no",null,null,null,"no","no",null,null,null,"no","no",null,null,null,"no","no",null,null,null,0,0,0,0,0,1,0,0,null,null,null,"no","no",null,null,null,"no","no",null,null,null,"no","no","Structural components such as air intake housing and fan cases with noise reduction Panels.","General Electric - CF34","Composite Fan Casing","yes","yes",null,null,null,"no","no",null,null,null,"no","no",1,1,1,1,1,1,1,1,1,1,"\"State of the art\" LEAN aircraft structural manufacturing facility","SAP based Environment","Industry 4.0 Innovation drive","yes","yes","Most modern aircraft structural parts handling equippment","Entire Airbus Family of aircraft\nBombardier CRJ 700/800/900\nPilatus PC-21 und PC-12\nBoeing F/A-18\nNorthrop F5 Tiger\nSaab Grippen","LEAN concept Business Environment and value stream approach","yes","yes","Non-destructive testing\nPenetrant testing:\nUltrasonic\nX-ray\n","Level 3:\nMax size: 7000 x 2300 x 1000 mm\nNADCAP-accredited","NDT integrated manufacturing approach","yes","no","RUAG Aerostructures strength is the machining of all common aerospace materials from aluminium and titanium up to high grade alloys. Our precision machining facility is equipped with state-of-the-art 3, 4 and 5 axis CNC machines:","High speed, high performance up to five-axis milling of up to: 4.00 m x 10.00 m x 1.00 m\nTurning machines up to 2.00 m\nFive-axis stretch form press: up to 3.00 m x 4.20 m x 1.10 m\nCircular Hydroform press","Indutry 4.0 strategic appoach","yes","yes","Full range of MRO Serices availabe within RUAG Aviation. On-site FLA Support. Testing Services.","See above, entire range of aircraft.",null,"yes","yes","Aircraft related measurement Equipment available.",null,null,"yes","yes","Aircraft related production Equipment avialble.","Automated riveting machine.\nTIG- & MIG welding\nSpot welding: aluminum, titanium & steel\nSeam welding: steel & titanium\nMetal cutting and bending","Mixed material joining.","yes","yes","Surface Treatment TSA, CAA, CCC Alodine 1200. Most modern facility in Europe\nAnti-corrosion protection and\nunderlayer for painting on\naluminium alloy\nMax size: 7000 x 2300 x 1000 mm","Airbus\nBoeing\nBombardier\nGE\nPilatus\nSAAB\nNADCAP\nEN9100\nREACH-compliant","TSA in a full Service Environment with NDT and painting","yes","yes","Aircraft related production tooling avialble.",null,null,"yes","yes","Aircraft related production tooling avialble.",null,null,"yes","no",0,1,1,null,null,null,"no","no","Non-destructive testing.\nPenetrant testing:\nUltrasonic\nX-ray","Level 3:\nMax size: 7000 x 2300 x 1000 mm\nNADCAP-accredited","Integrated Approach with surface treatment","yes","yes","See above Test Equipment!",null,null,"yes","yes",1,0,"Aircraft Design Engineering Services for Aircraft Structures",null,"Friction Stir Welding (FSW) applications for aircraft fuselage, pressure bulkhead and detail parts.",1,1,null,null,null,"no","no",0,null,null,"no","no"]
["Safran Electronics & Defense Germany GmbH",0,0,0,0,null,null,null,"no","no",null,null,null,"no","no",null,null,null,"no","no",null,null,null,"no","no",0,0,0,0,0,0,0,0,0,0,0,1,0,0,null,null,null,"no","no",null,null,null,"no","no",null,null,null,"no","no",null,null,null,"no","no",null,null,null,"no","no",null,null,null,"no",null,null,null,null,"no","no",null,null,null,"no","no",null,null,null,"no","no",null,null,null,"no","no",null,null,null,"no","no","Inertial sensors for flight control, based on fiber-optic gyroscope Technologies.\nIn Addition supply of Large Environment Accelerometers","Supply of inertial sensorsfor flight control on Military and civilian platforms like the Airbus A400 m.","Improvement of Size, Weight, Power and Cost.","yes","no",null,null,null,"no","no",null,null,null,0,0,0,0,0,0,0,0,null,null,null,"no","no",null,null,null,"no","no",null,null,null,"no","no",null,null,null,"no","no",null,null,null,"no","no",null,null,null,"no","no",0,0,0,0,0,0,0,null,null,null,"no","no",null,null,null,"no","no",null,null,null,"no","no",null,null,null,"no","no",null,null,null,"no","no",null,null,null,"no","no",null,null,null,0,0,0,0,0,0,0,0,null,null,null,"no","no",null,null,null,"no","no",null,null,null,"no","no",null,null,null,"no","no",null,null,null,"no","no",null,null,null,"no","no",0,0,0,0,0,0,0,0,0,0,null,null,null,"no","no",null,null,null,"no","no",null,null,null,"no","no",null,null,null,"no","no",null,null,null,"no","no",null,null,null,"no","no",null,null,null,"no","no",null,null,null,"no","no",null,null,null,"no","no",null,null,null,"no","no",0,0,0,null,null,null,"no","no",null,null,null,"no","no",null,null,null,"no","no",0,0,null,null,null,0,0,null,null,null,"no","no",0,null,null,"no","no"]
["Schaeffler Aerospace",1,0,0,0,"Galvanic platings including silver, phosphate, nickel, cadmium; Electroless nickel; DLC coatings, PVD coatings (TiN, TiC).","all military and civil engine programs ","Highly stressed aircraft engine bearing and helicopter bearings and mechanicalSystems.","yes","yes",null,null,null,"no","no",null,null,null,"no","no",null,null,null,"no","no",1,0,1,1,0,0,0,1,0,0,0,1,0,0,"power electronics for electric propulsion systems",null,"power electronics for electric propulsion systems","yes","yes",null,null,null,"no","no","Highly stressed and integrated aerospace bearing Systems for aircraft engines, helicopters and space ","all rolling element bearing types and materials","integrated hybrid ceramic  bearing Systems with integrated sensors - complete bearing Chambers for aircraft engines","yes","yes","electric motors for electric propulsion","electric motors for electric propulsion","electric motors for electric propulsion","yes","yes",null,null,null,"no","no",null,null,null,"no",null,null,null,null,"no","no","non-bearing components such as stub-shafts, housings, oil-distributers, sealings","non-bearing components such as stub-shafts, housings, oil-distributers, sealings","Complete bearing chambers for aircraft engines including sensor technology","yes","no",null,null,null,"no","no",null,null,null,"no","no",null,null,null,"no","no","bearings and mechanical components with integrated sensors for predictive health monitoring ","temperature, vibration, frequency, Speed, load: (piezos, strain gages, thermocouples, accelerometers)","integrated within the bearing/system: wireless, high temperature, energy harvesting, big data analysis","yes","yes",null,null,null,"no","no",null,null,null,0,0,0,0,0,0,0,1,null,null,null,"no","no",null,null,null,"no","no",null,null,null,"no","no",null,null,null,"no","no",null,null,null,"no","no","bearings and mechanical systems for missiles, rockets, rocket engines.","various missiles, aircrafts, aircrafts engines, UAVs, helicopters","advanced bearings and mechanical systems for missiles, rockets, rocket engines.","yes","yes",0,0,0,0,0,0,0,null,null,null,"no","no",null,null,null,"no","no",null,null,null,"no","no",null,null,null,"no","no",null,null,null,"no","no",null,null,null,"no","no",null,null,null,0,0,1,1,0,1,0,1,"bearings and mechanical systems for all auxiliary incl. APUs, pumps, etc.","all military and civil APUs for all aircraft engines.","bearings and mechanical systems for all auxiliary incl. APUs, pumps, etc.","no","no","electric motors for electric propulsion","electric motors for electric propulsion","electric motors for electric propulsion","no","no",null,null,null,"no","no","Highly stressed and integrated aerospace bearing Systems for aircraft engines, helicopters and space ","all civil and military aircraft engines ","integrated hybrid ceramic  bearing systems with integrated sensors - complete bearing chambers for aircraft engines","yes","yes",null,null,null,"no","no","Highly stressed and integrated aerospace bearing Systems for aircraft engines, helicopters and space ","Highly stressed and integrated aerospace bearing Systems for aircraft engines, helicopters and space ","Highly stressed and integrated aerospace bearing Systems for aircraft engines, helicopters and space ","yes","yes",0,0,0,1,1,1,0,1,0,0,null,null,null,"no","no",null,null,null,"no","no",null,null,null,"no","no","milling, Drilling, grinding, honing, NDT","aircraft engine components (shafts, housings) and bearings ","milling, Drilling, grinding, honing, NDT","yes","yes","milling, Drilling, grinding, honing, NDT","aircraft engine components (shafts, housings) and bearings ","milling, Drilling, grinding, honing, NDT","yes","yes","Coordination measurment systems, optical measurments, Destructive Testing incl. hardness and res. stress","aircraft engine components (shafts, housings) and bearings","Coordination measurment systems, optical measurments, Destructive Testing incl. hardness and res. stress","yes","yes",null,null,null,"no","no","Galvanic platings, PVD coatings, paints, slurry deburr, peening, nitriding etc.","aircraft engine components (shafts, housings) and bearings","Galvanic platings, PVD coatings, paints, slurry deburr, peening, nitriding etc.","no","no",null,null,null,"no","no",null,null,null,"no","no",0,1,1,null,null,null,"no","no","aircraft engine bearings full-scale and Sub scale test rigs for flight simulation","aircraft engine bearings","aircraft engine bearings full-scale and Sub scale test rigs for flight simulation","no","no","Tribometer, sub-scale and full-scale testing of aircraft engine bearings","aircraft engine bearings","Tribometer, sub-scale and full-scale testing of aircraft engine bearings, Counter- and co-rotating engine shafts","no","no",0,0,null,null,null,0,0,null,null,null,"no","no",1,"Refurbishment (MRO) of aircraft engine bearings\nall aircraft engine main bearings","Refurbishment (MRO) of aircraft engine bearings - Level 1 (inspection) to Level 4 (replacement of components)","yes","yes"]
["Schölderle GmbH",0,0,1,1,null,null,null,"no","no",null,null,null,"no","no","Machining of hard-plastics","Hard-plastics",null,"yes","yes","all kind of steel\naluminium\ntitanium- and nickel-alloys\ncopper",null,null,"yes","yes",0,0,0,0,0,0,0,1,0,1,0,0,1,0,null,null,null,"no","no",null,null,null,"no","no",null,null,null,"no","no",null,null,null,"no","no",null,null,null,"no","no",null,null,null,"no",null,null,null,null,"no","no","5-axis machining\nassemblies",null,null,"yes","yes",null,null,null,"no","no","various",null,null,"yes","yes",null,null,null,"no","no",null,null,null,"no","no","various",null,null,"yes","yes",null,null,null,0,0,0,0,0,0,0,0,null,null,null,"no","no",null,null,null,"no","no",null,null,null,"no","no",null,null,null,"no","no",null,null,null,"no","no",null,null,null,"no","no",0,0,0,0,0,0,0,null,null,null,"no","no",null,null,null,"no","no",null,null,null,"no","no",null,null,null,"no","no",null,null,null,"no","no",null,null,null,"no","no",null,null,null,0,0,0,0,1,0,0,1,null,null,null,"no","no",null,null,null,"no","no","discs\nrotating rings\nCasings",null,null,"yes","yes",null,null,null,"no","no",null,null,null,"no","no","landing gear actuator",null,null,"yes","yes",1,1,1,1,1,1,1,0,1,0,"fully integrated CAD/CAM system including 5-axis-measurement",null,null,"yes","yes","Self constructed handling systems for the machine shop",null,null,"yes","yes","5-axis NC-controlled measuring and documentation",null,null,"yes","yes","9 5-axis-machining centers\n4 3-axis-machining centers\n3 CNC-turning centers\n2 measuring machines, 1 manually and 1 CNC-controlled",null,null,"yes","yes","Components repair and overhaul",null,null,"yes","yes","See above",null,null,"yes","yes","See above",null,null,"yes","yes",null,null,null,"no","no","All tooling required for the machine shop",null,null,"yes","yes",null,null,null,"no","no",0,0,0,null,null,null,"no","no",null,null,null,"no","no",null,null,null,"no","no",0,0,null,null,null,0,0,null,null,null,"no","no",0,null,null,"no","no"]
["SGS Germany GmbH",0,0,0,0,null,null,null,"no","no",null,null,null,"no","no",null,null,null,"no","no",null,null,null,"no","no",0,0,0,0,0,0,0,0,0,0,0,0,0,0,null,null,null,"no","no",null,null,null,"no","no",null,null,null,"no","no",null,null,null,"no","no",null,null,null,"no","no",null,null,null,"no",null,null,null,null,"no","no",null,null,null,"no","no",null,null,null,"no","no",null,null,null,"no","no",null,null,null,"no","no",null,null,null,"no","no",null,null,null,"no","no",null,null,null,0,0,0,0,0,0,0,0,null,null,null,"no","no",null,null,null,"no","no",null,null,null,"no","no",null,null,null,"no","no",null,null,null,"no","no",null,null,null,"no","no",0,0,0,0,0,0,0,null,null,null,"no","no",null,null,null,"no","no",null,null,null,"no","no",null,null,null,"no","no",null,null,null,"no","no",null,null,null,"no","no",null,null,null,0,0,0,0,0,0,0,0,null,null,null,"no","no",null,null,null,"no","no",null,null,null,"no","no",null,null,null,"no","no",null,null,null,"no","no",null,null,null,"no","no",0,0,0,0,0,0,0,0,0,0,null,null,null,"no","no",null,null,null,"no","no",null,null,null,"no","no",null,null,null,"no","no",null,null,null,"no","no",null,null,null,"no","no",null,null,null,"no","no",null,null,null,"no","no",null,null,null,"no","no",null,null,null,"no","no",0,0,1,null,null,null,"no","no",null,null,null,"no","no","DO160, Reliability, (Li-Io-) Battery Testing, Material Testing, Failure Analysis","Airbus, Diehl, BMW, Daimler, ...","(Li-Io-) Battery Testing","yes","yes",1,0,"Aircraft & Components Inspection (Material Quality), Supply Chain Inspection, Supply Chain Consulting","AIRBUS (FAI, PPC, Incoming, ...), MRO, UAEC","Aircraft & Components Inspection (Material Quality), Supply Chain Inspection, Supply Chain Consulting",1,1,null,null,null,"no","no",0,null,null,"no","no"]
["Sitec Aerospace",0,0,0,0,null,null,null,"no","no",null,null,null,"no","no",null,null,null,"no","no",null,null,null,"no","no",0,1,0,0,0,0,0,1,0,0,0,0,0,1,null,null,null,"no","no","rotary and linear actuators for valves, small doors and adjustments","Airbus fleet, Boeing 737, 777, 787, regional and business jets, military helicopter porograms","High torque actuator, linear motion systems, smart actuator","yes","yes",null,null,null,"no","no",null,null,null,"no","no",null,null,null,"no","no",null,null,null,"no",null,null,null,null,"no","no","mech. flight controls, mechanical throttle box, hydraulics, ","AW101, Dornier 328, Lynx, Seaking, ",null,"yes","yes",null,null,null,"no","no",null,null,null,"no","no",null,null,null,"no","no",null,null,null,"no","no",null,null,null,"no","no","ball valves for all fluids within an aircraft","Airbus fleet, Boeing 737, 777, 787, regional and business jets, military helicopter porograms","heated water valves made from composite, electrical gasper valve, ",1,1,0,0,0,0,1,0,null,null,null,"no","no",null,null,null,"no","no",null,null,null,"no","no",null,null,null,"no","no","complete ship set of a landing gear on \"make-to-print\" basis","Pilatus PC-12",null,"yes","yes",null,null,null,"no","no",0,0,0,0,0,0,0,null,null,null,"no","no",null,null,null,"no","no",null,null,null,"no","no",null,null,null,"no","no",null,null,null,"no","no",null,null,null,"no","no",null,null,null,0,0,0,0,0,0,0,0,null,null,null,"no","no",null,null,null,"no","no",null,null,null,"no","no",null,null,null,"no","no",null,null,null,"no","no",null,null,null,"no","no",0,0,0,0,0,0,0,0,0,0,null,null,null,"no","no",null,null,null,"no","no",null,null,null,"no","no",null,null,null,"no","no",null,null,null,"no","no",null,null,null,"no","no",null,null,null,"no","no",null,null,null,"no","no",null,null,null,"no","no",null,null,null,"no","no",0,0,0,null,null,null,"no","no",null,null,null,"no","no",null,null,null,"no","no",0,0,null,null,null,0,0,null,null,null,"no","no",0,null,null,"no","no"]
["SKF GmbH",0,0,0,0,null,null,null,"no","no",null,null,null,"no","no",null,null,null,"no","no",null,null,null,"no","no",0,0,1,0,0,0,0,0,0,0,0,0,0,0,null,null,null,"no","no",null,null,null,"no","no","Design and manufacturing","Ball & Roller Bearings, Plain bearings","Light Weight and Low Friction Solutuions","yes","yes",null,null,null,"no","no",null,null,null,"no","no",null,null,null,"no",null,null,null,null,"no","no",null,null,null,"no","no",null,null,null,"no","no",null,null,null,"no","no",null,null,null,"no","no",null,null,null,"no","no",null,null,null,"no","no",null,null,null,0,0,0,0,0,0,0,0,null,null,null,"no","no",null,null,null,"no","no",null,null,null,"no","no",null,null,null,"no","no",null,null,null,"no","no",null,null,null,"no","no",0,0,0,0,0,0,0,null,null,null,"no","no",null,null,null,"no","no",null,null,null,"no","no",null,null,null,"no","no",null,null,null,"no","no",null,null,null,"no","no",null,null,null,0,0,0,0,0,0,0,0,null,null,null,"no","no",null,null,null,"no","no",null,null,null,"no","no",null,null,null,"no","no",null,null,null,"no","no",null,null,null,"no","no",0,0,0,0,0,0,0,0,0,0,null,null,null,"no","no",null,null,null,"no","no",null,null,null,"no","no",null,null,null,"no","no",null,null,null,"no","no",null,null,null,"no","no",null,null,null,"no","no",null,null,null,"no","no",null,null,null,"no","no",null,null,null,"no","no",0,0,0,null,null,null,"no","no",null,null,null,"no","no",null,null,null,"no","no",0,0,null,null,null,0,0,null,null,null,"no","no",0,null,null,"no","no"]
["Spherea GmbH",0,0,0,0,null,null,null,"no","no",null,null,null,"no","no",null,null,null,"no","no",null,null,null,"no","no",0,0,0,0,0,0,0,0,0,0,0,0,0,0,null,null,null,"no","no",null,null,null,"no","no",null,null,null,"no","no",null,null,null,"no","no",null,null,null,"no","no",null,null,null,"no",null,null,null,null,"no","no",null,null,null,"no","no",null,null,null,"no","no",null,null,null,"no","no",null,null,null,"no","no",null,null,null,"no","no",null,null,null,"no","no",null,null,null,0,0,0,0,0,0,0,0,null,null,null,"no","no",null,null,null,"no","no",null,null,null,"no","no",null,null,null,"no","no",null,null,null,"no","no",null,null,null,"no","no",0,0,0,0,0,0,0,null,null,null,"no","no",null,null,null,"no","no",null,null,null,"no","no",null,null,null,"no","no",null,null,null,"no","no",null,null,null,"no","no",null,null,null,0,0,0,0,0,0,0,0,null,null,null,"no","no",null,null,null,"no","no",null,null,null,"no","no",null,null,null,"no","no",null,null,null,"no","no",null,null,null,"no","no",0,0,0,0,0,1,0,0,1,1,null,null,null,"no","no",null,null,null,"no","no",null,null,null,"no","no",null,null,null,"no","no",null,null,null,"no","no","Automatic and semi-automatic test solutions for the measurement of electronic equipment during different phases in production line","Key OEMs for aircrafts like Thales, Sagem, Honeywell, Diehl are using our test solutions in their production line","We are continuosly updating our test solutions. For instance, our ATEC Dyna product is used for the testing of the latest enginee controllers.","yes","yes",null,null,null,"no","no",null,null,null,"no","no","We are providing test solutions for the final assembly line of an aircraft","We provided test solution for the final assembly line in Europe and USA for several Airbus models","Our test solutions for the final assembly line allows a complex configuration management as well as simulation of Avionic equipment.","yes","yes","We can provide different software tools in order to manage the shop floor around testing starting from the workload management of test benches over online monitoring  until big data analysis.","We provided the shop floor management of the Avionic maintenance workshop of Singabpour airlines.","We have teams working on AI, Augmented Reality and data analyzing tools (e.g. pre-emptive maintenance).","yes","yes",0,1,0,null,null,null,"no","no","We are providing AGEs (aerospace ground equipment) for all maintenance levels (ML1 On-A/C until ML3/4 on shop level) for electronic components","We are providing AGE solutions for all main European defence programs: A400M, NH90, TIGER, Eurofighter, Rafaele, TORNADO\nWithin commercial Aviation we are world market leader for test systems.","Since this type of test equipment is our core business, we are spending each year several million Euros in R&D.","yes","yes",null,null,null,"no","no",0,0,null,null,null,0,0,null,null,null,"no","no",0,null,null,"no","no"]
["TENNANT Metall & Technologie GmbH",0,0,0,1,null,null,null,"no","no",null,null,null,"no","no",null,null,null,"no","no","Steel, Aluminum & Titanium pre-materials held in stock for small quantity or urgent requirements. Specialising in the European and Airbus grades of material. AS/EN9100 and AS/EN9120 approved for 20 years.","Airbus Defence & Space, Liebherr, Ruag, HAL, TAI.","Pre machining to tolerance, water jet cutting, deep hole boring, heat treatment for just in time deliveries of specific requirements.","yes","yes",0,0,0,0,0,0,0,0,0,0,0,0,0,0,null,null,null,"no","no",null,null,null,"no","no",null,null,null,"no","no",null,null,null,"no","no",null,null,null,"no","no",null,null,null,"no",null,null,null,null,"no","no",null,null,null,"no","no",null,null,null,"no","no",null,null,null,"no","no",null,null,null,"no","no",null,null,null,"no","no",null,null,null,"no","no",null,null,null,0,0,0,0,0,0,0,0,null,null,null,"no","no",null,null,null,"no","no",null,null,null,"no","no",null,null,null,"no","no",null,null,null,"no","no",null,null,null,"no","no",0,0,0,0,0,0,0,null,null,null,"no","no",null,null,null,"no","no",null,null,null,"no","no",null,null,null,"no","no",null,null,null,"no","no",null,null,null,"no","no",null,null,null,0,0,0,0,0,0,0,0,null,null,null,"no","no",null,null,null,"no","no",null,null,null,"no","no",null,null,null,"no","no",null,null,null,"no","no",null,null,null,"no","no",0,0,0,0,0,0,0,0,0,0,null,null,null,"no","no",null,null,null,"no","no",null,null,null,"no","no",null,null,null,"no","no",null,null,null,"no","no",null,null,null,"no","no",null,null,null,"no","no",null,null,null,"no","no",null,null,null,"no","no",null,null,null,"no","no",0,0,0,null,null,null,"no","no",null,null,null,"no","no",null,null,null,"no","no",1,0,"NADCAP heat treatment and testing of heat treated materials. Pre machining of components and pre material","Airbus Defence & Space, Liebherr, Ruag, HAL, TAI.",null,1,1,null,null,null,"no","no",0,null,null,"no","no"]
["Test-Fuchs GmbH",0,0,0,0,null,null,null,"no","no",null,null,null,"no","no",null,null,null,"no","no",null,null,null,"no","no",0,0,0,0,0,0,0,0,0,0,0,0,0,0,null,null,null,"no","no",null,null,null,"no","no",null,null,null,"no","no",null,null,null,"no","no",null,null,null,"no","no",null,null,null,"no",null,null,null,null,"no","no",null,null,null,"no","no",null,null,null,"no","no",null,null,null,"no","no",null,null,null,"no","no",null,null,null,"no","no",null,null,null,"no","no",null,null,null,0,0,0,0,0,1,0,0,null,null,null,"no","no",null,null,null,"no","no",null,null,null,"no","no","MRO Hydraulic Components\nDOA & POA for Actuators, mainly for Helicopters","Hydraulic Test Stands for \nPrimary & Secondary  Actuators for different weapon Systems, like TOR, EF 2000, Rafale, and Civil A/C Boeing & AB","Development of Power Packs","yes","yes",null,null,null,"no","no",null,null,null,"no","no",0,0,0,0,0,0,0,null,null,null,"no","no",null,null,null,"no","no",null,null,null,"no","no",null,null,null,"no","no",null,null,null,"no","no",null,null,null,"no","no",null,null,null,0,0,0,0,0,0,1,0,null,null,null,"no","no",null,null,null,"no","no",null,null,null,"no","no",null,null,null,"no","no","DOA und POA certified concerning EASA Regulations\nUp to now mainly Fuel Pumps, Valves, Tubes for HC Systems\n ","AHD; Pilatus  >> Production\nHMU Test Systems for EF 2000 Leonardo; for Airlines like British Airways; Air France; Lufthansa ","High availability performance","no","yes",null,null,null,"no","no",0,0,0,0,0,0,0,0,0,1,null,null,null,"no","no",null,null,null,"no","no",null,null,null,"no","no",null,null,null,"no","no",null,null,null,"no","no",null,null,null,"no","no",null,null,null,"no","no",null,null,null,"no","no",null,null,null,"no","no","For Weapon Systems TOR and EF2000: Development of Assembly & Diassembly Certified Tools","GAF ; RSAF; RAF",null,"yes","yes",0,1,0,null,null,null,"no","no","Test Equipment for all kinds of testing around an A/C. Civil & Military. \nArea : small Test Devices , Ground Power Units, Test Stands - for all media - like electrics, fuel, hydraulics, pneumatics, mechanics.","AB ; Boeing ; Airlines worldwide e.g. Lufthansa; BACE; Air France, COMAC, SIA.","Development of Test Intelligence/ Augmented Test Systems","yes","yes",null,null,null,"no","no",1,0,"For all Products & foreign ones , we guarantee the whole Life Cycle Support in Calibration, Repair  & Overhaul","AB; Boeing; CAAC; GAF; RAF; RSAF; IAF; Embraer; LH; Air FRance ; BACE; ...etc.","High Performance 24/7",1,1,null,null,null,"no","no",0,null,null,"no","no"]
["Thales Deutschland ",0,0,0,0,null,null,null,"no","no",null,null,null,"no","no",null,null,null,"no","no",null,null,null,"no","no",1,0,0,0,0,0,0,0,0,0,1,1,0,0,"Development of semiconductor technologies and production of corresponding components ","Extensive references within defence segment (e.g. T/R modules for EF Typhoon and Rafale fire control radars)","Classified information, available on request","yes","yes",null,null,null,"no","no",null,null,null,"no","no",null,null,null,"no","no",null,null,null,"no","no",null,null,null,"no",null,null,null,null,"no","no",null,null,null,"no","no",null,null,null,"no","no",null,null,null,"no","no","Antennas","Extensive references within defence segment ","Classified information, available on request","yes","yes","Sensor technology, especially radar and optronics, incl. sensor fusion  ","Extensive Thales Group references incl. surveillance radar product line / competence centre in Germany","Classified information, available on request","yes","yes",null,null,null,"no","no",null,null,null,0,0,0,0,0,0,0,0,null,null,null,"no","no",null,null,null,"no","no",null,null,null,"no","no",null,null,null,"no","no",null,null,null,"no","no",null,null,null,"no","no",1,1,1,1,0,0,0,"Avionics Systems and Cockpit Avionics. Aviation Certificate approved by German Defence Aviation Authority","Extensive worldwide references incl. German military platforms such as A400M","Classified information, available on request","yes","yes","Radios and data links incl. waveform development. Big Data, AI, Cyber Security (incl. Crypto Management), Military IoT / Connectivity","Extensive worldwide references including German platforms such as Tornado. Competence Centre in Germany","Classified information, available on request ","yes","yes","Flight & Engine Control","Extensive worldwide references with platforms such as EF Typhoon and Tornado","Classified information, available on request","yes","yes","Display Systems and symbol generators, incl. Head Mounted Sight Displays","Extensive worldwide references with platforms such as A400M, NH90 and Tiger","Classified information, available on request","yes","yes",null,null,null,"no","no",null,null,null,"no","no",null,null,null,0,0,0,0,0,0,0,0,null,null,null,"no","no",null,null,null,"no","no",null,null,null,"no","no",null,null,null,"no","no",null,null,null,"no","no",null,null,null,"no","no",0,0,0,0,1,0,0,0,0,0,null,null,null,"no","no",null,null,null,"no","no",null,null,null,"no","no",null,null,null,"no","no","Local manufacturing of Thales Group products and solutions in Germany incl. transfer of relevant competencies and underpinning technologies","Various Thales’ solutions adapted to needs of German customers with local value chain presence, e.g. optronics and communications","Not Applicable","yes","yes",null,null,null,"no","no",null,null,null,"no","no",null,null,null,"no","no",null,null,null,"no","no",null,null,null,"no","no",0,1,1,null,null,null,"no","no","Electronic test equipment","Relevant references within defence segment, especially test equipment for own portfolio","Available on request, subject to company internal product policy","yes","yes","Environmental and Physical Testing, FAT. Full range of service business models","Extensive references within defence projects delivered in Germany","Classified information, available on request","yes","yes",0,1,null,null,null,0,0,"System of System Simulation, Collective Training (Joint & Combined), Full Flight Simulation, Cockpit Trainer & Procedural Training, Electronic Warfare Training","Extensive references in Germany and worldwide with platforms such as EF Typhoon and A400M. Competence Centre in Germany","Classified information, available on request","yes","yes",1,"System of Systems & Smart Connectivity: Maneuvering Data, Securing & Distributing Knowledge to ensure Information Superiority\nThales Group Competences demonstrated in numerous European programmes ","Classified information, available on request ","yes","yes"]
["TRIGO Qualitaire GmbH",0,0,0,0,null,null,null,"no","no",null,null,null,"no","no",null,null,null,"no","no",null,null,null,"no","no",0,0,0,0,0,0,0,0,0,0,0,0,0,0,null,null,null,"no","no",null,null,null,"no","no",null,null,null,"no","no",null,null,null,"no","no",null,null,null,"no","no",null,null,null,"no",null,null,null,null,"no","no",null,null,null,"no","no",null,null,null,"no","no",null,null,null,"no","no",null,null,null,"no","no",null,null,null,"no","no",null,null,null,"no","no",null,null,null,0,0,0,0,0,0,0,0,null,null,null,"no","no",null,null,null,"no","no",null,null,null,"no","no",null,null,null,"no","no",null,null,null,"no","no",null,null,null,"no","no",0,0,0,0,0,0,0,null,null,null,"no","no",null,null,null,"no","no",null,null,null,"no","no",null,null,null,"no","no",null,null,null,"no","no",null,null,null,"no","no",null,null,null,0,0,0,0,0,0,0,0,null,null,null,"no","no",null,null,null,"no","no",null,null,null,"no","no",null,null,null,"no","no",null,null,null,"no","no",null,null,null,"no","no",0,0,0,0,0,0,0,0,0,0,null,null,null,"no","no",null,null,null,"no","no",null,null,null,"no","no",null,null,null,"no","no",null,null,null,"no","no",null,null,null,"no","no",null,null,null,"no","no",null,null,null,"no","no",null,null,null,"no","no",null,null,null,"no","no",0,0,0,null,null,null,"no","no",null,null,null,"no","no",null,null,null,"no","no",0,0,null,null,null,0,0,null,null,null,"no","no",0,null,null,"no","no"]
["Trumpf Laser- und Systemtechnik GmbH",0,1,0,0,null,null,null,"no","no","Laser cutting of CFRP components with our machine portfolio possible.","Protected through Non Disclosure Agreements.",null,"no","no",null,null,null,"no","no",null,null,null,"no","no",0,0,0,0,0,0,0,0,0,0,0,0,0,0,null,null,null,"no","no",null,null,null,"no","no",null,null,null,"no","no",null,null,null,"no","no",null,null,null,"no","no",null,null,null,"no",null,null,null,null,"no","no",null,null,null,"no","no",null,null,null,"no","no",null,null,null,"no","no",null,null,null,"no","no",null,null,null,"no","no",null,null,null,"no","no",null,null,null,0,0,0,0,0,0,0,0,null,null,null,"no","no",null,null,null,"no","no",null,null,null,"no","no",null,null,null,"no","no",null,null,null,"no","no",null,null,null,"no","no",0,0,0,0,0,0,0,null,null,null,"no","no",null,null,null,"no","no",null,null,null,"no","no",null,null,null,"no","no",null,null,null,"no","no",null,null,null,"no","no",null,null,null,0,0,0,0,0,0,0,0,null,null,null,"no","no",null,null,null,"no","no",null,null,null,"no","no",null,null,null,"no","no",null,null,null,"no","no",null,null,null,"no","no",0,0,0,0,0,0,1,0,0,0,null,null,null,"no","no",null,null,null,"no","no",null,null,null,"no","no",null,null,null,"no","no",null,null,null,"no","no",null,null,null,"no","no","Press brakes, Punching machines, Laser cutting, laser welding, Additive Manufacturing, laser ablation, laser marking, laser hardening, laser sources for nearly all applications","Thousands of customers world wide, hundreds of customers in aerospace. Protected through Non Disclosure Agreements.",null,"no","no",null,null,null,"no","no",null,null,null,"no","no",null,null,null,"no","no",0,0,0,null,null,null,"no","no",null,null,null,"no","no",null,null,null,"no","no",0,0,null,null,null,0,0,null,null,null,"no","no",0,null,null,"no","no"]
["usb GmbH",0,0,0,0,null,null,null,"no","no",null,null,null,"no","no",null,null,null,"no","no",null,null,null,"no","no",0,0,0,0,0,0,0,0,0,0,0,0,0,0,null,null,null,"no","no",null,null,null,"no","no",null,null,null,"no","no",null,null,null,"no","no",null,null,null,"no","no",null,null,null,"no",null,null,null,null,"no","no",null,null,null,"no","no",null,null,null,"no","no",null,null,null,"no","no",null,null,null,"no","no",null,null,null,"no","no",null,null,null,"no","no",null,null,null,0,0,0,0,0,0,0,0,null,null,null,"no","no",null,null,null,"no","no",null,null,null,"no","no",null,null,null,"no","no",null,null,null,"no","no",null,null,null,"no","no",0,0,0,0,0,0,0,null,null,null,"no","no",null,null,null,"no","no",null,null,null,"no","no",null,null,null,"no","no",null,null,null,"no","no",null,null,null,"no","no",null,null,null,0,0,0,0,0,0,0,0,null,null,null,"no","no",null,null,null,"no","no",null,null,null,"no","no",null,null,null,"no","no",null,null,null,"no","no",null,null,null,"no","no",0,0,0,0,0,0,0,0,0,0,null,null,null,"no","no",null,null,null,"no","no",null,null,null,"no","no",null,null,null,"no","no",null,null,null,"no","no",null,null,null,"no","no",null,null,null,"no","no",null,null,null,"no","no",null,null,null,"no","no",null,null,null,"no","no",0,0,0,null,null,null,"no","no",null,null,null,"no","no",null,null,null,"no","no",1,0,"Definition of Configuration Management Processes, CM Planning, CM identification, CM Change Control, CM Status Accounting, CM Verification,  PLM consulting, introduction and implementation services","Airbus DS, Hensoldt, KMW",null,1,1,null,null,null,"no","no",0,null,null,"no","no"]
["VINCORION - Jenoptik Advanced Systems GmbH",1,1,1,0,"Beschichtung von Composite Flächenteilen z. B. Coatings für Anti-Erosion, Di-elektrische Kompensation und zur Radarabsorbtion ","Awacs-Rotodom, Eurofighter, Tornado, Nose-Radomes","non-disclose","yes","yes","Radome, Antenna Cover, Satcom Radomes UAV (HALE), Structural Parts, e.g. Fuselage","Eurofighter, Tornado, Transall,\nNH90, Awacs, Airbus Fleet (different types)","non-disclose","yes","yes","tbd.",null,null,"yes","no",null,null,null,null,null,1,1,null,1,null,null,null,1,null,null,null,null,null,null,"Tailor-made Controllers (LRUs), Generator Control Units (GCUs)","Airbus Fleet, Eurofighter, Tornado","non-disclose","yes","yes","EHA’s / power drive units z.B. für Slats / Flap / Rudder Actuation, Ligh Lift, VSV etc.",null,"non-disclose","yes","yes",null,null,null,null,null,"Electro thermal De-Icing and Heating Subsystems:\n- Windshield\n- Triebwerkseinlass\n- Flaps / Rudder / Wings etc.\n- Heating (cold spots / air)\n","Boeing, Westland, Airbus, Tornado","non-disclose","yes","yes",null,null,null,null,null,null,null,null,null,null,null,null,null,null,null,"Hoists e.g. for Ordnance purpose (Bombenschacht) ",null,"non-disclose","yes","yes",null,null,null,null,null,null,null,null,null,null,null,null,null,null,null,null,null,null,null,null,null,null,null,null,null,null,null,null,null,null,null,1,null,null,null,1,null,null,null,null,null,"Heated Components (Air, Water), e.g. floor-panel heated, duct-heater, heated pipes and valves","Airbus Fleet","non-disclosure","yes","yes",null,null,null,null,null,null,null,null,"no","no",null,null,null,"no","no","Ordnance Hoists","non-dislosure","non-disclosure","yes","yes",null,null,null,null,null,null,null,null,null,null,"no","no",null,null,null,"no","no",null,null,null,"no","no",null,null,null,"no","no",null,null,null,"no","no",null,null,null,"no","no",null,null,null,"nicht 1","nicht 1",1,1,"nicht 1","nicht 1","nicht 1",1,"Electrical Generators / Alternators and GCU","Eurofighter","non-disclosure","yes","yes","Electrical Power Supply Subsystem & Components:  \n- High Volt DC or wild frequency main (Starter) / Generator system (including voltage controller)\n- Emergency Power and Auxiliary Power Generator system (Low- or High voltage) \n- Voltage converter DC/DC\n- Voltage inverter DC/AC\n","Eurofighter, Tornado, Lynx, CH53, UH1D","non-disclosure","yes","yes",null,null,null,"no","no",null,null,null,"no","no",null,null,null,"no","no","PTO (Power Take-off Shaft) ","Tornado","non-disclosure","yes","yes","nicht 1","nicht 1","nicht 1","nicht 1","nicht 1","nicht 1","nicht 1",1,"nicht 1","nicht 1",null,null,null,"no","no",null,null,null,"no","no",null,null,null,"no","no",null,null,null,"no","no",null,null,null,"no","no",null,null,null,"no","no",null,null,null,"no","no","Beschichtung / Lackierung von Composite Flächenteilen z. B. Coatings für Anti-Erosion, Di-elektrische Kompensation und zur Radarabsorbtion ","Awacs-Rotodom, Eurofighter, Tornado, Nose-Radomes","non-disclosure","yes","yes",null,null,null,"nicht yes","nicht yes",null,null,null,null,null,1,null,null,"Ground Handling Equipment, Power Supplies (GPUs)","Versorgung aller fliegenden Bundeswehr-Plattformen am Boden","non-disclosure","yes","yes",null,null,null,null,null,null,null,null,null,null,1,null,"3rd Party Maintenance, ILS für Eigen- und Fremdprodukte, Obsoleszenz-Management für Baugruppen über den gesamten Lebenszyklus","Bundeswehr","non-disclosure",1,1]
["Wassermann Technologie GmbH",0,0,0,1,null,null,null,"no","no",null,null,null,"no","no",null,null,null,"no","no","Titanium, Inconel, Aluminium, ",null,null,"yes","no",0,0,0,0,0,0,0,0,0,0,0,0,0,0,null,null,null,"no","no",null,null,null,"no","no",null,null,null,"no","no",null,null,null,"no","no",null,null,null,"no","no",null,null,null,"no",null,null,null,null,"no","no",null,null,null,"no","no",null,null,null,"no","no",null,null,null,"no","no",null,null,null,"no","no",null,null,null,"no","no",null,null,null,"no","no",null,null,null,0,0,0,0,0,0,0,0,null,null,null,"no","no",null,null,null,"no","no",null,null,null,"no","no",null,null,null,"no","no",null,null,null,"no","no",null,null,null,"no","no",0,0,0,0,0,0,0,null,null,null,"no","no",null,null,null,"no","no",null,null,null,"no","no",null,null,null,"no","no",null,null,null,"no","no",null,null,null,"no","no",null,null,null,0,0,0,0,0,0,0,0,null,null,null,"no","no",null,null,null,"no","no",null,null,null,"no","no",null,null,null,"no","no",null,null,null,"no","no",null,null,null,"no","no",0,0,0,1,1,1,0,0,0,0,null,null,null,"no","no",null,null,null,"no","no",null,null,null,"no","no","milling, turning, grinding",null,null,"no","yes","machining and assembly",null,null,"yes","no","Product-specific certifications and quality tests \nQuality analyses\nQuality documentation\nTest runs and initial start-up",null,null,"yes","no",null,null,null,"no","no",null,null,null,"no","no",null,null,null,"no","no",null,null,null,"no","no",0,0,0,null,null,null,"no","no",null,null,null,"no","no",null,null,null,"no","no",0,0,null,null,null,0,0,null,null,null,"no","no",0,null,null,"no","no"]
["Westdeutscher Metall-Handel GmbH",0,0,0,1,null,null,null,"no","no",null,null,null,"no","no",null,null,null,"no","no","Aluminium semi finished parts from plates & sheets, rods, profiles and tubes. Service Center includes plate saws, vertical band saws, foil coating and a water jet cutter",null,"Powder for 3D printing, AL-DC negative pole manual welding","yes","yes",0,0,0,0,0,0,0,0,0,0,0,0,0,0,null,null,null,"no","no",null,null,null,"no","no",null,null,null,"no","no",null,null,null,"no","no",null,null,null,"no","no",null,null,null,"no",null,null,null,null,"no","no",null,null,null,"no","no",null,null,null,"no","no",null,null,null,"no","no",null,null,null,"no","no",null,null,null,"no","no",null,null,null,"no","no",null,null,null,0,0,0,0,0,0,0,0,null,null,null,"no","no",null,null,null,"no","no",null,null,null,"no","no",null,null,null,"no","no",null,null,null,"no","no",null,null,null,"no","no",0,0,0,0,0,0,0,null,null,null,"no","no",null,null,null,"no","no",null,null,null,"no","no",null,null,null,"no","no",null,null,null,"no","no",null,null,null,"no","no",null,null,null,0,0,0,0,0,0,0,0,null,null,null,"no","no",null,null,null,"no","no",null,null,null,"no","no",null,null,null,"no","no",null,null,null,"no","no",null,null,null,"no","no",0,0,0,1,0,0,0,0,0,0,null,null,null,"no","no",null,null,null,"no","no",null,null,null,"no","no","Aluminium semi finished parts from plates & sheets, rods, profiles and tubes. Service Center includes plate saws, vertical band saws, foil coating and a water jet cutter",null,"Powder for 3D printing, AL-DC negative pole manual welding","yes","yes",null,null,null,"no","no",null,null,null,"no","no",null,null,null,"no","no",null,null,null,"no","no",null,null,null,"no","no",null,null,null,"no","no",0,0,0,null,null,null,"no","no",null,null,null,"no","no",null,null,null,"no","no",0,0,null,null,null,0,0,null,null,null,"no","no",0,null,null,"no","no"]
["ZF Luftfahrttechnik GmbH",0,0,1,1,null,null,null,"no","no",null,null,null,"no","no","Innovative approaches for weight reduction","Integrated dynamic system","CFK gear box housing","yes","yes","Additive manufacturing: 3D printing in serial production and for spare parts production","oil pump","Additive manufacturing for military end-users  to produce spare parts, particularly in the context of direct supply in overseas operations using wide range of high performant material","yes","yes",0,1,0,0,0,0,0,1,0,0,0,0,0,0,null,null,null,"no","no","Actuators for high-lift system, wing control and rotor control (linear and rotary actuators)","Airbus A320, A330, A340, Panavia Tornado, CH-53, LIBRAS","Actuators for active rotor control, e.g. Smart Pitch Rod for In-Flight Tuninig,  Electrical Swaschplate, swashplate-less Blade Root Control","no","yes",null,null,null,"no","no",null,null,null,"no","no",null,null,null,"no","no",null,null,null,"no",null,null,null,null,"no","no","Development, production and MRO Services of various mechanical components","mission equipment such as winches and hoist/rescue hoists","automated load hooks/lifting devices for UAVs","no","yes",null,null,null,"no","no",null,null,null,"no","no",null,null,null,"no","no",null,null,null,"no","no",null,null,null,"no","no",null,null,null,0,0,0,0,0,1,0,0,null,null,null,"no","no",null,null,null,"no","no",null,null,null,"no","no","MRO and Engineering Services for various hydraulic components ","Hydraulic flight control of  military helicopters",null,"yes","yes",null,null,null,"no","no",null,null,null,"no","no",0,0,0,0,0,0,0,null,null,null,"no","no",null,null,null,"no","no",null,null,null,"no","no",null,null,null,"no","no",null,null,null,"no","no",null,null,null,"no","no",null,null,null,0,0,0,0,1,0,1,1,null,null,null,"no","no",null,null,null,"no","no","Development, Production and MRO of accessory gearboxes and development of alternative Propulsion Systems for innovative applications","Engine Accessory Gearboxes","Development of electric and hybrid-electric propulsion systems for various applications in manned and unmanned platforms","no","yes",null,null,null,"no","no","MRO and Engineering Services for various components of the fuel circuit ","bag-type fuel tanks",null,"yes","yes","Development, production and MRO of transmission systems for helicopetrs and fixed-wing aircrafts","Helicopter Main Transmission (e.g. FS108 – MGB for H135/EC635), Helicopter Tail and Intermediate Gearboxes (e.g. Tiger), Tilt-Rotor-Airplane Propeller Gearbox, Airship Propeller Gearbox (Zeppelin NT)","Development, Production and MRO of an RPAS Accessory Gearbox and Propeller Gearbox Module","no","yes",0,1,0,1,1,1,0,1,0,0,null,null,null,"no","no","Transport and handling trolleys for major components, Military certified transport and storage containers, Ground Support Equipment for servicing","MGB transport trolley, various non-wooden containers for small to oversized parts, de-humidification kits",null,"yes","yes",null,null,null,"no","no","All kind of machining as part of our manufacturing capabilities",null,null,"no","no","Wide range of manufacturing capabilities as a one-stop-shop for Build-to-Spec and Build-to-print approaches","Turning, milling, gear cutting, Grinding, NDT, Special Processes, heat treatment, galvanisation, painting, test benches and 3D measurement facility","Additive manufacturing for military end-users  to produce spare parts, particularly in the context of direct supply in overseas operations using wide range of high performant material","yes","yes","3D measurement facilities as part of our manufacturing capabilities",null,null,"no","no",null,null,null,"no","no","Various special processes for surface treatment as part of our manufacturing capabilities","e.g. Cadmium plating, Aluminium hard coating, chromating, passivating, nitrating, anodizing, shot peening",null,"no","no",null,null,null,"no","no",null,null,null,"no","no",0,1,1,null,null,null,"no","no","Realization of turn-key test facilities for dynamic systems","Aviation Gearbox Test Stands for international customers, Multipurpose Whirltowers",null,"yes","yes","Operation of Europe-wide biggest test centre for Aviation Gearboxes at our facilities in Calden for in-house purposes and on behalf of our customers",null,null,"no","yes",0,0,null,null,null,0,0,null,null,null,"no","no",0,null,null,"no","no"]
["ZOLLERN GmbH&Co.KG - BU Investment Casting",0,0,0,1,null,null,null,"no","no",null,null,null,"no","no",null,null,null,"no","no","Investment Casting in Steel, Superalloys and Aluminium; Productportfolio: Casted Parts including machining and surface treatment -> ready for integration",null,null,"yes","yes",0,0,0,0,0,0,0,1,0,0,0,0,1,1,null,null,null,"no","no",null,null,null,"no","no",null,null,null,"no","no",null,null,null,"no","no",null,null,null,"no","no",null,null,null,"no",null,null,null,null,"no","no","Investment Casting in Steel, Superalloys and Aluminium; Productportfolio: Casted Parts including machining and surface treatment -> ready for integration",null,null,"yes","yes",null,null,null,"no","no",null,null,null,"no","no",null,null,null,"no","no",null,null,null,"no","no","Investment Casting in Steel, Superalloys and Aluminium; Productportfolio: Casted Parts including machining and surface treatment -> ready for integration",null,null,"yes","yes","Investment Casting in Steel, Superalloys and Aluminium; Productportfolio: Casted Parts including machining and surface treatment -> ready for integration",null,null,1,1,0,0,0,0,0,0,null,null,null,"no","no",null,null,null,"no","no",null,null,null,"no","no",null,null,null,"no","no",null,null,null,"no","no",null,null,null,"no","no",0,0,0,0,0,0,0,null,null,null,"no","no",null,null,null,"no","no",null,null,null,"no","no",null,null,null,"no","no",null,null,null,"no","no",null,null,null,"no","no",null,null,null,0,0,0,0,0,0,0,0,null,null,null,"no","no",null,null,null,"no","no",null,null,null,"no","no",null,null,null,"no","no",null,null,null,"no","no",null,null,null,"no","no",0,0,0,0,0,0,0,0,0,0,null,null,null,"no","no",null,null,null,"no","no",null,null,null,"no","no",null,null,null,"no","no",null,null,null,"no","no",null,null,null,"no","no",null,null,null,"no","no",null,null,null,"no","no",null,null,null,"no","no",null,null,null,"no","no",0,0,0,null,null,null,"no","no",null,null,null,"no","no",null,null,null,"no","no",0,0,null,null,null,0,0,null,null,null,"no","no",0,null,null,"no","no"]

{"sheet":"Answers","index":2,"n_rows":18,"n_cols":6,"rows_kept":18,"cut":false,"hidden":false,"merged":[[0,1,0,5]]}
["POWER SYSTEMS","ENGINE COMPONENTS"]
["Firma","  Short discriptions ","  Reference","  Product Innovation Outlook","    FIGHTER","REMOTE CARRIERS"]
["Airbus Defence and Space","Top-level requirement setting for Tier 1 and Tier 2 suppliers , design and integration","Tornado and Eurofighter development programs","Formulation of design and integration requirements for FCAS  ","yes","yes"]
["AKG Thermotechnik GmbH & Co. KG","Oil coolers, (liquid/air, liquid/liquid) for engines","Oil coolers for turboprop engines like PT 6 etc.","new designs and hx configurations based on 3D printing technologies","no","no"]
["AKKA Germany","AKKA´s competence experience in Engineering Services covers the Engine System integration","Engine System Integration, incl.:\n- bleed air\n- fuel System\n- oil System",null,"yes","yes"]
["Diehl Aerospace","Digital Engine Control Unit","Tornado","Size reduction, performance improvement","yes","yes"]
["Elektro-Metall Export GmbH","Hydraulic Pressure Switches","Rolls-Royce Trent 700/7000",null,"yes","no"]
["HEGGEMANN AG","Welding components, NADCAP qualification, thin-walled jet engine parts to complex structure parts, from steel to titanium, machining, sheet metal production.","Rolls-Royce, GE, MTU, Siemens","Hot Forming of Titanium, WAAM","yes","yes"]
["HYDRO Systems KG","All required engine tools need to be received on time, in right quality, quantity and within budget:","11.533 engine tools delivered in 2017 with 2.847 bespoke\n",null,"no","no"]
["IMA Materialforschung und Anwendungstechnik GmbH","Mechanical Tests, Static and Dynamic Tests, Vibration Tests & Shock Tests, Climate & Temperature Tests, High Frequency Tests, Load Simulation Test, FEM Simulation & Analysis, Material ","Confidential - Testing for several industrial branches (Aerospace, Automotive, Wind Energy, Railway. Medical Industry)","Not relevant","no","no"]
["Liebherr Aerospace GmbH","Power Gears, Pneumatic Valves, Electrical Valves, EDP, Loose Gears, Fueldraulic Valves, Heat Exchangers","Propulsion System, Bleed System, Hydraulic Generation","High Efficiency, Compact Design","yes","yes"]
["Leistritz Turbinentechnik","compressor blades and vanes/ vane clusters, compressor and turbine disks, TiAl turbine blades, structural parts/engine mounts","MTU-RB199, EJ200, PW1100, SAFRAN-M88, SAM146, LEAP, Rolls-Royce-Trent engines, Pratt&Whitney-PW1100","blisks/IBRs, metal leading edges","yes","yes"]
["MT Aerospace AG","Various rotative engine components (blades, blisks, rings, …)","Rolls-Royce, MTU, SNECMA, ...","Additive manufacturing","yes","yes"]
["MTU Aero Engines AG","all kind of components for engines","RB199, EJ200, MTR390, TP400","broad spectrum of Innovation outlook of the complete set of  an complete engine ","yes","yes"]
["Nord-Micro","Tubes, mechanical assemblies for engines",null,null,"yes","yes"]
["OTTO FUCHS KG","Forged and Ringrolled Rings, Discs, OGV, SGV","MTU, SAFRAN, Rolls-Royce, Pratt&Whitney",null,"no","no"]
["Schölderle GmbH","discs\nrotating rings\nCasings",null,null,"yes","yes"]
["ZF Luftfahrttechnik GmbH","Development, Production and MRO of accessory gearboxes and development of alternative Propulsion Systems for innovative applications","Engine Accessory Gearboxes","Development of electric and hybrid-electric propulsion systems for various applications in manned and unmanned platforms","no","yes"]

{"sheet":"Alerts","index":3,"n_rows":2009,"n_cols":4,"rows_kept":2009,"cut":false,"hidden":true,"merged":[]}
[null,"Warnungen",{"$f":"COUNTIF(B3:D99999,\"alert\")","v":4}]
["Zeilen","Warnung","Zeichen","Warnung"]
[{"$f":"1 + LEN(Answers!B2) - LEN(SUBSTITUTE(Answers!B2,CHAR(10),\"\"))","v":1},{"$f":"IF(A3>4,\"alert\",\"\")","v":""},{"$f":"LEN(Answers!B2)","v":21},{"$f":"IF(C3>120,\"alert\",\"\")","v":""}]
[{"$f":"1 + LEN(Answers!B3) - LEN(SUBSTITUTE(Answers!B3,CHAR(10),\"\"))","v":1},{"$f":"IF(A4>4,\"alert\",\"\")","v":""},{"$f":"LEN(Answers!B3)","v":86},{"$f":"IF(C4>120,\"alert\",\"\")","v":""}]
[{"$f":"1 + LEN(Answers!B4) - LEN(SUBSTITUTE(Answers!B4,CHAR(10),\"\"))","v":1},"",{"$f":"LEN(Answers!B4)","v":52},""]
[{"$f":"1 + LEN(Answers!B5) - LEN(SUBSTITUTE(Answers!B5,CHAR(10),\"\"))","v":1},"",{"$f":"LEN(Answers!B5)","v":89},""]
[{"$f":"1 + LEN(Answers!B6) - LEN(SUBSTITUTE(Answers!B6,CHAR(10),\"\"))","v":1},"",{"$f":"LEN(Answers!B6)","v":27},""]
[{"$f":"1 + LEN(Answers!B7) - LEN(SUBSTITUTE(Answers!B7,CHAR(10),\"\"))","v":1},"",{"$f":"LEN(Answers!B7)","v":27},""]
[{"$f":"1 + LEN(Answers!B8) - LEN(SUBSTITUTE(Answers!B8,CHAR(10),\"\"))","v":1},"",{"$f":"LEN(Answers!B8)","v":157},"alert"]
[{"$f":"1 + LEN(Answers!B9) - LEN(SUBSTITUTE(Answers!B9,CHAR(10),\"\"))","v":1},"",{"$f":"LEN(Answers!B9)","v":100},""]
[{"$f":"1 + LEN(Answers!B10) - LEN(SUBSTITUTE(Answers!B10,CHAR(10),\"\"))","v":1},"",{"$f":"LEN(Answers!B10)","v":184},"alert"]
[{"$f":"1 + LEN(Answers!B11) - LEN(SUBSTITUTE(Answers!B11,CHAR(10),\"\"))","v":1},"",{"$f":"LEN(Answers!B11)","v":103},""]
[{"$f":"1 + LEN(Answers!B12) - LEN(SUBSTITUTE(Answers!B12,CHAR(10),\"\"))","v":1},"",{"$f":"LEN(Answers!B12)","v":125},"alert"]
[{"$f":"1 + LEN(Answers!B13) - LEN(SUBSTITUTE(Answers!B13,CHAR(10),\"\"))","v":1},"",{"$f":"LEN(Answers!B13)","v":61},""]
[{"$f":"1 + LEN(Answers!B14) - LEN(SUBSTITUTE(Answers!B14,CHAR(10),\"\"))","v":1},"",{"$f":"LEN(Answers!B14)","v":34},""]
[{"$f":"1 + LEN(Answers!B15) - LEN(SUBSTITUTE(Answers!B15,CHAR(10),\"\"))","v":1},"",{"$f":"LEN(Answers!B15)","v":40},""]
[{"$f":"1 + LEN(Answers!B16) - LEN(SUBSTITUTE(Answers!B16,CHAR(10),\"\"))","v":1},"",{"$f":"LEN(Answers!B16)","v":44},""]
[{"$f":"1 + LEN(Answers!B17) - LEN(SUBSTITUTE(Answers!B17,CHAR(10),\"\"))","v":3},"",{"$f":"LEN(Answers!B17)","v":28},""]
[{"$f":"1 + LEN(Answers!B18) - LEN(SUBSTITUTE(Answers!B18,CHAR(10),\"\"))","v":1},"",{"$f":"LEN(Answers!B18)","v":132},"alert"]
[{"$f":"1 + LEN(Answers!B19) - LEN(SUBSTITUTE(Answers!B19,CHAR(10),\"\"))","v":1},"",{"$f":"LEN(Answers!B19)","v":0},""]
[{"$f":"1 + LEN(Answers!B20) - LEN(SUBSTITUTE(Answers!B20,CHAR(10),\"\"))","v":1},"",{"$f":"LEN(Answers!B20)","v":0},""]
[{"$f":"1 + LEN(Answers!B21) - LEN(SUBSTITUTE(Answers!B21,CHAR(10),\"\"))","v":1},"",{"$f":"LEN(Answers!B21)","v":0},""]
[{"$f":"1 + LEN(Answers!B22) - LEN(SUBSTITUTE(Answers!B22,CHAR(10),\"\"))","v":1},"",{"$f":"LEN(Answers!B22)","v":0},""]
[{"$f":"1 + LEN(Answers!B23) - LEN(SUBSTITUTE(Answers!B23,CHAR(10),\"\"))","v":1},"",{"$f":"LEN(Answers!B23)","v":0},""]
[{"$f":"1 + LEN(Answers!B24) - LEN(SUBSTITUTE(Answers!B24,CHAR(10),\"\"))","v":1},"",{"$f":"LEN(Answers!B24)","v":0},""]
[{"$f":"1 + LEN(Answers!B25) - LEN(SUBSTITUTE(Answers!B25,CHAR(10),\"\"))","v":1},"",{"$f":"LEN(Answers!B25)","v":0},""]
[{"$f":"1 + LEN(Answers!B26) - LEN(SUBSTITUTE(Answers!B26,CHAR(10),\"\"))","v":1},"",{"$f":"LEN(Answers!B26)","v":0},""]
[{"$f":"1 + LEN(Answers!B27) - LEN(SUBSTITUTE(Answers!B27,CHAR(10),\"\"))","v":1},"",{"$f":"LEN(Answers!B27)","v":0},""]
[{"$f":"1 + LEN(Answers!B28) - LEN(SUBSTITUTE(Answers!B28,CHAR(10),\"\"))","v":1},"",{"$f":"LEN(Answers!B28)","v":0},""]
[{"$f":"1 + LEN(Answers!B29) - LEN(SUBSTITUTE(Answers!B29,CHAR(10),\"\"))","v":1},"",{"$f":"LEN(Answers!B29)","v":0},""]
[{"$f":"1 + LEN(Answers!B30) - LEN(SUBSTITUTE(Answers!B30,CHAR(10),\"\"))","v":1},"",{"$f":"LEN(Answers!B30)","v":0},""]
[{"$f":"1 + LEN(Answers!B31) - LEN(SUBSTITUTE(Answers!B31,CHAR(10),\"\"))","v":1},"",{"$f":"LEN(Answers!B31)","v":0},""]
[{"$f":"1 + LEN(Answers!B32) - LEN(SUBSTITUTE(Answers!B32,CHAR(10),\"\"))","v":1},"",{"$f":"LEN(Answers!B32)","v":0},""]
[{"$f":"1 + LEN(Answers!B33) - LEN(SUBSTITUTE(Answers!B33,CHAR(10),\"\"))","v":1},"",{"$f":"LEN(Answers!B33)","v":0},""]
[{"$f":"1 + LEN(Answers!B34) - LEN(SUBSTITUTE(Answers!B34,CHAR(10),\"\"))","v":1},"",{"$f":"LEN(Answers!B34)","v":0},""]
[{"$f":"1 + LEN(Answers!B35) - LEN(SUBSTITUTE(Answers!B35,CHAR(10),\"\"))","v":1},"",{"$f":"LEN(Answers!B35)","v":0},""]
[{"$f":"1 + LEN(Answers!B36) - LEN(SUBSTITUTE(Answers!B36,CHAR(10),\"\"))","v":1},"",{"$f":"LEN(Answers!B36)","v":0},""]
[{"$f":"1 + LEN(Answers!B37) - LEN(SUBSTITUTE(Answers!B37,CHAR(10),\"\"))","v":1},"",{"$f":"LEN(Answers!B37)","v":0},""]
[{"$f":"1 + LEN(Answers!B38) - LEN(SUBSTITUTE(Answers!B38,CHAR(10),\"\"))","v":1},"",{"$f":"LEN(Answers!B38)","v":0},""]
[{"$f":"1 + LEN(Answers!B39) - LEN(SUBSTITUTE(Answers!B39,CHAR(10),\"\"))","v":1},"",{"$f":"LEN(Answers!B39)","v":0},""]
[{"$f":"1 + LEN(Answers!B40) - LEN(SUBSTITUTE(Answers!B40,CHAR(10),\"\"))","v":1},"",{"$f":"LEN(Answers!B40)","v":0},""]
[{"$f":"1 + LEN(Answers!B41) - LEN(SUBSTITUTE(Answers!B41,CHAR(10),\"\"))","v":1},"",{"$f":"LEN(Answers!B41)","v":0},""]
[{"$f":"1 + LEN(Answers!B42) - LEN(SUBSTITUTE(Answers!B42,CHAR(10),\"\"))","v":1},"",{"$f":"LEN(Answers!B42)","v":0},""]
[{"$f":"1 + LEN(Answers!B43) - LEN(SUBSTITUTE(Answers!B43,CHAR(10),\"\"))","v":1},"",{"$f":"LEN(Answers!B43)","v":0},""]
[{"$f":"1 + LEN(Answers!B44) - LEN(SUBSTITUTE(Answers!B44,CHAR(10),\"\"))","v":1},"",{"$f":"LEN(Answers!B44)","v":0},""]
[{"$f":"1 + LEN(Answers!B45) - LEN(SUBSTITUTE(Answers!B45,CHAR(10),\"\"))","v":1},"",{"$f":"LEN(Answers!B45)","v":0},""]
[{"$f":"1 + LEN(Answers!B46) - LEN(SUBSTITUTE(Answers!B46,CHAR(10),\"\"))","v":1},"",{"$f":"LEN(Answers!B46)","v":0},""]
[{"$f":"1 + LEN(Answers!B47) - LEN(SUBSTITUTE(Answers!B47,CHAR(10),\"\"))","v":1},"",{"$f":"LEN(Answers!B47)","v":0},""]
[{"$f":"1 + LEN(Answers!B48) - LEN(SUBSTITUTE(Answers!B48,CHAR(10),\"\"))","v":1},"",{"$f":"LEN(Answers!B48)","v":0},""]
[{"$f":"1 + LEN(Answers!B49) - LEN(SUBSTITUTE(Answers!B49,CHAR(10),\"\"))","v":1},"",{"$f":"LEN(Answers!B49)","v":0},""]
[{"$f":"1 + LEN(Answers!B50) - LEN(SUBSTITUTE(Answers!B50,CHAR(10),\"\"))","v":1},"",{"$f":"LEN(Answers!B50)","v":0},""]
[{"$f":"1 + LEN(Answers!B51) - LEN(SUBSTITUTE(Answers!B51,CHAR(10),\"\"))","v":1},"",{"$f":"LEN(Answers!B51)","v":0},""]
[{"$f":"1 + LEN(Answers!B52) - LEN(SUBSTITUTE(Answers!B52,CHAR(10),\"\"))","v":1},"",{"$f":"LEN(Answers!B52)","v":0},""]
[{"$f":"1 + LEN(Answers!B53) - LEN(SUBSTITUTE(Answers!B53,CHAR(10),\"\"))","v":1},"",{"$f":"LEN(Answers!B53)","v":0},""]
[{"$f":"1 + LEN(Answers!B54) - LEN(SUBSTITUTE(Answers!B54,CHAR(10),\"\"))","v":1},"",{"$f":"LEN(Answers!B54)","v":0},""]
[{"$f":"1 + LEN(Answers!B55) - LEN(SUBSTITUTE(Answers!B55,CHAR(10),\"\"))","v":1},"",{"$f":"LEN(Answers!B55)","v":0},""]
[{"$f":"1 + LEN(Answers!B56) - LEN(SUBSTITUTE(Answers!B56,CHAR(10),\"\"))","v":1},"",{"$f":"LEN(Answers!B56)","v":0},""]
[{"$f":"1 + LEN(Answers!B57) - LEN(SUBSTITUTE(Answers!B57,CHAR(10),\"\"))","v":1},"",{"$f":"LEN(Answers!B57)","v":0},""]
[{"$f":"1 + LEN(Answers!B58) - LEN(SUBSTITUTE(Answers!B58,CHAR(10),\"\"))","v":1},"",{"$f":"LEN(Answers!B58)","v":0},""]
[{"$f":"1 + LEN(Answers!B59) - LEN(SUBSTITUTE(Answers!B59,CHAR(10),\"\"))","v":1},"",{"$f":"LEN(Answers!B59)","v":0},""]
[{"$f":"1 + LEN(Answers!B60) - LEN(SUBSTITUTE(Answers!B60,CHAR(10),\"\"))","v":1},"",{"$f":"LEN(Answers!B60)","v":0},""]
[{"$f":"1 + LEN(Answers!B61) - LEN(SUBSTITUTE(Answers!B61,CHAR(10),\"\"))","v":1},"",{"$f":"LEN(Answers!B61)","v":0},""]
[{"$f":"1 + LEN(Answers!B62) - LEN(SUBSTITUTE(Answers!B62,CHAR(10),\"\"))","v":1},"",{"$f":"LEN(Answers!B62)","v":0},""]
[{"$f":"1 + LEN(Answers!B63) - LEN(SUBSTITUTE(Answers!B63,CHAR(10),\"\"))","v":1},"",{"$f":"LEN(Answers!B63)","v":0},""]
[{"$f":"1 + LEN(Answers!B64) - LEN(SUBSTITUTE(Answers!B64,CHAR(10),\"\"))","v":1},"",{"$f":"LEN(Answers!B64)","v":0},""]
[{"$f":"1 + LEN(Answers!B65) - LEN(SUBSTITUTE(Answers!B65,CHAR(10),\"\"))","v":1},"",{"$f":"LEN(Answers!B65)","v":0},""]
[{"$f":"1 + LEN(Answers!B66) - LEN(SUBSTITUTE(Answers!B66,CHAR(10),\"\"))","v":1},"",{"$f":"LEN(Answers!B66)","v":0},""]
[{"$f":"1 + LEN(Answers!B67) - LEN(SUBSTITUTE(Answers!B67,CHAR(10),\"\"))","v":1},{"$f":"IF(A68>4,\"alert\",\"\")","v":""},{"$f":"LEN(Answers!B67)","v":0},{"$f":"IF(C68>120,\"alert\",\"\")","v":""}]
[{"$f":"1 + LEN(Answers!B68) - LEN(SUBSTITUTE(Answers!B68,CHAR(10),\"\"))","v":1},"",{"$f":"LEN(Answers!B68)","v":0},""]
[{"$f":"1 + LEN(Answers!B69) - LEN(SUBSTITUTE(Answers!B69,CHAR(10),\"\"))","v":1},"",{"$f":"LEN(Answers!B69)","v":0},""]
[{"$f":"1 + LEN(Answers!B70) - LEN(SUBSTITUTE(Answers!B70,CHAR(10),\"\"))","v":1},"",{"$f":"LEN(Answers!B70)","v":0},""]
[{"$f":"1 + LEN(Answers!B71) - LEN(SUBSTITUTE(Answers!B71,CHAR(10),\"\"))","v":1},"",{"$f":"LEN(Answers!B71)","v":0},""]
[{"$f":"1 + LEN(Answers!B72) - LEN(SUBSTITUTE(Answers!B72,CHAR(10),\"\"))","v":1},"",{"$f":"LEN(Answers!B72)","v":0},""]
[{"$f":"1 + LEN(Answers!B73) - LEN(SUBSTITUTE(Answers!B73,CHAR(10),\"\"))","v":1},"",{"$f":"LEN(Answers!B73)","v":0},""]
[{"$f":"1 + LEN(Answers!B74) - LEN(SUBSTITUTE(Answers!B74,CHAR(10),\"\"))","v":1},"",{"$f":"LEN(Answers!B74)","v":0},""]
[{"$f":"1 + LEN(Answers!B75) - LEN(SUBSTITUTE(Answers!B75,CHAR(10),\"\"))","v":1},"",{"$f":"LEN(Answers!B75)","v":0},""]
[{"$f":"1 + LEN(Answers!B76) - LEN(SUBSTITUTE(Answers!B76,CHAR(10),\"\"))","v":1},"",{"$f":"LEN(Answers!B76)","v":0},""]
[{"$f":"1 + LEN(Answers!B77) - LEN(SUBSTITUTE(Answers!B77,CHAR(10),\"\"))","v":1},"",{"$f":"LEN(Answers!B77)","v":0},""]
[{"$f":"1 + LEN(Answers!B78) - LEN(SUBSTITUTE(Answers!B78,CHAR(10),\"\"))","v":1},"",{"$f":"LEN(Answers!B78)","v":0},""]
[{"$f":"1 + LEN(Answers!B79) - LEN(SUBSTITUTE(Answers!B79,CHAR(10),\"\"))","v":1},"",{"$f":"LEN(Answers!B79)","v":0},""]
[{"$f":"1 + LEN(Answers!B80) - LEN(SUBSTITUTE(Answers!B80,CHAR(10),\"\"))","v":1},"",{"$f":"LEN(Answers!B80)","v":0},""]
[{"$f":"1 + LEN(Answers!B81) - LEN(SUBSTITUTE(Answers!B81,CHAR(10),\"\"))","v":1},"",{"$f":"LEN(Answers!B81)","v":0},""]
[{"$f":"1 + LEN(Answers!B82) - LEN(SUBSTITUTE(Answers!B82,CHAR(10),\"\"))","v":1},"",{"$f":"LEN(Answers!B82)","v":0},""]
[{"$f":"1 + LEN(Answers!B83) - LEN(SUBSTITUTE(Answers!B83,CHAR(10),\"\"))","v":1},"",{"$f":"LEN(Answers!B83)","v":0},""]
[{"$f":"1 + LEN(Answers!B84) - LEN(SUBSTITUTE(Answers!B84,CHAR(10),\"\"))","v":1},"",{"$f":"LEN(Answers!B84)","v":0},""]
[{"$f":"1 + LEN(Answers!B85) - LEN(SUBSTITUTE(Answers!B85,CHAR(10),\"\"))","v":1},"",{"$f":"LEN(Answers!B85)","v":0},""]
[{"$f":"1 + LEN(Answers!B86) - LEN(SUBSTITUTE(Answers!B86,CHAR(10),\"\"))","v":1},"",{"$f":"LEN(Answers!B86)","v":0},""]
[{"$f":"1 + LEN(Answers!B87) - LEN(SUBSTITUTE(Answers!B87,CHAR(10),\"\"))","v":1},"",{"$f":"LEN(Answers!B87)","v":0},""]
[{"$f":"1 + LEN(Answers!B88) - LEN(SUBSTITUTE(Answers!B88,CHAR(10),\"\"))","v":1},"",{"$f":"LEN(Answers!B88)","v":0},""]
[{"$f":"1 + LEN(Answers!B89) - LEN(SUBSTITUTE(Answers!B89,CHAR(10),\"\"))","v":1},"",{"$f":"LEN(Answers!B89)","v":0},""]
[{"$f":"1 + LEN(Answers!B90) - LEN(SUBSTITUTE(Answers!B90,CHAR(10),\"\"))","v":1},"",{"$f":"LEN(Answers!B90)","v":0},""]
[{"$f":"1 + LEN(Answers!B91) - LEN(SUBSTITUTE(Answers!B91,CHAR(10),\"\"))","v":1},"",{"$f":"LEN(Answers!B91)","v":0},""]
[{"$f":"1 + LEN(Answers!B92) - LEN(SUBSTITUTE(Answers!B92,CHAR(10),\"\"))","v":1},"",{"$f":"LEN(Answers!B92)","v":0},""]
[{"$f":"1 + LEN(Answers!B93) - LEN(SUBSTITUTE(Answers!B93,CHAR(10),\"\"))","v":1},"",{"$f":"LEN(Answers!B93)","v":0},""]
[{"$f":"1 + LEN(Answers!B94) - LEN(SUBSTITUTE(Answers!B94,CHAR(10),\"\"))","v":1},"",{"$f":"LEN(Answers!B94)","v":0},""]
[{"$f":"1 + LEN(Answers!B95) - LEN(SUBSTITUTE(Answers!B95,CHAR(10),\"\"))","v":1},"",{"$f":"LEN(Answers!B95)","v":0},""]
[{"$f":"1 + LEN(Answers!B96) - LEN(SUBSTITUTE(Answers!B96,CHAR(10),\"\"))","v":1},"",{"$f":"LEN(Answers!B96)","v":0},""]
[{"$f":"1 + LEN(Answers!B97) - LEN(SUBSTITUTE(Answers!B97,CHAR(10),\"\"))","v":1},"",{"$f":"LEN(Answers!B97)","v":0},""]
[{"$f":"1 + LEN(Answers!B98) - LEN(SUBSTITUTE(Answers!B98,CHAR(10),\"\"))","v":1},"",{"$f":"LEN(Answers!B98)","v":0},""]
[{"$f":"1 + LEN(Answers!B99) - LEN(SUBSTITUTE(Answers!B99,CHAR(10),\"\"))","v":1},"",{"$f":"LEN(Answers!B99)","v":0},""]
[{"$f":"1 + LEN(Answers!B100) - LEN(SUBSTITUTE(Answers!B100,CHAR(10),\"\"))","v":1},"",{"$f":"LEN(Answers!B100)","v":0},""]
[{"$f":"1 + LEN(Answers!B101) - LEN(SUBSTITUTE(Answers!B101,CHAR(10),\"\"))","v":1},"",{"$f":"LEN(Answers!B101)","v":0},""]
[{"$f":"1 + LEN(Answers!B102) - LEN(SUBSTITUTE(Answers!B102,CHAR(10),\"\"))","v":1},"",{"$f":"LEN(Answers!B102)","v":0},""]
[{"$f":"1 + LEN(Answers!B103) - LEN(SUBSTITUTE(Answers!B103,CHAR(10),\"\"))","v":1},"",{"$f":"LEN(Answers!B103)","v":0},""]
[{"$f":"1 + LEN(Answers!B104) - LEN(SUBSTITUTE(Answers!B104,CHAR(10),\"\"))","v":1},"",{"$f":"LEN(Answers!B104)","v":0},""]
[{"$f":"1 + LEN(Answers!B105) - LEN(SUBSTITUTE(Answers!B105,CHAR(10),\"\"))","v":1},"",{"$f":"LEN(Answers!B105)","v":0},""]
[{"$f":"1 + LEN(Answers!B106) - LEN(SUBSTITUTE(Answers!B106,CHAR(10),\"\"))","v":1},"",{"$f":"LEN(Answers!B106)","v":0},""]
[{"$f":"1 + LEN(Answers!B107) - LEN(SUBSTITUTE(Answers!B107,CHAR(10),\"\"))","v":1},"",{"$f":"LEN(Answers!B107)","v":0},""]
[{"$f":"1 + LEN(Answers!B108) - LEN(SUBSTITUTE(Answers!B108,CHAR(10),\"\"))","v":1},"",{"$f":"LEN(Answers!B108)","v":0},""]
[{"$f":"1 + LEN(Answers!B109) - LEN(SUBSTITUTE(Answers!B109,CHAR(10),\"\"))","v":1},"",{"$f":"LEN(Answers!B109)","v":0},""]
[{"$f":"1 + LEN(Answers!B110) - LEN(SUBSTITUTE(Answers!B110,CHAR(10),\"\"))","v":1},"",{"$f":"LEN(Answers!B110)","v":0},""]
[{"$f":"1 + LEN(Answers!B111) - LEN(SUBSTITUTE(Answers!B111,CHAR(10),\"\"))","v":1},"",{"$f":"LEN(Answers!B111)","v":0},""]
[{"$f":"1 + LEN(Answers!B112) - LEN(SUBSTITUTE(Answers!B112,CHAR(10),\"\"))","v":1},"",{"$f":"LEN(Answers!B112)","v":0},""]
[{"$f":"1 + LEN(Answers!B113) - LEN(SUBSTITUTE(Answers!B113,CHAR(10),\"\"))","v":1},"",{"$f":"LEN(Answers!B113)","v":0},""]
[{"$f":"1 + LEN(Answers!B114) - LEN(SUBSTITUTE(Answers!B114,CHAR(10),\"\"))","v":1},"",{"$f":"LEN(Answers!B114)","v":0},""]
[{"$f":"1 + LEN(Answers!B115) - LEN(SUBSTITUTE(Answers!B115,CHAR(10),\"\"))","v":1},"",{"$f":"LEN(Answers!B115)","v":0},""]
[{"$f":"1 + LEN(Answers!B116) - LEN(SUBSTITUTE(Answers!B116,CHAR(10),\"\"))","v":1},"",{"$f":"LEN(Answers!B116)","v":0},""]
[{"$f":"1 + LEN(Answers!B117) - LEN(SUBSTITUTE(Answers!B117,CHAR(10),\"\"))","v":1},"",{"$f":"LEN(Answers!B117)","v":0},""]
[{"$f":"1 + LEN(Answers!B118) - LEN(SUBSTITUTE(Answers!B118,CHAR(10),\"\"))","v":1},"",{"$f":"LEN(Answers!B118)","v":0},""]
[{"$f":"1 + LEN(Answers!B119) - LEN(SUBSTITUTE(Answers!B119,CHAR(10),\"\"))","v":1},"",{"$f":"LEN(Answers!B119)","v":0},""]
[{"$f":"1 + LEN(Answers!B120) - LEN(SUBSTITUTE(Answers!B120,CHAR(10),\"\"))","v":1},"",{"$f":"LEN(Answers!B120)","v":0},""]
[{"$f":"1 + LEN(Answers!B121) - LEN(SUBSTITUTE(Answers!B121,CHAR(10),\"\"))","v":1},"",{"$f":"LEN(Answers!B121)","v":0},""]
[{"$f":"1 + LEN(Answers!B122) - LEN(SUBSTITUTE(Answers!B122,CHAR(10),\"\"))","v":1},"",{"$f":"LEN(Answers!B122)","v":0},""]
[{"$f":"1 + LEN(Answers!B123) - LEN(SUBSTITUTE(Answers!B123,CHAR(10),\"\"))","v":1},"",{"$f":"LEN(Answers!B123)","v":0},""]
[{"$f":"1 + LEN(Answers!B124) - LEN(SUBSTITUTE(Answers!B124,CHAR(10),\"\"))","v":1},"",{"$f":"LEN(Answers!B124)","v":0},""]
[{"$f":"1 + LEN(Answers!B125) - LEN(SUBSTITUTE(Answers!B125,CHAR(10),\"\"))","v":1},"",{"$f":"LEN(Answers!B125)","v":0},""]
[{"$f":"1 + LEN(Answers!B126) - LEN(SUBSTITUTE(Answers!B126,CHAR(10),\"\"))","v":1},"",{"$f":"LEN(Answers!B126)","v":0},""]
[{"$f":"1 + LEN(Answers!B127) - LEN(SUBSTITUTE(Answers!B127,CHAR(10),\"\"))","v":1},"",{"$f":"LEN(Answers!B127)","v":0},""]
[{"$f":"1 + LEN(Answers!B128) - LEN(SUBSTITUTE(Answers!B128,CHAR(10),\"\"))","v":1},"",{"$f":"LEN(Answers!B128)","v":0},""]
[{"$f":"1 + LEN(Answers!B129) - LEN(SUBSTITUTE(Answers!B129,CHAR(10),\"\"))","v":1},"",{"$f":"LEN(Answers!B129)","v":0},""]
[{"$f":"1 + LEN(Answers!B130) - LEN(SUBSTITUTE(Answers!B130,CHAR(10),\"\"))","v":1},"",{"$f":"LEN(Answers!B130)","v":0},""]
[{"$f":"1 + LEN(Answers!B131) - LEN(SUBSTITUTE(Answers!B131,CHAR(10),\"\"))","v":1},{"$f":"IF(A132>4,\"alert\",\"\")","v":""},{"$f":"LEN(Answers!B131)","v":0},{"$f":"IF(C132>120,\"alert\",\"\")","v":""}]
[{"$f":"1 + LEN(Answers!B132) - LEN(SUBSTITUTE(Answers!B132,CHAR(10),\"\"))","v":1},"",{"$f":"LEN(Answers!B132)","v":0},""]
[{"$f":"1 + LEN(Answers!B133) - LEN(SUBSTITUTE(Answers!B133,CHAR(10),\"\"))","v":1},"",{"$f":"LEN(Answers!B133)","v":0},""]
[{"$f":"1 + LEN(Answers!B134) - LEN(SUBSTITUTE(Answers!B134,CHAR(10),\"\"))","v":1},"",{"$f":"LEN(Answers!B134)","v":0},""]
[{"$f":"1 + LEN(Answers!B135) - LEN(SUBSTITUTE(Answers!B135,CHAR(10),\"\"))","v":1},"",{"$f":"LEN(Answers!B135)","v":0},""]
[{"$f":"1 + LEN(Answers!B136) - LEN(SUBSTITUTE(Answers!B136,CHAR(10),\"\"))","v":1},"",{"$f":"LEN(Answers!B136)","v":0},""]
[{"$f":"1 + LEN(Answers!B137) - LEN(SUBSTITUTE(Answers!B137,CHAR(10),\"\"))","v":1},"",{"$f":"LEN(Answers!B137)","v":0},""]
[{"$f":"1 + LEN(Answers!B138) - LEN(SUBSTITUTE(Answers!B138,CHAR(10),\"\"))","v":1},"",{"$f":"LEN(Answers!B138)","v":0},""]
[{"$f":"1 + LEN(Answers!B139) - LEN(SUBSTITUTE(Answers!B139,CHAR(10),\"\"))","v":1},"",{"$f":"LEN(Answers!B139)","v":0},""]
[{"$f":"1 + LEN(Answers!B140) - LEN(SUBSTITUTE(Answers!B140,CHAR(10),\"\"))","v":1},"",{"$f":"LEN(Answers!B140)","v":0},""]
[{"$f":"1 + LEN(Answers!B141) - LEN(SUBSTITUTE(Answers!B141,CHAR(10),\"\"))","v":1},"",{"$f":"LEN(Answers!B141)","v":0},""]
[{"$f":"1 + LEN(Answers!B142) - LEN(SUBSTITUTE(Answers!B142,CHAR(10),\"\"))","v":1},"",{"$f":"LEN(Answers!B142)","v":0},""]
[{"$f":"1 + LEN(Answers!B143) - LEN(SUBSTITUTE(Answers!B143,CHAR(10),\"\"))","v":1},"",{"$f":"LEN(Answers!B143)","v":0},""]
[{"$f":"1 + LEN(Answers!B144) - LEN(SUBSTITUTE(Answers!B144,CHAR(10),\"\"))","v":1},"",{"$f":"LEN(Answers!B144)","v":0},""]
[{"$f":"1 + LEN(Answers!B145) - LEN(SUBSTITUTE(Answers!B145,CHAR(10),\"\"))","v":1},"",{"$f":"LEN(Answers!B145)","v":0},""]
[{"$f":"1 + LEN(Answers!B146) - LEN(SUBSTITUTE(Answers!B146,CHAR(10),\"\"))","v":1},"",{"$f":"LEN(Answers!B146)","v":0},""]
[{"$f":"1 + LEN(Answers!B147) - LEN(SUBSTITUTE(Answers!B147,CHAR(10),\"\"))","v":1},"",{"$f":"LEN(Answers!B147)","v":0},""]
[{"$f":"1 + LEN(Answers!B148) - LEN(SUBSTITUTE(Answers!B148,CHAR(10),\"\"))","v":1},"",{"$f":"LEN(Answers!B148)","v":0},""]
[{"$f":"1 + LEN(Answers!B149) - LEN(SUBSTITUTE(Answers!B149,CHAR(10),\"\"))","v":1},"",{"$f":"LEN(Answers!B149)","v":0},""]
[{"$f":"1 + LEN(Answers!B150) - LEN(SUBSTITUTE(Answers!B150,CHAR(10),\"\"))","v":1},"",{"$f":"LEN(Answers!B150)","v":0},""]
[{"$f":"1 + LEN(Answers!B151) - LEN(SUBSTITUTE(Answers!B151,CHAR(10),\"\"))","v":1},"",{"$f":"LEN(Answers!B151)","v":0},""]
[{"$f":"1 + LEN(Answers!B152) - LEN(SUBSTITUTE(Answers!B152,CHAR(10),\"\"))","v":1},"",{"$f":"LEN(Answers!B152)","v":0},""]
[{"$f":"1 + LEN(Answers!B153) - LEN(SUBSTITUTE(Answers!B153,CHAR(10),\"\"))","v":1},"",{"$f":"LEN(Answers!B153)","v":0},""]
[{"$f":"1 + LEN(Answers!B154) - LEN(SUBSTITUTE(Answers!B154,CHAR(10),\"\"))","v":1},"",{"$f":"LEN(Answers!B154)","v":0},""]
[{"$f":"1 + LEN(Answers!B155) - LEN(SUBSTITUTE(Answers!B155,CHAR(10),\"\"))","v":1},"",{"$f":"LEN(Answers!B155)","v":0},""]
[{"$f":"1 + LEN(Answers!B156) - LEN(SUBSTITUTE(Answers!B156,CHAR(10),\"\"))","v":1},"",{"$f":"LEN(Answers!B156)","v":0},""]
[{"$f":"1 + LEN(Answers!B157) - LEN(SUBSTITUTE(Answers!B157,CHAR(10),\"\"))","v":1},"",{"$f":"LEN(Answers!B157)","v":0},""]
[{"$f":"1 + LEN(Answers!B158) - LEN(SUBSTITUTE(Answers!B158,CHAR(10),\"\"))","v":1},"",{"$f":"LEN(Answers!B158)","v":0},""]
[{"$f":"1 + LEN(Answers!B159) - LEN(SUBSTITUTE(Answers!B159,CHAR(10),\"\"))","v":1},"",{"$f":"LEN(Answers!B159)","v":0},""]
[{"$f":"1 + LEN(Answers!B160) - LEN(SUBSTITUTE(Answers!B160,CHAR(10),\"\"))","v":1},"",{"$f":"LEN(Answers!B160)","v":0},""]
[{"$f":"1 + LEN(Answers!B161) - LEN(SUBSTITUTE(Answers!B161,CHAR(10),\"\"))","v":1},"",{"$f":"LEN(Answers!B161)","v":0},""]
[{"$f":"1 + LEN(Answers!B162) - LEN(SUBSTITUTE(Answers!B162,CHAR(10),\"\"))","v":1},"",{"$f":"LEN(Answers!B162)","v":0},""]
[{"$f":"1 + LEN(Answers!B163) - LEN(SUBSTITUTE(Answers!B163,CHAR(10),\"\"))","v":1},"",{"$f":"LEN(Answers!B163)","v":0},""]
[{"$f":"1 + LEN(Answers!B164) - LEN(SUBSTITUTE(Answers!B164,CHAR(10),\"\"))","v":1},"",{"$f":"LEN(Answers!B164)","v":0},""]
[{"$f":"1 + LEN(Answers!B165) - LEN(SUBSTITUTE(Answers!B165,CHAR(10),\"\"))","v":1},"",{"$f":"LEN(Answers!B165)","v":0},""]
[{"$f":"1 + LEN(Answers!B166) - LEN(SUBSTITUTE(Answers!B166,CHAR(10),\"\"))","v":1},"",{"$f":"LEN(Answers!B166)","v":0},""]
[{"$f":"1 + LEN(Answers!B167) - LEN(SUBSTITUTE(Answers!B167,CHAR(10),\"\"))","v":1},"",{"$f":"LEN(Answers!B167)","v":0},""]
[{"$f":"1 + LEN(Answers!B168) - LEN(SUBSTITUTE(Answers!B168,CHAR(10),\"\"))","v":1},"",{"$f":"LEN(Answers!B168)","v":0},""]
[{"$f":"1 + LEN(Answers!B169) - LEN(SUBSTITUTE(Answers!B169,CHAR(10),\"\"))","v":1},"",{"$f":"LEN(Answers!B169)","v":0},""]
[{"$f":"1 + LEN(Answers!B170) - LEN(SUBSTITUTE(Answers!B170,CHAR(10),\"\"))","v":1},"",{"$f":"LEN(Answers!B170)","v":0},""]
[{"$f":"1 + LEN(Answers!B171) - LEN(SUBSTITUTE(Answers!B171,CHAR(10),\"\"))","v":1},"",{"$f":"LEN(Answers!B171)","v":0},""]
[{"$f":"1 + LEN(Answers!B172) - LEN(SUBSTITUTE(Answers!B172,CHAR(10),\"\"))","v":1},"",{"$f":"LEN(Answers!B172)","v":0},""]
[{"$f":"1 + LEN(Answers!B173) - LEN(SUBSTITUTE(Answers!B173,CHAR(10),\"\"))","v":1},"",{"$f":"LEN(Answers!B173)","v":0},""]
[{"$f":"1 + LEN(Answers!B174) - LEN(SUBSTITUTE(Answers!B174,CHAR(10),\"\"))","v":1},"",{"$f":"LEN(Answers!B174)","v":0},""]
[{"$f":"1 + LEN(Answers!B175) - LEN(SUBSTITUTE(Answers!B175,CHAR(10),\"\"))","v":1},"",{"$f":"LEN(Answers!B175)","v":0},""]
[{"$f":"1 + LEN(Answers!B176) - LEN(SUBSTITUTE(Answers!B176,CHAR(10),\"\"))","v":1},"",{"$f":"LEN(Answers!B176)","v":0},""]
[{"$f":"1 + LEN(Answers!B177) - LEN(SUBSTITUTE(Answers!B177,CHAR(10),\"\"))","v":1},"",{"$f":"LEN(Answers!B177)","v":0},""]
[{"$f":"1 + LEN(Answers!B178) - LEN(SUBSTITUTE(Answers!B178,CHAR(10),\"\"))","v":1},"",{"$f":"LEN(Answers!B178)","v":0},""]
[{"$f":"1 + LEN(Answers!B179) - LEN(SUBSTITUTE(Answers!B179,CHAR(10),\"\"))","v":1},"",{"$f":"LEN(Answers!B179)","v":0},""]
[{"$f":"1 + LEN(Answers!B180) - LEN(SUBSTITUTE(Answers!B180,CHAR(10),\"\"))","v":1},"",{"$f":"LEN(Answers!B180)","v":0},""]
[{"$f":"1 + LEN(Answers!B181) - LEN(SUBSTITUTE(Answers!B181,CHAR(10),\"\"))","v":1},"",{"$f":"LEN(Answers!B181)","v":0},""]
[{"$f":"1 + LEN(Answers!B182) - LEN(SUBSTITUTE(Answers!B182,CHAR(10),\"\"))","v":1},"",{"$f":"LEN(Answers!B182)","v":0},""]
[{"$f":"1 + LEN(Answers!B183) - LEN(SUBSTITUTE(Answers!B183,CHAR(10),\"\"))","v":1},"",{"$f":"LEN(Answers!B183)","v":0},""]
[{"$f":"1 + LEN(Answers!B184) - LEN(SUBSTITUTE(Answers!B184,CHAR(10),\"\"))","v":1},"",{"$f":"LEN(Answers!B184)","v":0},""]
[{"$f":"1 + LEN(Answers!B185) - LEN(SUBSTITUTE(Answers!B185,CHAR(10),\"\"))","v":1},"",{"$f":"LEN(Answers!B185)","v":0},""]
[{"$f":"1 + LEN(Answers!B186) - LEN(SUBSTITUTE(Answers!B186,CHAR(10),\"\"))","v":1},"",{"$f":"LEN(Answers!B186)","v":0},""]
[{"$f":"1 + LEN(Answers!B187) - LEN(SUBSTITUTE(Answers!B187,CHAR(10),\"\"))","v":1},"",{"$f":"LEN(Answers!B187)","v":0},""]
[{"$f":"1 + LEN(Answers!B188) - LEN(SUBSTITUTE(Answers!B188,CHAR(10),\"\"))","v":1},"",{"$f":"LEN(Answers!B188)","v":0},""]
[{"$f":"1 + LEN(Answers!B189) - LEN(SUBSTITUTE(Answers!B189,CHAR(10),\"\"))","v":1},"",{"$f":"LEN(Answers!B189)","v":0},""]
[{"$f":"1 + LEN(Answers!B190) - LEN(SUBSTITUTE(Answers!B190,CHAR(10),\"\"))","v":1},"",{"$f":"LEN(Answers!B190)","v":0},""]
[{"$f":"1 + LEN(Answers!B191) - LEN(SUBSTITUTE(Answers!B191,CHAR(10),\"\"))","v":1},"",{"$f":"LEN(Answers!B191)","v":0},""]
[{"$f":"1 + LEN(Answers!B192) - LEN(SUBSTITUTE(Answers!B192,CHAR(10),\"\"))","v":1},"",{"$f":"LEN(Answers!B192)","v":0},""]
[{"$f":"1 + LEN(Answers!B193) - LEN(SUBSTITUTE(Answers!B193,CHAR(10),\"\"))","v":1},"",{"$f":"LEN(Answers!B193)","v":0},""]
[{"$f":"1 + LEN(Answers!B194) - LEN(SUBSTITUTE(Answers!B194,CHAR(10),\"\"))","v":1},"",{"$f":"LEN(Answers!B194)","v":0},""]
[{"$f":"1 + LEN(Answers!B195) - LEN(SUBSTITUTE(Answers!B195,CHAR(10),\"\"))","v":1},{"$f":"IF(A196>4,\"alert\",\"\")","v":""},{"$f":"LEN(Answers!B195)","v":0},{"$f":"IF(C196>120,\"alert\",\"\")","v":""}]
[{"$f":"1 + LEN(Answers!B196) - LEN(SUBSTITUTE(Answers!B196,CHAR(10),\"\"))","v":1},"",{"$f":"LEN(Answers!B196)","v":0},""]
[{"$f":"1 + LEN(Answers!B197) - LEN(SUBSTITUTE(Answers!B197,CHAR(10),\"\"))","v":1},"",{"$f":"LEN(Answers!B197)","v":0},""]
[{"$f":"1 + LEN(Answers!B198) - LEN(SUBSTITUTE(Answers!B198,CHAR(10),\"\"))","v":1},"",{"$f":"LEN(Answers!B198)","v":0},""]
[{"$f":"1 + LEN(Answers!B199) - LEN(SUBSTITUTE(Answers!B199,CHAR(10),\"\"))","v":1},"",{"$f":"LEN(Answers!B199)","v":0},""]
[{"$f":"1 + LEN(Answers!B200) - LEN(SUBSTITUTE(Answers!B200,CHAR(10),\"\"))","v":1},"",{"$f":"LEN(Answers!B200)","v":0},""]
[{"$f":"1 + LEN(Answers!B201) - LEN(SUBSTITUTE(Answers!B201,CHAR(10),\"\"))","v":1},"",{"$f":"LEN(Answers!B201)","v":0},""]
[{"$f":"1 + LEN(Answers!B202) - LEN(SUBSTITUTE(Answers!B202,CHAR(10),\"\"))","v":1},"",{"$f":"LEN(Answers!B202)","v":0},""]
[{"$f":"1 + LEN(Answers!B203) - LEN(SUBSTITUTE(Answers!B203,CHAR(10),\"\"))","v":1},"",{"$f":"LEN(Answers!B203)","v":0},""]
[{"$f":"1 + LEN(Answers!B204) - LEN(SUBSTITUTE(Answers!B204,CHAR(10),\"\"))","v":1},"",{"$f":"LEN(Answers!B204)","v":0},""]
[{"$f":"1 + LEN(Answers!B205) - LEN(SUBSTITUTE(Answers!B205,CHAR(10),\"\"))","v":1},"",{"$f":"LEN(Answers!B205)","v":0},""]
[{"$f":"1 + LEN(Answers!B206) - LEN(SUBSTITUTE(Answers!B206,CHAR(10),\"\"))","v":1},"",{"$f":"LEN(Answers!B206)","v":0},""]
[{"$f":"1 + LEN(Answers!B207) - LEN(SUBSTITUTE(Answers!B207,CHAR(10),\"\"))","v":1},"",{"$f":"LEN(Answers!B207)","v":0},""]
[{"$f":"1 + LEN(Answers!B208) - LEN(SUBSTITUTE(Answers!B208,CHAR(10),\"\"))","v":1},"",{"$f":"LEN(Answers!B208)","v":0},""]
[{"$f":"1 + LEN(Answers!B209) - LEN(SUBSTITUTE(Answers!B209,CHAR(10),\"\"))","v":1},"",{"$f":"LEN(Answers!B209)","v":0},""]
[{"$f":"1 + LEN(Answers!B210) - LEN(SUBSTITUTE(Answers!B210,CHAR(10),\"\"))","v":1},"",{"$f":"LEN(Answers!B210)","v":0},""]
[{"$f":"1 + LEN(Answers!B211) - LEN(SUBSTITUTE(Answers!B211,CHAR(10),\"\"))","v":1},"",{"$f":"LEN(Answers!B211)","v":0},""]
[{"$f":"1 + LEN(Answers!B212) - LEN(SUBSTITUTE(Answers!B212,CHAR(10),\"\"))","v":1},"",{"$f":"LEN(Answers!B212)","v":0},""]
[{"$f":"1 + LEN(Answers!B213) - LEN(SUBSTITUTE(Answers!B213,CHAR(10),\"\"))","v":1},"",{"$f":"LEN(Answers!B213)","v":0},""]
[{"$f":"1 + LEN(Answers!B214) - LEN(SUBSTITUTE(Answers!B214,CHAR(10),\"\"))","v":1},"",{"$f":"LEN(Answers!B214)","v":0},""]
[{"$f":"1 + LEN(Answers!B215) - LEN(SUBSTITUTE(Answers!B215,CHAR(10),\"\"))","v":1},"",{"$f":"LEN(Answers!B215)","v":0},""]
[{"$f":"1 + LEN(Answers!B216) - LEN(SUBSTITUTE(Answers!B216,CHAR(10),\"\"))","v":1},"",{"$f":"LEN(Answers!B216)","v":0},""]
[{"$f":"1 + LEN(Answers!B217) - LEN(SUBSTITUTE(Answers!B217,CHAR(10),\"\"))","v":1},"",{"$f":"LEN(Answers!B217)","v":0},""]
[{"$f":"1 + LEN(Answers!B218) - LEN(SUBSTITUTE(Answers!B218,CHAR(10),\"\"))","v":1},"",{"$f":"LEN(Answers!B218)","v":0},""]
[{"$f":"1 + LEN(Answers!B219) - LEN(SUBSTITUTE(Answers!B219,CHAR(10),\"\"))","v":1},"",{"$f":"LEN(Answers!B219)","v":0},""]
[{"$f":"1 + LEN(Answers!B220) - LEN(SUBSTITUTE(Answers!B220,CHAR(10),\"\"))","v":1},"",{"$f":"LEN(Answers!B220)","v":0},""]
[{"$f":"1 + LEN(Answers!B221) - LEN(SUBSTITUTE(Answers!B221,CHAR(10),\"\"))","v":1},"",{"$f":"LEN(Answers!B221)","v":0},""]
[{"$f":"1 + LEN(Answers!B222) - LEN(SUBSTITUTE(Answers!B222,CHAR(10),\"\"))","v":1},"",{"$f":"LEN(Answers!B222)","v":0},""]
[{"$f":"1 + LEN(Answers!B223) - LEN(SUBSTITUTE(Answers!B223,CHAR(10),\"\"))","v":1},"",{"$f":"LEN(Answers!B223)","v":0},""]
[{"$f":"1 + LEN(Answers!B224) - LEN(SUBSTITUTE(Answers!B224,CHAR(10),\"\"))","v":1},"",{"$f":"LEN(Answers!B224)","v":0},""]
[{"$f":"1 + LEN(Answers!B225) - LEN(SUBSTITUTE(Answers!B225,CHAR(10),\"\"))","v":1},"",{"$f":"LEN(Answers!B225)","v":0},""]
[{"$f":"1 + LEN(Answers!B226) - LEN(SUBSTITUTE(Answers!B226,CHAR(10),\"\"))","v":1},"",{"$f":"LEN(Answers!B226)","v":0},""]
[{"$f":"1 + LEN(Answers!B227) - LEN(SUBSTITUTE(Answers!B227,CHAR(10),\"\"))","v":1},"",{"$f":"LEN(Answers!B227)","v":0},""]
[{"$f":"1 + LEN(Answers!B228) - LEN(SUBSTITUTE(Answers!B228,CHAR(10),\"\"))","v":1},"",{"$f":"LEN(Answers!B228)","v":0},""]
[{"$f":"1 + LEN(Answers!B229) - LEN(SUBSTITUTE(Answers!B229,CHAR(10),\"\"))","v":1},"",{"$f":"LEN(Answers!B229)","v":0},""]
[{"$f":"1 + LEN(Answers!B230) - LEN(SUBSTITUTE(Answers!B230,CHAR(10),\"\"))","v":1},"",{"$f":"LEN(Answers!B230)","v":0},""]
[{"$f":"1 + LEN(Answers!B231) - LEN(SUBSTITUTE(Answers!B231,CHAR(10),\"\"))","v":1},"",{"$f":"LEN(Answers!B231)","v":0},""]
[{"$f":"1 + LEN(Answers!B232) - LEN(SUBSTITUTE(Answers!B232,CHAR(10),\"\"))","v":1},"",{"$f":"LEN(Answers!B232)","v":0},""]
[{"$f":"1 + LEN(Answers!B233) - LEN(SUBSTITUTE(Answers!B233,CHAR(10),\"\"))","v":1},"",{"$f":"LEN(Answers!B233)","v":0},""]
[{"$f":"1 + LEN(Answers!B234) - LEN(SUBSTITUTE(Answers!B234,CHAR(10),\"\"))","v":1},"",{"$f":"LEN(Answers!B234)","v":0},""]
[{"$f":"1 + LEN(Answers!B235) - LEN(SUBSTITUTE(Answers!B235,CHAR(10),\"\"))","v":1},"",{"$f":"LEN(Answers!B235)","v":0},""]
[{"$f":"1 + LEN(Answers!B236) - LEN(SUBSTITUTE(Answers!B236,CHAR(10),\"\"))","v":1},"",{"$f":"LEN(Answers!B236)","v":0},""]
[{"$f":"1 + LEN(Answers!B237) - LEN(SUBSTITUTE(Answers!B237,CHAR(10),\"\"))","v":1},"",{"$f":"LEN(Answers!B237)","v":0},""]
[{"$f":"1 + LEN(Answers!B238) - LEN(SUBSTITUTE(Answers!B238,CHAR(10),\"\"))","v":1},"",{"$f":"LEN(Answers!B238)","v":0},""]
[{"$f":"1 + LEN(Answers!B239) - LEN(SUBSTITUTE(Answers!B239,CHAR(10),\"\"))","v":1},"",{"$f":"LEN(Answers!B239)","v":0},""]
[{"$f":"1 + LEN(Answers!B240) - LEN(SUBSTITUTE(Answers!B240,CHAR(10),\"\"))","v":1},"",{"$f":"LEN(Answers!B240)","v":0},""]
[{"$f":"1 + LEN(Answers!B241) - LEN(SUBSTITUTE(Answers!B241,CHAR(10),\"\"))","v":1},"",{"$f":"LEN(Answers!B241)","v":0},""]
[{"$f":"1 + LEN(Answers!B242) - LEN(SUBSTITUTE(Answers!B242,CHAR(10),\"\"))","v":1},"",{"$f":"LEN(Answers!B242)","v":0},""]
[{"$f":"1 + LEN(Answers!B243) - LEN(SUBSTITUTE(Answers!B243,CHAR(10),\"\"))","v":1},"",{"$f":"LEN(Answers!B243)","v":0},""]
[{"$f":"1 + LEN(Answers!B244) - LEN(SUBSTITUTE(Answers!B244,CHAR(10),\"\"))","v":1},"",{"$f":"LEN(Answers!B244)","v":0},""]
[{"$f":"1 + LEN(Answers!B245) - LEN(SUBSTITUTE(Answers!B245,CHAR(10),\"\"))","v":1},"",{"$f":"LEN(Answers!B245)","v":0},""]
[{"$f":"1 + LEN(Answers!B246) - LEN(SUBSTITUTE(Answers!B246,CHAR(10),\"\"))","v":1},"",{"$f":"LEN(Answers!B246)","v":0},""]
[{"$f":"1 + LEN(Answers!B247) - LEN(SUBSTITUTE(Answers!B247,CHAR(10),\"\"))","v":1},"",{"$f":"LEN(Answers!B247)","v":0},""]
[{"$f":"1 + LEN(Answers!B248) - LEN(SUBSTITUTE(Answers!B248,CHAR(10),\"\"))","v":1},"",{"$f":"LEN(Answers!B248)","v":0},""]
[{"$f":"1 + LEN(Answers!B249) - LEN(SUBSTITUTE(Answers!B249,CHAR(10),\"\"))","v":1},"",{"$f":"LEN(Answers!B249)","v":0},""]
[{"$f":"1 + LEN(Answers!B250) - LEN(SUBSTITUTE(Answers!B250,CHAR(10),\"\"))","v":1},"",{"$f":"LEN(Answers!B250)","v":0},""]
[{"$f":"1 + LEN(Answers!B251) - LEN(SUBSTITUTE(Answers!B251,CHAR(10),\"\"))","v":1},"",{"$f":"LEN(Answers!B251)","v":0},""]
[{"$f":"1 + LEN(Answers!B252) - LEN(SUBSTITUTE(Answers!B252,CHAR(10),\"\"))","v":1},"",{"$f":"LEN(Answers!B252)","v":0},""]
[{"$f":"1 + LEN(Answers!B253) - LEN(SUBSTITUTE(Answers!B253,CHAR(10),\"\"))","v":1},"",{"$f":"LEN(Answers!B253)","v":0},""]
[{"$f":"1 + LEN(Answers!B254) - LEN(SUBSTITUTE(Answers!B254,CHAR(10),\"\"))","v":1},"",{"$f":"LEN(Answers!B254)","v":0},""]
[{"$f":"1 + LEN(Answers!B255) - LEN(SUBSTITUTE(Answers!B255,CHAR(10),\"\"))","v":1},"",{"$f":"LEN(Answers!B255)","v":0},""]
[{"$f":"1 + LEN(Answers!B256) - LEN(SUBSTITUTE(Answers!B256,CHAR(10),\"\"))","v":1},"",{"$f":"LEN(Answers!B256)","v":0},""]
[{"$f":"1 + LEN(Answers!B257) - LEN(SUBSTITUTE(Answers!B257,CHAR(10),\"\"))","v":1},"",{"$f":"LEN(Answers!B257)","v":0},""]
[{"$f":"1 + LEN(Answers!B258) - LEN(SUBSTITUTE(Answers!B258,CHAR(10),\"\"))","v":1},"",{"$f":"LEN(Answers!B258)","v":0},""]
[{"$f":"1 + LEN(Answers!B259) - LEN(SUBSTITUTE(Answers!B259,CHAR(10),\"\"))","v":1},{"$f":"IF(A260>4,\"alert\",\"\")","v":""},{"$f":"LEN(Answers!B259)","v":0},{"$f":"IF(C260>120,\"alert\",\"\")","v":""}]
[{"$f":"1 + LEN(Answers!B260) - LEN(SUBSTITUTE(Answers!B260,CHAR(10),\"\"))","v":1},"",{"$f":"LEN(Answers!B260)","v":0},""]
[{"$f":"1 + LEN(Answers!B261) - LEN(SUBSTITUTE(Answers!B261,CHAR(10),\"\"))","v":1},"",{"$f":"LEN(Answers!B261)","v":0},""]
[{"$f":"1 + LEN(Answers!B262) - LEN(SUBSTITUTE(Answers!B262,CHAR(10),\"\"))","v":1},"",{"$f":"LEN(Answers!B262)","v":0},""]
[{"$f":"1 + LEN(Answers!B263) - LEN(SUBSTITUTE(Answers!B263,CHAR(10),\"\"))","v":1},"",{"$f":"LEN(Answers!B263)","v":0},""]
[{"$f":"1 + LEN(Answers!B264) - LEN(SUBSTITUTE(Answers!B264,CHAR(10),\"\"))","v":1},"",{"$f":"LEN(Answers!B264)","v":0},""]
[{"$f":"1 + LEN(Answers!B265) - LEN(SUBSTITUTE(Answers!B265,CHAR(10),\"\"))","v":1},"",{"$f":"LEN(Answers!B265)","v":0},""]
[{"$f":"1 + LEN(Answers!B266) - LEN(SUBSTITUTE(Answers!B266,CHAR(10),\"\"))","v":1},"",{"$f":"LEN(Answers!B266)","v":0},""]
[{"$f":"1 + LEN(Answers!B267) - LEN(SUBSTITUTE(Answers!B267,CHAR(10),\"\"))","v":1},"",{"$f":"LEN(Answers!B267)","v":0},""]
[{"$f":"1 + LEN(Answers!B268) - LEN(SUBSTITUTE(Answers!B268,CHAR(10),\"\"))","v":1},"",{"$f":"LEN(Answers!B268)","v":0},""]
[{"$f":"1 + LEN(Answers!B269) - LEN(SUBSTITUTE(Answers!B269,CHAR(10),\"\"))","v":1},"",{"$f":"LEN(Answers!B269)","v":0},""]
[{"$f":"1 + LEN(Answers!B270) - LEN(SUBSTITUTE(Answers!B270,CHAR(10),\"\"))","v":1},"",{"$f":"LEN(Answers!B270)","v":0},""]
[{"$f":"1 + LEN(Answers!B271) - LEN(SUBSTITUTE(Answers!B271,CHAR(10),\"\"))","v":1},"",{"$f":"LEN(Answers!B271)","v":0},""]
[{"$f":"1 + LEN(Answers!B272) - LEN(SUBSTITUTE(Answers!B272,CHAR(10),\"\"))","v":1},"",{"$f":"LEN(Answers!B272)","v":0},""]
[{"$f":"1 + LEN(Answers!B273) - LEN(SUBSTITUTE(Answers!B273,CHAR(10),\"\"))","v":1},"",{"$f":"LEN(Answers!B273)","v":0},""]
[{"$f":"1 + LEN(Answers!B274) - LEN(SUBSTITUTE(Answers!B274,CHAR(10),\"\"))","v":1},"",{"$f":"LEN(Answers!B274)","v":0},""]
[{"$f":"1 + LEN(Answers!B275) - LEN(SUBSTITUTE(Answers!B275,CHAR(10),\"\"))","v":1},"",{"$f":"LEN(Answers!B275)","v":0},""]
[{"$f":"1 + LEN(Answers!B276) - LEN(SUBSTITUTE(Answers!B276,CHAR(10),\"\"))","v":1},"",{"$f":"LEN(Answers!B276)","v":0},""]
[{"$f":"1 + LEN(Answers!B277) - LEN(SUBSTITUTE(Answers!B277,CHAR(10),\"\"))","v":1},"",{"$f":"LEN(Answers!B277)","v":0},""]
[{"$f":"1 + LEN(Answers!B278) - LEN(SUBSTITUTE(Answers!B278,CHAR(10),\"\"))","v":1},"",{"$f":"LEN(Answers!B278)","v":0},""]
[{"$f":"1 + LEN(Answers!B279) - LEN(SUBSTITUTE(Answers!B279,CHAR(10),\"\"))","v":1},"",{"$f":"LEN(Answers!B279)","v":0},""]
[{"$f":"1 + LEN(Answers!B280) - LEN(SUBSTITUTE(Answers!B280,CHAR(10),\"\"))","v":1},"",{"$f":"LEN(Answers!B280)","v":0},""]
[{"$f":"1 + LEN(Answers!B281) - LEN(SUBSTITUTE(Answers!B281,CHAR(10),\"\"))","v":1},"",{"$f":"LEN(Answers!B281)","v":0},""]
[{"$f":"1 + LEN(Answers!B282) - LEN(SUBSTITUTE(Answers!B282,CHAR(10),\"\"))","v":1},"",{"$f":"LEN(Answers!B282)","v":0},""]
[{"$f":"1 + LEN(Answers!B283) - LEN(SUBSTITUTE(Answers!B283,CHAR(10),\"\"))","v":1},"",{"$f":"LEN(Answers!B283)","v":0},""]
[{"$f":"1 + LEN(Answers!B284) - LEN(SUBSTITUTE(Answers!B284,CHAR(10),\"\"))","v":1},"",{"$f":"LEN(Answers!B284)","v":0},""]
[{"$f":"1 + LEN(Answers!B285) - LEN(SUBSTITUTE(Answers!B285,CHAR(10),\"\"))","v":1},"",{"$f":"LEN(Answers!B285)","v":0},""]
[{"$f":"1 + LEN(Answers!B286) - LEN(SUBSTITUTE(Answers!B286,CHAR(10),\"\"))","v":1},"",{"$f":"LEN(Answers!B286)","v":0},""]
[{"$f":"1 + LEN(Answers!B287) - LEN(SUBSTITUTE(Answers!B287,CHAR(10),\"\"))","v":1},"",{"$f":"LEN(Answers!B287)","v":0},""]
[{"$f":"1 + LEN(Answers!B288) - LEN(SUBSTITUTE(Answers!B288,CHAR(10),\"\"))","v":1},"",{"$f":"LEN(Answers!B288)","v":0},""]
[{"$f":"1 + LEN(Answers!B289) - LEN(SUBSTITUTE(Answers!B289,CHAR(10),\"\"))","v":1},"",{"$f":"LEN(Answers!B289)","v":0},""]
[{"$f":"1 + LEN(Answers!B290) - LEN(SUBSTITUTE(Answers!B290,CHAR(10),\"\"))","v":1},"",{"$f":"LEN(Answers!B290)","v":0},""]
[{"$f":"1 + LEN(Answers!B291) - LEN(SUBSTITUTE(Answers!B291,CHAR(10),\"\"))","v":1},"",{"$f":"LEN(Answers!B291)","v":0},""]
[{"$f":"1 + LEN(Answers!B292) - LEN(SUBSTITUTE(Answers!B292,CHAR(10),\"\"))","v":1},"",{"$f":"LEN(Answers!B292)","v":0},""]
[{"$f":"1 + LEN(Answers!B293) - LEN(SUBSTITUTE(Answers!B293,CHAR(10),\"\"))","v":1},"",{"$f":"LEN(Answers!B293)","v":0},""]
[{"$f":"1 + LEN(Answers!B294) - LEN(SUBSTITUTE(Answers!B294,CHAR(10),\"\"))","v":1},"",{"$f":"LEN(Answers!B294)","v":0},""]
[{"$f":"1 + LEN(Answers!B295) - LEN(SUBSTITUTE(Answers!B295,CHAR(10),\"\"))","v":1},"",{"$f":"LEN(Answers!B295)","v":0},""]
[{"$f":"1 + LEN(Answers!B296) - LEN(SUBSTITUTE(Answers!B296,CHAR(10),\"\"))","v":1},"",{"$f":"LEN(Answers!B296)","v":0},""]
[{"$f":"1 + LEN(Answers!B297) - LEN(SUBSTITUTE(Answers!B297,CHAR(10),\"\"))","v":1},"",{"$f":"LEN(Answers!B297)","v":0},""]
[{"$f":"1 + LEN(Answers!B298) - LEN(SUBSTITUTE(Answers!B298,CHAR(10),\"\"))","v":1},"",{"$f":"LEN(Answers!B298)","v":0},""]
[{"$f":"1 + LEN(Answers!B299) - LEN(SUBSTITUTE(Answers!B299,CHAR(10),\"\"))","v":1},"",{"$f":"LEN(Answers!B299)","v":0},""]
[{"$f":"1 + LEN(Answers!B300) - LEN(SUBSTITUTE(Answers!B300,CHAR(10),\"\"))","v":1},"",{"$f":"LEN(Answers!B300)","v":0},""]
[{"$f":"1 + LEN(Answers!B301) - LEN(SUBSTITUTE(Answers!B301,CHAR(10),\"\"))","v":1},"",{"$f":"LEN(Answers!B301)","v":0},""]
[{"$f":"1 + LEN(Answers!B302) - LEN(SUBSTITUTE(Answers!B302,CHAR(10),\"\"))","v":1},"",{"$f":"LEN(Answers!B302)","v":0},""]
[{"$f":"1 + LEN(Answers!B303) - LEN(SUBSTITUTE(Answers!B303,CHAR(10),\"\"))","v":1},"",{"$f":"LEN(Answers!B303)","v":0},""]
[{"$f":"1 + LEN(Answers!B304) - LEN(SUBSTITUTE(Answers!B304,CHAR(10),\"\"))","v":1},"",{"$f":"LEN(Answers!B304)","v":0},""]
[{"$f":"1 + LEN(Answers!B305) - LEN(SUBSTITUTE(Answers!B305,CHAR(10),\"\"))","v":1},"",{"$f":"LEN(Answers!B305)","v":0},""]
[{"$f":"1 + LEN(Answers!B306) - LEN(SUBSTITUTE(Answers!B306,CHAR(10),\"\"))","v":1},"",{"$f":"LEN(Answers!B306)","v":0},""]
[{"$f":"1 + LEN(Answers!B307) - LEN(SUBSTITUTE(Answers!B307,CHAR(10),\"\"))","v":1},"",{"$f":"LEN(Answers!B307)","v":0},""]
[{"$f":"1 + LEN(Answers!B308) - LEN(SUBSTITUTE(Answers!B308,CHAR(10),\"\"))","v":1},"",{"$f":"LEN(Answers!B308)","v":0},""]
[{"$f":"1 + LEN(Answers!B309) - LEN(SUBSTITUTE(Answers!B309,CHAR(10),\"\"))","v":1},"",{"$f":"LEN(Answers!B309)","v":0},""]
[{"$f":"1 + LEN(Answers!B310) - LEN(SUBSTITUTE(Answers!B310,CHAR(10),\"\"))","v":1},"",{"$f":"LEN(Answers!B310)","v":0},""]
[{"$f":"1 + LEN(Answers!B311) - LEN(SUBSTITUTE(Answers!B311,CHAR(10),\"\"))","v":1},"",{"$f":"LEN(Answers!B311)","v":0},""]
[{"$f":"1 + LEN(Answers!B312) - LEN(SUBSTITUTE(Answers!B312,CHAR(10),\"\"))","v":1},"",{"$f":"LEN(Answers!B312)","v":0},""]
[{"$f":"1 + LEN(Answers!B313) - LEN(SUBSTITUTE(Answers!B313,CHAR(10),\"\"))","v":1},"",{"$f":"LEN(Answers!B313)","v":0},""]
[{"$f":"1 + LEN(Answers!B314) - LEN(SUBSTITUTE(Answers!B314,CHAR(10),\"\"))","v":1},"",{"$f":"LEN(Answers!B314)","v":0},""]
[{"$f":"1 + LEN(Answers!B315) - LEN(SUBSTITUTE(Answers!B315,CHAR(10),\"\"))","v":1},"",{"$f":"LEN(Answers!B315)","v":0},""]
[{"$f":"1 + LEN(Answers!B316) - LEN(SUBSTITUTE(Answers!B316,CHAR(10),\"\"))","v":1},"",{"$f":"LEN(Answers!B316)","v":0},""]
[{"$f":"1 + LEN(Answers!B317) - LEN(SUBSTITUTE(Answers!B317,CHAR(10),\"\"))","v":1},"",{"$f":"LEN(Answers!B317)","v":0},""]
[{"$f":"1 + LEN(Answers!B318) - LEN(SUBSTITUTE(Answers!B318,CHAR(10),\"\"))","v":1},"",{"$f":"LEN(Answers!B318)","v":0},""]
[{"$f":"1 + LEN(Answers!B319) - LEN(SUBSTITUTE(Answers!B319,CHAR(10),\"\"))","v":1},"",{"$f":"LEN(Answers!B319)","v":0},""]
[{"$f":"1 + LEN(Answers!B320) - LEN(SUBSTITUTE(Answers!B320,CHAR(10),\"\"))","v":1},"",{"$f":"LEN(Answers!B320)","v":0},""]
[{"$f":"1 + LEN(Answers!B321) - LEN(SUBSTITUTE(Answers!B321,CHAR(10),\"\"))","v":1},"",{"$f":"LEN(Answers!B321)","v":0},""]
[{"$f":"1 + LEN(Answers!B322) - LEN(SUBSTITUTE(Answers!B322,CHAR(10),\"\"))","v":1},"",{"$f":"LEN(Answers!B322)","v":0},""]
[{"$f":"1 + LEN(Answers!B323) - LEN(SUBSTITUTE(Answers!B323,CHAR(10),\"\"))","v":1},{"$f":"IF(A324>4,\"alert\",\"\")","v":""},{"$f":"LEN(Answers!B323)","v":0},{"$f":"IF(C324>120,\"alert\",\"\")","v":""}]
[{"$f":"1 + LEN(Answers!B324) - LEN(SUBSTITUTE(Answers!B324,CHAR(10),\"\"))","v":1},"",{"$f":"LEN(Answers!B324)","v":0},""]
[{"$f":"1 + LEN(Answers!B325) - LEN(SUBSTITUTE(Answers!B325,CHAR(10),\"\"))","v":1},"",{"$f":"LEN(Answers!B325)","v":0},""]
[{"$f":"1 + LEN(Answers!B326) - LEN(SUBSTITUTE(Answers!B326,CHAR(10),\"\"))","v":1},"",{"$f":"LEN(Answers!B326)","v":0},""]
[{"$f":"1 + LEN(Answers!B327) - LEN(SUBSTITUTE(Answers!B327,CHAR(10),\"\"))","v":1},"",{"$f":"LEN(Answers!B327)","v":0},""]
[{"$f":"1 + LEN(Answers!B328) - LEN(SUBSTITUTE(Answers!B328,CHAR(10),\"\"))","v":1},"",{"$f":"LEN(Answers!B328)","v":0},""]
[{"$f":"1 + LEN(Answers!B329) - LEN(SUBSTITUTE(Answers!B329,CHAR(10),\"\"))","v":1},"",{"$f":"LEN(Answers!B329)","v":0},""]
[{"$f":"1 + LEN(Answers!B330) - LEN(SUBSTITUTE(Answers!B330,CHAR(10),\"\"))","v":1},"",{"$f":"LEN(Answers!B330)","v":0},""]
[{"$f":"1 + LEN(Answers!B331) - LEN(SUBSTITUTE(Answers!B331,CHAR(10),\"\"))","v":1},"",{"$f":"LEN(Answers!B331)","v":0},""]
[{"$f":"1 + LEN(Answers!B332) - LEN(SUBSTITUTE(Answers!B332,CHAR(10),\"\"))","v":1},"",{"$f":"LEN(Answers!B332)","v":0},""]
[{"$f":"1 + LEN(Answers!B333) - LEN(SUBSTITUTE(Answers!B333,CHAR(10),\"\"))","v":1},"",{"$f":"LEN(Answers!B333)","v":0},""]
[{"$f":"1 + LEN(Answers!B334) - LEN(SUBSTITUTE(Answers!B334,CHAR(10),\"\"))","v":1},"",{"$f":"LEN(Answers!B334)","v":0},""]
[{"$f":"1 + LEN(Answers!B335) - LEN(SUBSTITUTE(Answers!B335,CHAR(10),\"\"))","v":1},"",{"$f":"LEN(Answers!B335)","v":0},""]
[{"$f":"1 + LEN(Answers!B336) - LEN(SUBSTITUTE(Answers!B336,CHAR(10),\"\"))","v":1},"",{"$f":"LEN(Answers!B336)","v":0},""]
[{"$f":"1 + LEN(Answers!B337) - LEN(SUBSTITUTE(Answers!B337,CHAR(10),\"\"))","v":1},"",{"$f":"LEN(Answers!B337)","v":0},""]
[{"$f":"1 + LEN(Answers!B338) - LEN(SUBSTITUTE(Answers!B338,CHAR(10),\"\"))","v":1},"",{"$f":"LEN(Answers!B338)","v":0},""]
[{"$f":"1 + LEN(Answers!B339) - LEN(SUBSTITUTE(Answers!B339,CHAR(10),\"\"))","v":1},"",{"$f":"LEN(Answers!B339)","v":0},""]
[{"$f":"1 + LEN(Answers!B340) - LEN(SUBSTITUTE(Answers!B340,CHAR(10),\"\"))","v":1},"",{"$f":"LEN(Answers!B340)","v":0},""]
[{"$f":"1 + LEN(Answers!B341) - LEN(SUBSTITUTE(Answers!B341,CHAR(10),\"\"))","v":1},"",{"$f":"LEN(Answers!B341)","v":0},""]
[{"$f":"1 + LEN(Answers!B342) - LEN(SUBSTITUTE(Answers!B342,CHAR(10),\"\"))","v":1},"",{"$f":"LEN(Answers!B342)","v":0},""]
[{"$f":"1 + LEN(Answers!B343) - LEN(SUBSTITUTE(Answers!B343,CHAR(10),\"\"))","v":1},"",{"$f":"LEN(Answers!B343)","v":0},""]
[{"$f":"1 + LEN(Answers!B344) - LEN(SUBSTITUTE(Answers!B344,CHAR(10),\"\"))","v":1},"",{"$f":"LEN(Answers!B344)","v":0},""]
[{"$f":"1 + LEN(Answers!B345) - LEN(SUBSTITUTE(Answers!B345,CHAR(10),\"\"))","v":1},"",{"$f":"LEN(Answers!B345)","v":0},""]
[{"$f":"1 + LEN(Answers!B346) - LEN(SUBSTITUTE(Answers!B346,CHAR(10),\"\"))","v":1},"",{"$f":"LEN(Answers!B346)","v":0},""]
[{"$f":"1 + LEN(Answers!B347) - LEN(SUBSTITUTE(Answers!B347,CHAR(10),\"\"))","v":1},"",{"$f":"LEN(Answers!B347)","v":0},""]
[{"$f":"1 + LEN(Answers!B348) - LEN(SUBSTITUTE(Answers!B348,CHAR(10),\"\"))","v":1},"",{"$f":"LEN(Answers!B348)","v":0},""]
[{"$f":"1 + LEN(Answers!B349) - LEN(SUBSTITUTE(Answers!B349,CHAR(10),\"\"))","v":1},"",{"$f":"LEN(Answers!B349)","v":0},""]
[{"$f":"1 + LEN(Answers!B350) - LEN(SUBSTITUTE(Answers!B350,CHAR(10),\"\"))","v":1},"",{"$f":"LEN(Answers!B350)","v":0},""]
[{"$f":"1 + LEN(Answers!B351) - LEN(SUBSTITUTE(Answers!B351,CHAR(10),\"\"))","v":1},"",{"$f":"LEN(Answers!B351)","v":0},""]
[{"$f":"1 + LEN(Answers!B352) - LEN(SUBSTITUTE(Answers!B352,CHAR(10),\"\"))","v":1},"",{"$f":"LEN(Answers!B352)","v":0},""]
[{"$f":"1 + LEN(Answers!B353) - LEN(SUBSTITUTE(Answers!B353,CHAR(10),\"\"))","v":1},"",{"$f":"LEN(Answers!B353)","v":0},""]
[{"$f":"1 + LEN(Answers!B354) - LEN(SUBSTITUTE(Answers!B354,CHAR(10),\"\"))","v":1},"",{"$f":"LEN(Answers!B354)","v":0},""]
[{"$f":"1 + LEN(Answers!B355) - LEN(SUBSTITUTE(Answers!B355,CHAR(10),\"\"))","v":1},"",{"$f":"LEN(Answers!B355)","v":0},""]
[{"$f":"1 + LEN(Answers!B356) - LEN(SUBSTITUTE(Answers!B356,CHAR(10),\"\"))","v":1},"",{"$f":"LEN(Answers!B356)","v":0},""]
[{"$f":"1 + LEN(Answers!B357) - LEN(SUBSTITUTE(Answers!B357,CHAR(10),\"\"))","v":1},"",{"$f":"LEN(Answers!B357)","v":0},""]
[{"$f":"1 + LEN(Answers!B358) - LEN(SUBSTITUTE(Answers!B358,CHAR(10),\"\"))","v":1},"",{"$f":"LEN(Answers!B358)","v":0},""]
[{"$f":"1 + LEN(Answers!B359) - LEN(SUBSTITUTE(Answers!B359,CHAR(10),\"\"))","v":1},"",{"$f":"LEN(Answers!B359)","v":0},""]
[{"$f":"1 + LEN(Answers!B360) - LEN(SUBSTITUTE(Answers!B360,CHAR(10),\"\"))","v":1},"",{"$f":"LEN(Answers!B360)","v":0},""]
[{"$f":"1 + LEN(Answers!B361) - LEN(SUBSTITUTE(Answers!B361,CHAR(10),\"\"))","v":1},"",{"$f":"LEN(Answers!B361)","v":0},""]
[{"$f":"1 + LEN(Answers!B362) - LEN(SUBSTITUTE(Answers!B362,CHAR(10),\"\"))","v":1},"",{"$f":"LEN(Answers!B362)","v":0},""]
[{"$f":"1 + LEN(Answers!B363) - LEN(SUBSTITUTE(Answers!B363,CHAR(10),\"\"))","v":1},"",{"$f":"LEN(Answers!B363)","v":0},""]
[{"$f":"1 + LEN(Answers!B364) - LEN(SUBSTITUTE(Answers!B364,CHAR(10),\"\"))","v":1},"",{"$f":"LEN(Answers!B364)","v":0},""]
[{"$f":"1 + LEN(Answers!B365) - LEN(SUBSTITUTE(Answers!B365,CHAR(10),\"\"))","v":1},"",{"$f":"LEN(Answers!B365)","v":0},""]
[{"$f":"1 + LEN(Answers!B366) - LEN(SUBSTITUTE(Answers!B366,CHAR(10),\"\"))","v":1},"",{"$f":"LEN(Answers!B366)","v":0},""]
[{"$f":"1 + LEN(Answers!B367) - LEN(SUBSTITUTE(Answers!B367,CHAR(10),\"\"))","v":1},"",{"$f":"LEN(Answers!B367)","v":0},""]
[{"$f":"1 + LEN(Answers!B368) - LEN(SUBSTITUTE(Answers!B368,CHAR(10),\"\"))","v":1},"",{"$f":"LEN(Answers!B368)","v":0},""]
[{"$f":"1 + LEN(Answers!B369) - LEN(SUBSTITUTE(Answers!B369,CHAR(10),\"\"))","v":1},"",{"$f":"LEN(Answers!B369)","v":0},""]
[{"$f":"1 + LEN(Answers!B370) - LEN(SUBSTITUTE(Answers!B370,CHAR(10),\"\"))","v":1},"",{"$f":"LEN(Answers!B370)","v":0},""]
[{"$f":"1 + LEN(Answers!B371) - LEN(SUBSTITUTE(Answers!B371,CHAR(10),\"\"))","v":1},"",{"$f":"LEN(Answers!B371)","v":0},""]
[{"$f":"1 + LEN(Answers!B372) - LEN(SUBSTITUTE(Answers!B372,CHAR(10),\"\"))","v":1},"",{"$f":"LEN(Answers!B372)","v":0},""]
[{"$f":"1 + LEN(Answers!B373) - LEN(SUBSTITUTE(Answers!B373,CHAR(10),\"\"))","v":1},"",{"$f":"LEN(Answers!B373)","v":0},""]
[{"$f":"1 + LEN(Answers!B374) - LEN(SUBSTITUTE(Answers!B374,CHAR(10),\"\"))","v":1},"",{"$f":"LEN(Answers!B374)","v":0},""]
[{"$f":"1 + LEN(Answers!B375) - LEN(SUBSTITUTE(Answers!B375,CHAR(10),\"\"))","v":1},"",{"$f":"LEN(Answers!B375)","v":0},""]
[{"$f":"1 + LEN(Answers!B376) - LEN(SUBSTITUTE(Answers!B376,CHAR(10),\"\"))","v":1},"",{"$f":"LEN(Answers!B376)","v":0},""]
[{"$f":"1 + LEN(Answers!B377) - LEN(SUBSTITUTE(Answers!B377,CHAR(10),\"\"))","v":1},"",{"$f":"LEN(Answers!B377)","v":0},""]
[{"$f":"1 + LEN(Answers!B378) - LEN(SUBSTITUTE(Answers!B378,CHAR(10),\"\"))","v":1},"",{"$f":"LEN(Answers!B378)","v":0},""]
[{"$f":"1 + LEN(Answers!B379) - LEN(SUBSTITUTE(Answers!B379,CHAR(10),\"\"))","v":1},"",{"$f":"LEN(Answers!B379)","v":0},""]
[{"$f":"1 + LEN(Answers!B380) - LEN(SUBSTITUTE(Answers!B380,CHAR(10),\"\"))","v":1},"",{"$f":"LEN(Answers!B380)","v":0},""]
[{"$f":"1 + LEN(Answers!B381) - LEN(SUBSTITUTE(Answers!B381,CHAR(10),\"\"))","v":1},"",{"$f":"LEN(Answers!B381)","v":0},""]
[{"$f":"1 + LEN(Answers!B382) - LEN(SUBSTITUTE(Answers!B382,CHAR(10),\"\"))","v":1},"",{"$f":"LEN(Answers!B382)","v":0},""]
[{"$f":"1 + LEN(Answers!B383) - LEN(SUBSTITUTE(Answers!B383,CHAR(10),\"\"))","v":1},"",{"$f":"LEN(Answers!B383)","v":0},""]
[{"$f":"1 + LEN(Answers!B384) - LEN(SUBSTITUTE(Answers!B384,CHAR(10),\"\"))","v":1},"",{"$f":"LEN(Answers!B384)","v":0},""]
[{"$f":"1 + LEN(Answers!B385) - LEN(SUBSTITUTE(Answers!B385,CHAR(10),\"\"))","v":1},"",{"$f":"LEN(Answers!B385)","v":0},""]
[{"$f":"1 + LEN(Answers!B386) - LEN(SUBSTITUTE(Answers!B386,CHAR(10),\"\"))","v":1},"",{"$f":"LEN(Answers!B386)","v":0},""]
[{"$f":"1 + LEN(Answers!B387) - LEN(SUBSTITUTE(Answers!B387,CHAR(10),\"\"))","v":1},{"$f":"IF(A388>4,\"alert\",\"\")","v":""},{"$f":"LEN(Answers!B387)","v":0},{"$f":"IF(C388>120,\"alert\",\"\")","v":""}]
[{"$f":"1 + LEN(Answers!B388) - LEN(SUBSTITUTE(Answers!B388,CHAR(10),\"\"))","v":1},"",{"$f":"LEN(Answers!B388)","v":0},""]
[{"$f":"1 + LEN(Answers!B389) - LEN(SUBSTITUTE(Answers!B389,CHAR(10),\"\"))","v":1},"",{"$f":"LEN(Answers!B389)","v":0},""]
[{"$f":"1 + LEN(Answers!B390) - LEN(SUBSTITUTE(Answers!B390,CHAR(10),\"\"))","v":1},"",{"$f":"LEN(Answers!B390)","v":0},""]
[{"$f":"1 + LEN(Answers!B391) - LEN(SUBSTITUTE(Answers!B391,CHAR(10),\"\"))","v":1},"",{"$f":"LEN(Answers!B391)","v":0},""]
[{"$f":"1 + LEN(Answers!B392) - LEN(SUBSTITUTE(Answers!B392,CHAR(10),\"\"))","v":1},"",{"$f":"LEN(Answers!B392)","v":0},""]
[{"$f":"1 + LEN(Answers!B393) - LEN(SUBSTITUTE(Answers!B393,CHAR(10),\"\"))","v":1},"",{"$f":"LEN(Answers!B393)","v":0},""]
[{"$f":"1 + LEN(Answers!B394) - LEN(SUBSTITUTE(Answers!B394,CHAR(10),\"\"))","v":1},"",{"$f":"LEN(Answers!B394)","v":0},""]
[{"$f":"1 + LEN(Answers!B395) - LEN(SUBSTITUTE(Answers!B395,CHAR(10),\"\"))","v":1},"",{"$f":"LEN(Answers!B395)","v":0},""]
[{"$f":"1 + LEN(Answers!B396) - LEN(SUBSTITUTE(Answers!B396,CHAR(10),\"\"))","v":1},"",{"$f":"LEN(Answers!B396)","v":0},""]
[{"$f":"1 + LEN(Answers!B397) - LEN(SUBSTITUTE(Answers!B397,CHAR(10),\"\"))","v":1},"",{"$f":"LEN(Answers!B397)","v":0},""]
[{"$f":"1 + LEN(Answers!B398) - LEN(SUBSTITUTE(Answers!B398,CHAR(10),\"\"))","v":1},"",{"$f":"LEN(Answers!B398)","v":0},""]
[{"$f":"1 + LEN(Answers!B399) - LEN(SUBSTITUTE(Answers!B399,CHAR(10),\"\"))","v":1},"",{"$f":"LEN(Answers!B399)","v":0},""]
[{"$f":"1 + LEN(Answers!B400) - LEN(SUBSTITUTE(Answers!B400,CHAR(10),\"\"))","v":1},"",{"$f":"LEN(Answers!B400)","v":0},""]
[{"$f":"1 + LEN(Answers!B401) - LEN(SUBSTITUTE(Answers!B401,CHAR(10),\"\"))","v":1},"",{"$f":"LEN(Answers!B401)","v":0},""]
[{"$f":"1 + LEN(Answers!B402) - LEN(SUBSTITUTE(Answers!B402,CHAR(10),\"\"))","v":1},"",{"$f":"LEN(Answers!B402)","v":0},""]
[{"$f":"1 + LEN(Answers!B403) - LEN(SUBSTITUTE(Answers!B403,CHAR(10),\"\"))","v":1},"",{"$f":"LEN(Answers!B403)","v":0},""]
[{"$f":"1 + LEN(Answers!B404) - LEN(SUBSTITUTE(Answers!B404,CHAR(10),\"\"))","v":1},"",{"$f":"LEN(Answers!B404)","v":0},""]
[{"$f":"1 + LEN(Answers!B405) - LEN(SUBSTITUTE(Answers!B405,CHAR(10),\"\"))","v":1},"",{"$f":"LEN(Answers!B405)","v":0},""]
[{"$f":"1 + LEN(Answers!B406) - LEN(SUBSTITUTE(Answers!B406,CHAR(10),\"\"))","v":1},"",{"$f":"LEN(Answers!B406)","v":0},""]
[{"$f":"1 + LEN(Answers!B407) - LEN(SUBSTITUTE(Answers!B407,CHAR(10),\"\"))","v":1},"",{"$f":"LEN(Answers!B407)","v":0},""]
[{"$f":"1 + LEN(Answers!B408) - LEN(SUBSTITUTE(Answers!B408,CHAR(10),\"\"))","v":1},"",{"$f":"LEN(Answers!B408)","v":0},""]
[{"$f":"1 + LEN(Answers!B409) - LEN(SUBSTITUTE(Answers!B409,CHAR(10),\"\"))","v":1},"",{"$f":"LEN(Answers!B409)","v":0},""]
[{"$f":"1 + LEN(Answers!B410) - LEN(SUBSTITUTE(Answers!B410,CHAR(10),\"\"))","v":1},"",{"$f":"LEN(Answers!B410)","v":0},""]
[{"$f":"1 + LEN(Answers!B411) - LEN(SUBSTITUTE(Answers!B411,CHAR(10),\"\"))","v":1},"",{"$f":"LEN(Answers!B411)","v":0},""]
[{"$f":"1 + LEN(Answers!B412) - LEN(SUBSTITUTE(Answers!B412,CHAR(10),\"\"))","v":1},"",{"$f":"LEN(Answers!B412)","v":0},""]
[{"$f":"1 + LEN(Answers!B413) - LEN(SUBSTITUTE(Answers!B413,CHAR(10),\"\"))","v":1},"",{"$f":"LEN(Answers!B413)","v":0},""]
[{"$f":"1 + LEN(Answers!B414) - LEN(SUBSTITUTE(Answers!B414,CHAR(10),\"\"))","v":1},"",{"$f":"LEN(Answers!B414)","v":0},""]
[{"$f":"1 + LEN(Answers!B415) - LEN(SUBSTITUTE(Answers!B415,CHAR(10),\"\"))","v":1},"",{"$f":"LEN(Answers!B415)","v":0},""]
[{"$f":"1 + LEN(Answers!B416) - LEN(SUBSTITUTE(Answers!B416,CHAR(10),\"\"))","v":1},"",{"$f":"LEN(Answers!B416)","v":0},""]
[{"$f":"1 + LEN(Answers!B417) - LEN(SUBSTITUTE(Answers!B417,CHAR(10),\"\"))","v":1},"",{"$f":"LEN(Answers!B417)","v":0},""]
[{"$f":"1 + LEN(Answers!B418) - LEN(SUBSTITUTE(Answers!B418,CHAR(10),\"\"))","v":1},"",{"$f":"LEN(Answers!B418)","v":0},""]
[{"$f":"1 + LEN(Answers!B419) - LEN(SUBSTITUTE(Answers!B419,CHAR(10),\"\"))","v":1},"",{"$f":"LEN(Answers!B419)","v":0},""]
[{"$f":"1 + LEN(Answers!B420) - LEN(SUBSTITUTE(Answers!B420,CHAR(10),\"\"))","v":1},"",{"$f":"LEN(Answers!B420)","v":0},""]
[{"$f":"1 + LEN(Answers!B421) - LEN(SUBSTITUTE(Answers!B421,CHAR(10),\"\"))","v":1},"",{"$f":"LEN(Answers!B421)","v":0},""]
[{"$f":"1 + LEN(Answers!B422) - LEN(SUBSTITUTE(Answers!B422,CHAR(10),\"\"))","v":1},"",{"$f":"LEN(Answers!B422)","v":0},""]
[{"$f":"1 + LEN(Answers!B423) - LEN(SUBSTITUTE(Answers!B423,CHAR(10),\"\"))","v":1},"",{"$f":"LEN(Answers!B423)","v":0},""]
[{"$f":"1 + LEN(Answers!B424) - LEN(SUBSTITUTE(Answers!B424,CHAR(10),\"\"))","v":1},"",{"$f":"LEN(Answers!B424)","v":0},""]
[{"$f":"1 + LEN(Answers!B425) - LEN(SUBSTITUTE(Answers!B425,CHAR(10),\"\"))","v":1},"",{"$f":"LEN(Answers!B425)","v":0},""]
[{"$f":"1 + LEN(Answers!B426) - LEN(SUBSTITUTE(Answers!B426,CHAR(10),\"\"))","v":1},"",{"$f":"LEN(Answers!B426)","v":0},""]
[{"$f":"1 + LEN(Answers!B427) - LEN(SUBSTITUTE(Answers!B427,CHAR(10),\"\"))","v":1},"",{"$f":"LEN(Answers!B427)","v":0},""]
[{"$f":"1 + LEN(Answers!B428) - LEN(SUBSTITUTE(Answers!B428,CHAR(10),\"\"))","v":1},"",{"$f":"LEN(Answers!B428)","v":0},""]
[{"$f":"1 + LEN(Answers!B429) - LEN(SUBSTITUTE(Answers!B429,CHAR(10),\"\"))","v":1},"",{"$f":"LEN(Answers!B429)","v":0},""]
[{"$f":"1 + LEN(Answers!B430) - LEN(SUBSTITUTE(Answers!B430,CHAR(10),\"\"))","v":1},"",{"$f":"LEN(Answers!B430)","v":0},""]
[{"$f":"1 + LEN(Answers!B431) - LEN(SUBSTITUTE(Answers!B431,CHAR(10),\"\"))","v":1},"",{"$f":"LEN(Answers!B431)","v":0},""]
[{"$f":"1 + LEN(Answers!B432) - LEN(SUBSTITUTE(Answers!B432,CHAR(10),\"\"))","v":1},"",{"$f":"LEN(Answers!B432)","v":0},""]
[{"$f":"1 + LEN(Answers!B433) - LEN(SUBSTITUTE(Answers!B433,CHAR(10),\"\"))","v":1},"",{"$f":"LEN(Answers!B433)","v":0},""]
[{"$f":"1 + LEN(Answers!B434) - LEN(SUBSTITUTE(Answers!B434,CHAR(10),\"\"))","v":1},"",{"$f":"LEN(Answers!B434)","v":0},""]
[{"$f":"1 + LEN(Answers!B435) - LEN(SUBSTITUTE(Answers!B435,CHAR(10),\"\"))","v":1},"",{"$f":"LEN(Answers!B435)","v":0},""]
[{"$f":"1 + LEN(Answers!B436) - LEN(SUBSTITUTE(Answers!B436,CHAR(10),\"\"))","v":1},"",{"$f":"LEN(Answers!B436)","v":0},""]
[{"$f":"1 + LEN(Answers!B437) - LEN(SUBSTITUTE(Answers!B437,CHAR(10),\"\"))","v":1},"",{"$f":"LEN(Answers!B437)","v":0},""]
[{"$f":"1 + LEN(Answers!B438) - LEN(SUBSTITUTE(Answers!B438,CHAR(10),\"\"))","v":1},"",{"$f":"LEN(Answers!B438)","v":0},""]
[{"$f":"1 + LEN(Answers!B439) - LEN(SUBSTITUTE(Answers!B439,CHAR(10),\"\"))","v":1},"",{"$f":"LEN(Answers!B439)","v":0},""]
[{"$f":"1 + LEN(Answers!B440) - LEN(SUBSTITUTE(Answers!B440,CHAR(10),\"\"))","v":1},"",{"$f":"LEN(Answers!B440)","v":0},""]
[{"$f":"1 + LEN(Answers!B441) - LEN(SUBSTITUTE(Answers!B441,CHAR(10),\"\"))","v":1},"",{"$f":"LEN(Answers!B441)","v":0},""]
[{"$f":"1 + LEN(Answers!B442) - LEN(SUBSTITUTE(Answers!B442,CHAR(10),\"\"))","v":1},"",{"$f":"LEN(Answers!B442)","v":0},""]
[{"$f":"1 + LEN(Answers!B443) - LEN(SUBSTITUTE(Answers!B443,CHAR(10),\"\"))","v":1},"",{"$f":"LEN(Answers!B443)","v":0},""]
[{"$f":"1 + LEN(Answers!B444) - LEN(SUBSTITUTE(Answers!B444,CHAR(10),\"\"))","v":1},"",{"$f":"LEN(Answers!B444)","v":0},""]
[{"$f":"1 + LEN(Answers!B445) - LEN(SUBSTITUTE(Answers!B445,CHAR(10),\"\"))","v":1},"",{"$f":"LEN(Answers!B445)","v":0},""]
[{"$f":"1 + LEN(Answers!B446) - LEN(SUBSTITUTE(Answers!B446,CHAR(10),\"\"))","v":1},"",{"$f":"LEN(Answers!B446)","v":0},""]
[{"$f":"1 + LEN(Answers!B447) - LEN(SUBSTITUTE(Answers!B447,CHAR(10),\"\"))","v":1},"",{"$f":"LEN(Answers!B447)","v":0},""]
[{"$f":"1 + LEN(Answers!B448) - LEN(SUBSTITUTE(Answers!B448,CHAR(10),\"\"))","v":1},"",{"$f":"LEN(Answers!B448)","v":0},""]
[{"$f":"1 + LEN(Answers!B449) - LEN(SUBSTITUTE(Answers!B449,CHAR(10),\"\"))","v":1},"",{"$f":"LEN(Answers!B449)","v":0},""]
[{"$f":"1 + LEN(Answers!B450) - LEN(SUBSTITUTE(Answers!B450,CHAR(10),\"\"))","v":1},"",{"$f":"LEN(Answers!B450)","v":0},""]
[{"$f":"1 + LEN(Answers!B451) - LEN(SUBSTITUTE(Answers!B451,CHAR(10),\"\"))","v":1},{"$f":"IF(A452>4,\"alert\",\"\")","v":""},{"$f":"LEN(Answers!B451)","v":0},{"$f":"IF(C452>120,\"alert\",\"\")","v":""}]
[{"$f":"1 + LEN(Answers!B452) - LEN(SUBSTITUTE(Answers!B452,CHAR(10),\"\"))","v":1},"",{"$f":"LEN(Answers!B452)","v":0},""]
[{"$f":"1 + LEN(Answers!B453) - LEN(SUBSTITUTE(Answers!B453,CHAR(10),\"\"))","v":1},"",{"$f":"LEN(Answers!B453)","v":0},""]
[{"$f":"1 + LEN(Answers!B454) - LEN(SUBSTITUTE(Answers!B454,CHAR(10),\"\"))","v":1},"",{"$f":"LEN(Answers!B454)","v":0},""]
[{"$f":"1 + LEN(Answers!B455) - LEN(SUBSTITUTE(Answers!B455,CHAR(10),\"\"))","v":1},"",{"$f":"LEN(Answers!B455)","v":0},""]
[{"$f":"1 + LEN(Answers!B456) - LEN(SUBSTITUTE(Answers!B456,CHAR(10),\"\"))","v":1},"",{"$f":"LEN(Answers!B456)","v":0},""]
[{"$f":"1 + LEN(Answers!B457) - LEN(SUBSTITUTE(Answers!B457,CHAR(10),\"\"))","v":1},"",{"$f":"LEN(Answers!B457)","v":0},""]
[{"$f":"1 + LEN(Answers!B458) - LEN(SUBSTITUTE(Answers!B458,CHAR(10),\"\"))","v":1},"",{"$f":"LEN(Answers!B458)","v":0},""]
[{"$f":"1 + LEN(Answers!B459) - LEN(SUBSTITUTE(Answers!B459,CHAR(10),\"\"))","v":1},"",{"$f":"LEN(Answers!B459)","v":0},""]
[{"$f":"1 + LEN(Answers!B460) - LEN(SUBSTITUTE(Answers!B460,CHAR(10),\"\"))","v":1},"",{"$f":"LEN(Answers!B460)","v":0},""]
[{"$f":"1 + LEN(Answers!B461) - LEN(SUBSTITUTE(Answers!B461,CHAR(10),\"\"))","v":1},"",{"$f":"LEN(Answers!B461)","v":0},""]
[{"$f":"1 + LEN(Answers!B462) - LEN(SUBSTITUTE(Answers!B462,CHAR(10),\"\"))","v":1},"",{"$f":"LEN(Answers!B462)","v":0},""]
[{"$f":"1 + LEN(Answers!B463) - LEN(SUBSTITUTE(Answers!B463,CHAR(10),\"\"))","v":1},"",{"$f":"LEN(Answers!B463)","v":0},""]
[{"$f":"1 + LEN(Answers!B464) - LEN(SUBSTITUTE(Answers!B464,CHAR(10),\"\"))","v":1},"",{"$f":"LEN(Answers!B464)","v":0},""]
[{"$f":"1 + LEN(Answers!B465) - LEN(SUBSTITUTE(Answers!B465,CHAR(10),\"\"))","v":1},"",{"$f":"LEN(Answers!B465)","v":0},""]
[{"$f":"1 + LEN(Answers!B466) - LEN(SUBSTITUTE(Answers!B466,CHAR(10),\"\"))","v":1},"",{"$f":"LEN(Answers!B466)","v":0},""]
[{"$f":"1 + LEN(Answers!B467) - LEN(SUBSTITUTE(Answers!B467,CHAR(10),\"\"))","v":1},"",{"$f":"LEN(Answers!B467)","v":0},""]
[{"$f":"1 + LEN(Answers!B468) - LEN(SUBSTITUTE(Answers!B468,CHAR(10),\"\"))","v":1},"",{"$f":"LEN(Answers!B468)","v":0},""]
[{"$f":"1 + LEN(Answers!B469) - LEN(SUBSTITUTE(Answers!B469,CHAR(10),\"\"))","v":1},"",{"$f":"LEN(Answers!B469)","v":0},""]
[{"$f":"1 + LEN(Answers!B470) - LEN(SUBSTITUTE(Answers!B470,CHAR(10),\"\"))","v":1},"",{"$f":"LEN(Answers!B470)","v":0},""]
[{"$f":"1 + LEN(Answers!B471) - LEN(SUBSTITUTE(Answers!B471,CHAR(10),\"\"))","v":1},"",{"$f":"LEN(Answers!B471)","v":0},""]
[{"$f":"1 + LEN(Answers!B472) - LEN(SUBSTITUTE(Answers!B472,CHAR(10),\"\"))","v":1},"",{"$f":"LEN(Answers!B472)","v":0},""]
[{"$f":"1 + LEN(Answers!B473) - LEN(SUBSTITUTE(Answers!B473,CHAR(10),\"\"))","v":1},"",{"$f":"LEN(Answers!B473)","v":0},""]
[{"$f":"1 + LEN(Answers!B474) - LEN(SUBSTITUTE(Answers!B474,CHAR(10),\"\"))","v":1},"",{"$f":"LEN(Answers!B474)","v":0},""]
[{"$f":"1 + LEN(Answers!B475) - LEN(SUBSTITUTE(Answers!B475,CHAR(10),\"\"))","v":1},"",{"$f":"LEN(Answers!B475)","v":0},""]
[{"$f":"1 + LEN(Answers!B476) - LEN(SUBSTITUTE(Answers!B476,CHAR(10),\"\"))","v":1},"",{"$f":"LEN(Answers!B476)","v":0},""]
[{"$f":"1 + LEN(Answers!B477) - LEN(SUBSTITUTE(Answers!B477,CHAR(10),\"\"))","v":1},"",{"$f":"LEN(Answers!B477)","v":0},""]
[{"$f":"1 + LEN(Answers!B478) - LEN(SUBSTITUTE(Answers!B478,CHAR(10),\"\"))","v":1},"",{"$f":"LEN(Answers!B478)","v":0},""]
[{"$f":"1 + LEN(Answers!B479) - LEN(SUBSTITUTE(Answers!B479,CHAR(10),\"\"))","v":1},"",{"$f":"LEN(Answers!B479)","v":0},""]
[{"$f":"1 + LEN(Answers!B480) - LEN(SUBSTITUTE(Answers!B480,CHAR(10),\"\"))","v":1},"",{"$f":"LEN(Answers!B480)","v":0},""]
[{"$f":"1 + LEN(Answers!B481) - LEN(SUBSTITUTE(Answers!B481,CHAR(10),\"\"))","v":1},"",{"$f":"LEN(Answers!B481)","v":0},""]
[{"$f":"1 + LEN(Answers!B482) - LEN(SUBSTITUTE(Answers!B482,CHAR(10),\"\"))","v":1},"",{"$f":"LEN(Answers!B482)","v":0},""]
[{"$f":"1 + LEN(Answers!B483) - LEN(SUBSTITUTE(Answers!B483,CHAR(10),\"\"))","v":1},"",{"$f":"LEN(Answers!B483)","v":0},""]
[{"$f":"1 + LEN(Answers!B484) - LEN(SUBSTITUTE(Answers!B484,CHAR(10),\"\"))","v":1},"",{"$f":"LEN(Answers!B484)","v":0},""]
[{"$f":"1 + LEN(Answers!B485) - LEN(SUBSTITUTE(Answers!B485,CHAR(10),\"\"))","v":1},"",{"$f":"LEN(Answers!B485)","v":0},""]
[{"$f":"1 + LEN(Answers!B486) - LEN(SUBSTITUTE(Answers!B486,CHAR(10),\"\"))","v":1},"",{"$f":"LEN(Answers!B486)","v":0},""]
[{"$f":"1 + LEN(Answers!B487) - LEN(SUBSTITUTE(Answers!B487,CHAR(10),\"\"))","v":1},"",{"$f":"LEN(Answers!B487)","v":0},""]
[{"$f":"1 + LEN(Answers!B488) - LEN(SUBSTITUTE(Answers!B488,CHAR(10),\"\"))","v":1},"",{"$f":"LEN(Answers!B488)","v":0},""]
[{"$f":"1 + LEN(Answers!B489) - LEN(SUBSTITUTE(Answers!B489,CHAR(10),\"\"))","v":1},"",{"$f":"LEN(Answers!B489)","v":0},""]
[{"$f":"1 + LEN(Answers!B490) - LEN(SUBSTITUTE(Answers!B490,CHAR(10),\"\"))","v":1},"",{"$f":"LEN(Answers!B490)","v":0},""]
[{"$f":"1 + LEN(Answers!B491) - LEN(SUBSTITUTE(Answers!B491,CHAR(10),\"\"))","v":1},"",{"$f":"LEN(Answers!B491)","v":0},""]
[{"$f":"1 + LEN(Answers!B492) - LEN(SUBSTITUTE(Answers!B492,CHAR(10),\"\"))","v":1},"",{"$f":"LEN(Answers!B492)","v":0},""]
[{"$f":"1 + LEN(Answers!B493) - LEN(SUBSTITUTE(Answers!B493,CHAR(10),\"\"))","v":1},"",{"$f":"LEN(Answers!B493)","v":0},""]
[{"$f":"1 + LEN(Answers!B494) - LEN(SUBSTITUTE(Answers!B494,CHAR(10),\"\"))","v":1},"",{"$f":"LEN(Answers!B494)","v":0},""]
[{"$f":"1 + LEN(Answers!B495) - LEN(SUBSTITUTE(Answers!B495,CHAR(10),\"\"))","v":1},"",{"$f":"LEN(Answers!B495)","v":0},""]
[{"$f":"1 + LEN(Answers!B496) - LEN(SUBSTITUTE(Answers!B496,CHAR(10),\"\"))","v":1},"",{"$f":"LEN(Answers!B496)","v":0},""]
[{"$f":"1 + LEN(Answers!B497) - LEN(SUBSTITUTE(Answers!B497,CHAR(10),\"\"))","v":1},"",{"$f":"LEN(Answers!B497)","v":0},""]
[{"$f":"1 + LEN(Answers!B498) - LEN(SUBSTITUTE(Answers!B498,CHAR(10),\"\"))","v":1},"",{"$f":"LEN(Answers!B498)","v":0},""]
[{"$f":"1 + LEN(Answers!B499) - LEN(SUBSTITUTE(Answers!B499,CHAR(10),\"\"))","v":1},"",{"$f":"LEN(Answers!B499)","v":0},""]
[{"$f":"1 + LEN(Answers!B500) - LEN(SUBSTITUTE(Answers!B500,CHAR(10),\"\"))","v":1},"",{"$f":"LEN(Answers!B500)","v":0},""]
[{"$f":"1 + LEN(Answers!B501) - LEN(SUBSTITUTE(Answers!B501,CHAR(10),\"\"))","v":1},"",{"$f":"LEN(Answers!B501)","v":0},""]
[{"$f":"1 + LEN(Answers!B502) - LEN(SUBSTITUTE(Answers!B502,CHAR(10),\"\"))","v":1},"",{"$f":"LEN(Answers!B502)","v":0},""]
[{"$f":"1 + LEN(Answers!B503) - LEN(SUBSTITUTE(Answers!B503,CHAR(10),\"\"))","v":1},"",{"$f":"LEN(Answers!B503)","v":0},""]
[{"$f":"1 + LEN(Answers!B504) - LEN(SUBSTITUTE(Answers!B504,CHAR(10),\"\"))","v":1},"",{"$f":"LEN(Answers!B504)","v":0},""]
[{"$f":"1 + LEN(Answers!B505) - LEN(SUBSTITUTE(Answers!B505,CHAR(10),\"\"))","v":1},"",{"$f":"LEN(Answers!B505)","v":0},""]
[{"$f":"1 + LEN(Answers!B506) - LEN(SUBSTITUTE(Answers!B506,CHAR(10),\"\"))","v":1},"",{"$f":"LEN(Answers!B506)","v":0},""]
[{"$f":"1 + LEN(Answers!B507) - LEN(SUBSTITUTE(Answers!B507,CHAR(10),\"\"))","v":1},"",{"$f":"LEN(Answers!B507)","v":0},""]
[{"$f":"1 + LEN(Answers!B508) - LEN(SUBSTITUTE(Answers!B508,CHAR(10),\"\"))","v":1},"",{"$f":"LEN(Answers!B508)","v":0},""]
[{"$f":"1 + LEN(Answers!B509) - LEN(SUBSTITUTE(Answers!B509,CHAR(10),\"\"))","v":1},"",{"$f":"LEN(Answers!B509)","v":0},""]
[{"$f":"1 + LEN(Answers!B510) - LEN(SUBSTITUTE(Answers!B510,CHAR(10),\"\"))","v":1},"",{"$f":"LEN(Answers!B510)","v":0},""]
[{"$f":"1 + LEN(Answers!B511) - LEN(SUBSTITUTE(Answers!B511,CHAR(10),\"\"))","v":1},"",{"$f":"LEN(Answers!B511)","v":0},""]
[{"$f":"1 + LEN(Answers!B512) - LEN(SUBSTITUTE(Answers!B512,CHAR(10),\"\"))","v":1},"",{"$f":"LEN(Answers!B512)","v":0},""]
[{"$f":"1 + LEN(Answers!B513) - LEN(SUBSTITUTE(Answers!B513,CHAR(10),\"\"))","v":1},"",{"$f":"LEN(Answers!B513)","v":0},""]
[{"$f":"1 + LEN(Answers!B514) - LEN(SUBSTITUTE(Answers!B514,CHAR(10),\"\"))","v":1},"",{"$f":"LEN(Answers!B514)","v":0},""]
[{"$f":"1 + LEN(Answers!B515) - LEN(SUBSTITUTE(Answers!B515,CHAR(10),\"\"))","v":1},{"$f":"IF(A516>4,\"alert\",\"\")","v":""},{"$f":"LEN(Answers!B515)","v":0},{"$f":"IF(C516>120,\"alert\",\"\")","v":""}]
[{"$f":"1 + LEN(Answers!B516) - LEN(SUBSTITUTE(Answers!B516,CHAR(10),\"\"))","v":1},"",{"$f":"LEN(Answers!B516)","v":0},""]
[{"$f":"1 + LEN(Answers!B517) - LEN(SUBSTITUTE(Answers!B517,CHAR(10),\"\"))","v":1},"",{"$f":"LEN(Answers!B517)","v":0},""]
[{"$f":"1 + LEN(Answers!B518) - LEN(SUBSTITUTE(Answers!B518,CHAR(10),\"\"))","v":1},"",{"$f":"LEN(Answers!B518)","v":0},""]
[{"$f":"1 + LEN(Answers!B519) - LEN(SUBSTITUTE(Answers!B519,CHAR(10),\"\"))","v":1},"",{"$f":"LEN(Answers!B519)","v":0},""]
[{"$f":"1 + LEN(Answers!B520) - LEN(SUBSTITUTE(Answers!B520,CHAR(10),\"\"))","v":1},"",{"$f":"LEN(Answers!B520)","v":0},""]
[{"$f":"1 + LEN(Answers!B521) - LEN(SUBSTITUTE(Answers!B521,CHAR(10),\"\"))","v":1},"",{"$f":"LEN(Answers!B521)","v":0},""]
[{"$f":"1 + LEN(Answers!B522) - LEN(SUBSTITUTE(Answers!B522,CHAR(10),\"\"))","v":1},"",{"$f":"LEN(Answers!B522)","v":0},""]
[{"$f":"1 + LEN(Answers!B523) - LEN(SUBSTITUTE(Answers!B523,CHAR(10),\"\"))","v":1},"",{"$f":"LEN(Answers!B523)","v":0},""]
[{"$f":"1 + LEN(Answers!B524) - LEN(SUBSTITUTE(Answers!B524,CHAR(10),\"\"))","v":1},"",{"$f":"LEN(Answers!B524)","v":0},""]
[{"$f":"1 + LEN(Answers!B525) - LEN(SUBSTITUTE(Answers!B525,CHAR(10),\"\"))","v":1},"",{"$f":"LEN(Answers!B525)","v":0},""]
[{"$f":"1 + LEN(Answers!B526) - LEN(SUBSTITUTE(Answers!B526,CHAR(10),\"\"))","v":1},"",{"$f":"LEN(Answers!B526)","v":0},""]
[{"$f":"1 + LEN(Answers!B527) - LEN(SUBSTITUTE(Answers!B527,CHAR(10),\"\"))","v":1},"",{"$f":"LEN(Answers!B527)","v":0},""]
[{"$f":"1 + LEN(Answers!B528) - LEN(SUBSTITUTE(Answers!B528,CHAR(10),\"\"))","v":1},"",{"$f":"LEN(Answers!B528)","v":0},""]
[{"$f":"1 + LEN(Answers!B529) - LEN(SUBSTITUTE(Answers!B529,CHAR(10),\"\"))","v":1},"",{"$f":"LEN(Answers!B529)","v":0},""]
[{"$f":"1 + LEN(Answers!B530) - LEN(SUBSTITUTE(Answers!B530,CHAR(10),\"\"))","v":1},"",{"$f":"LEN(Answers!B530)","v":0},""]
[{"$f":"1 + LEN(Answers!B531) - LEN(SUBSTITUTE(Answers!B531,CHAR(10),\"\"))","v":1},"",{"$f":"LEN(Answers!B531)","v":0},""]
[{"$f":"1 + LEN(Answers!B532) - LEN(SUBSTITUTE(Answers!B532,CHAR(10),\"\"))","v":1},"",{"$f":"LEN(Answers!B532)","v":0},""]
[{"$f":"1 + LEN(Answers!B533) - LEN(SUBSTITUTE(Answers!B533,CHAR(10),\"\"))","v":1},"",{"$f":"LEN(Answers!B533)","v":0},""]
[{"$f":"1 + LEN(Answers!B534) - LEN(SUBSTITUTE(Answers!B534,CHAR(10),\"\"))","v":1},"",{"$f":"LEN(Answers!B534)","v":0},""]
[{"$f":"1 + LEN(Answers!B535) - LEN(SUBSTITUTE(Answers!B535,CHAR(10),\"\"))","v":1},"",{"$f":"LEN(Answers!B535)","v":0},""]
[{"$f":"1 + LEN(Answers!B536) - LEN(SUBSTITUTE(Answers!B536,CHAR(10),\"\"))","v":1},"",{"$f":"LEN(Answers!B536)","v":0},""]
[{"$f":"1 + LEN(Answers!B537) - LEN(SUBSTITUTE(Answers!B537,CHAR(10),\"\"))","v":1},"",{"$f":"LEN(Answers!B537)","v":0},""]
[{"$f":"1 + LEN(Answers!B538) - LEN(SUBSTITUTE(Answers!B538,CHAR(10),\"\"))","v":1},"",{"$f":"LEN(Answers!B538)","v":0},""]
[{"$f":"1 + LEN(Answers!B539) - LEN(SUBSTITUTE(Answers!B539,CHAR(10),\"\"))","v":1},"",{"$f":"LEN(Answers!B539)","v":0},""]
[{"$f":"1 + LEN(Answers!B540) - LEN(SUBSTITUTE(Answers!B540,CHAR(10),\"\"))","v":1},"",{"$f":"LEN(Answers!B540)","v":0},""]
[{"$f":"1 + LEN(Answers!B541) - LEN(SUBSTITUTE(Answers!B541,CHAR(10),\"\"))","v":1},"",{"$f":"LEN(Answers!B541)","v":0},""]
[{"$f":"1 + LEN(Answers!B542) - LEN(SUBSTITUTE(Answers!B542,CHAR(10),\"\"))","v":1},"",{"$f":"LEN(Answers!B542)","v":0},""]
[{"$f":"1 + LEN(Answers!B543) - LEN(SUBSTITUTE(Answers!B543,CHAR(10),\"\"))","v":1},"",{"$f":"LEN(Answers!B543)","v":0},""]
[{"$f":"1 + LEN(Answers!B544) - LEN(SUBSTITUTE(Answers!B544,CHAR(10),\"\"))","v":1},"",{"$f":"LEN(Answers!B544)","v":0},""]
[{"$f":"1 + LEN(Answers!B545) - LEN(SUBSTITUTE(Answers!B545,CHAR(10),\"\"))","v":1},"",{"$f":"LEN(Answers!B545)","v":0},""]
[{"$f":"1 + LEN(Answers!B546) - LEN(SUBSTITUTE(Answers!B546,CHAR(10),\"\"))","v":1},"",{"$f":"LEN(Answers!B546)","v":0},""]
[{"$f":"1 + LEN(Answers!B547) - LEN(SUBSTITUTE(Answers!B547,CHAR(10),\"\"))","v":1},"",{"$f":"LEN(Answers!B547)","v":0},""]
[{"$f":"1 + LEN(Answers!B548) - LEN(SUBSTITUTE(Answers!B548,CHAR(10),\"\"))","v":1},"",{"$f":"LEN(Answers!B548)","v":0},""]
[{"$f":"1 + LEN(Answers!B549) - LEN(SUBSTITUTE(Answers!B549,CHAR(10),\"\"))","v":1},"",{"$f":"LEN(Answers!B549)","v":0},""]
[{"$f":"1 + LEN(Answers!B550) - LEN(SUBSTITUTE(Answers!B550,CHAR(10),\"\"))","v":1},"",{"$f":"LEN(Answers!B550)","v":0},""]
[{"$f":"1 + LEN(Answers!B551) - LEN(SUBSTITUTE(Answers!B551,CHAR(10),\"\"))","v":1},"",{"$f":"LEN(Answers!B551)","v":0},""]
[{"$f":"1 + LEN(Answers!B552) - LEN(SUBSTITUTE(Answers!B552,CHAR(10),\"\"))","v":1},"",{"$f":"LEN(Answers!B552)","v":0},""]
[{"$f":"1 + LEN(Answers!B553) - LEN(SUBSTITUTE(Answers!B553,CHAR(10),\"\"))","v":1},"",{"$f":"LEN(Answers!B553)","v":0},""]
[{"$f":"1 + LEN(Answers!B554) - LEN(SUBSTITUTE(Answers!B554,CHAR(10),\"\"))","v":1},"",{"$f":"LEN(Answers!B554)","v":0},""]
[{"$f":"1 + LEN(Answers!B555) - LEN(SUBSTITUTE(Answers!B555,CHAR(10),\"\"))","v":1},"",{"$f":"LEN(Answers!B555)","v":0},""]
[{"$f":"1 + LEN(Answers!B556) - LEN(SUBSTITUTE(Answers!B556,CHAR(10),\"\"))","v":1},"",{"$f":"LEN(Answers!B556)","v":0},""]
[{"$f":"1 + LEN(Answers!B557) - LEN(SUBSTITUTE(Answers!B557,CHAR(10),\"\"))","v":1},"",{"$f":"LEN(Answers!B557)","v":0},""]
[{"$f":"1 + LEN(Answers!B558) - LEN(SUBSTITUTE(Answers!B558,CHAR(10),\"\"))","v":1},"",{"$f":"LEN(Answers!B558)","v":0},""]
[{"$f":"1 + LEN(Answers!B559) - LEN(SUBSTITUTE(Answers!B559,CHAR(10),\"\"))","v":1},"",{"$f":"LEN(Answers!B559)","v":0},""]
[{"$f":"1 + LEN(Answers!B560) - LEN(SUBSTITUTE(Answers!B560,CHAR(10),\"\"))","v":1},"",{"$f":"LEN(Answers!B560)","v":0},""]
[{"$f":"1 + LEN(Answers!B561) - LEN(SUBSTITUTE(Answers!B561,CHAR(10),\"\"))","v":1},"",{"$f":"LEN(Answers!B561)","v":0},""]
[{"$f":"1 + LEN(Answers!B562) - LEN(SUBSTITUTE(Answers!B562,CHAR(10),\"\"))","v":1},"",{"$f":"LEN(Answers!B562)","v":0},""]
[{"$f":"1 + LEN(Answers!B563) - LEN(SUBSTITUTE(Answers!B563,CHAR(10),\"\"))","v":1},"",{"$f":"LEN(Answers!B563)","v":0},""]
[{"$f":"1 + LEN(Answers!B564) - LEN(SUBSTITUTE(Answers!B564,CHAR(10),\"\"))","v":1},"",{"$f":"LEN(Answers!B564)","v":0},""]
[{"$f":"1 + LEN(Answers!B565) - LEN(SUBSTITUTE(Answers!B565,CHAR(10),\"\"))","v":1},"",{"$f":"LEN(Answers!B565)","v":0},""]
[{"$f":"1 + LEN(Answers!B566) - LEN(SUBSTITUTE(Answers!B566,CHAR(10),\"\"))","v":1},"",{"$f":"LEN(Answers!B566)","v":0},""]
[{"$f":"1 + LEN(Answers!B567) - LEN(SUBSTITUTE(Answers!B567,CHAR(10),\"\"))","v":1},"",{"$f":"LEN(Answers!B567)","v":0},""]
[{"$f":"1 + LEN(Answers!B568) - LEN(SUBSTITUTE(Answers!B568,CHAR(10),\"\"))","v":1},"",{"$f":"LEN(Answers!B568)","v":0},""]
[{"$f":"1 + LEN(Answers!B569) - LEN(SUBSTITUTE(Answers!B569,CHAR(10),\"\"))","v":1},"",{"$f":"LEN(Answers!B569)","v":0},""]
[{"$f":"1 + LEN(Answers!B570) - LEN(SUBSTITUTE(Answers!B570,CHAR(10),\"\"))","v":1},"",{"$f":"LEN(Answers!B570)","v":0},""]
[{"$f":"1 + LEN(Answers!B571) - LEN(SUBSTITUTE(Answers!B571,CHAR(10),\"\"))","v":1},"",{"$f":"LEN(Answers!B571)","v":0},""]
[{"$f":"1 + LEN(Answers!B572) - LEN(SUBSTITUTE(Answers!B572,CHAR(10),\"\"))","v":1},"",{"$f":"LEN(Answers!B572)","v":0},""]
[{"$f":"1 + LEN(Answers!B573) - LEN(SUBSTITUTE(Answers!B573,CHAR(10),\"\"))","v":1},"",{"$f":"LEN(Answers!B573)","v":0},""]
[{"$f":"1 + LEN(Answers!B574) - LEN(SUBSTITUTE(Answers!B574,CHAR(10),\"\"))","v":1},"",{"$f":"LEN(Answers!B574)","v":0},""]
[{"$f":"1 + LEN(Answers!B575) - LEN(SUBSTITUTE(Answers!B575,CHAR(10),\"\"))","v":1},"",{"$f":"LEN(Answers!B575)","v":0},""]
[{"$f":"1 + LEN(Answers!B576) - LEN(SUBSTITUTE(Answers!B576,CHAR(10),\"\"))","v":1},"",{"$f":"LEN(Answers!B576)","v":0},""]
[{"$f":"1 + LEN(Answers!B577) - LEN(SUBSTITUTE(Answers!B577,CHAR(10),\"\"))","v":1},"",{"$f":"LEN(Answers!B577)","v":0},""]
[{"$f":"1 + LEN(Answers!B578) - LEN(SUBSTITUTE(Answers!B578,CHAR(10),\"\"))","v":1},"",{"$f":"LEN(Answers!B578)","v":0},""]
[{"$f":"1 + LEN(Answers!B579) - LEN(SUBSTITUTE(Answers!B579,CHAR(10),\"\"))","v":1},{"$f":"IF(A580>4,\"alert\",\"\")","v":""},{"$f":"LEN(Answers!B579)","v":0},{"$f":"IF(C580>120,\"alert\",\"\")","v":""}]
[{"$f":"1 + LEN(Answers!B580) - LEN(SUBSTITUTE(Answers!B580,CHAR(10),\"\"))","v":1},"",{"$f":"LEN(Answers!B580)","v":0},""]
[{"$f":"1 + LEN(Answers!B581) - LEN(SUBSTITUTE(Answers!B581,CHAR(10),\"\"))","v":1},"",{"$f":"LEN(Answers!B581)","v":0},""]
[{"$f":"1 + LEN(Answers!B582) - LEN(SUBSTITUTE(Answers!B582,CHAR(10),\"\"))","v":1},"",{"$f":"LEN(Answers!B582)","v":0},""]
[{"$f":"1 + LEN(Answers!B583) - LEN(SUBSTITUTE(Answers!B583,CHAR(10),\"\"))","v":1},"",{"$f":"LEN(Answers!B583)","v":0},""]
[{"$f":"1 + LEN(Answers!B584) - LEN(SUBSTITUTE(Answers!B584,CHAR(10),\"\"))","v":1},"",{"$f":"LEN(Answers!B584)","v":0},""]
[{"$f":"1 + LEN(Answers!B585) - LEN(SUBSTITUTE(Answers!B585,CHAR(10),\"\"))","v":1},"",{"$f":"LEN(Answers!B585)","v":0},""]
[{"$f":"1 + LEN(Answers!B586) - LEN(SUBSTITUTE(Answers!B586,CHAR(10),\"\"))","v":1},"",{"$f":"LEN(Answers!B586)","v":0},""]
[{"$f":"1 + LEN(Answers!B587) - LEN(SUBSTITUTE(Answers!B587,CHAR(10),\"\"))","v":1},"",{"$f":"LEN(Answers!B587)","v":0},""]
[{"$f":"1 + LEN(Answers!B588) - LEN(SUBSTITUTE(Answers!B588,CHAR(10),\"\"))","v":1},"",{"$f":"LEN(Answers!B588)","v":0},""]
[{"$f":"1 + LEN(Answers!B589) - LEN(SUBSTITUTE(Answers!B589,CHAR(10),\"\"))","v":1},"",{"$f":"LEN(Answers!B589)","v":0},""]
[{"$f":"1 + LEN(Answers!B590) - LEN(SUBSTITUTE(Answers!B590,CHAR(10),\"\"))","v":1},"",{"$f":"LEN(Answers!B590)","v":0},""]
[{"$f":"1 + LEN(Answers!B591) - LEN(SUBSTITUTE(Answers!B591,CHAR(10),\"\"))","v":1},"",{"$f":"LEN(Answers!B591)","v":0},""]
[{"$f":"1 + LEN(Answers!B592) - LEN(SUBSTITUTE(Answers!B592,CHAR(10),\"\"))","v":1},"",{"$f":"LEN(Answers!B592)","v":0},""]
[{"$f":"1 + LEN(Answers!B593) - LEN(SUBSTITUTE(Answers!B593,CHAR(10),\"\"))","v":1},"",{"$f":"LEN(Answers!B593)","v":0},""]
[{"$f":"1 + LEN(Answers!B594) - LEN(SUBSTITUTE(Answers!B594,CHAR(10),\"\"))","v":1},"",{"$f":"LEN(Answers!B594)","v":0},""]
[{"$f":"1 + LEN(Answers!B595) - LEN(SUBSTITUTE(Answers!B595,CHAR(10),\"\"))","v":1},"",{"$f":"LEN(Answers!B595)","v":0},""]
[{"$f":"1 + LEN(Answers!B596) - LEN(SUBSTITUTE(Answers!B596,CHAR(10),\"\"))","v":1},"",{"$f":"LEN(Answers!B596)","v":0},""]
[{"$f":"1 + LEN(Answers!B597) - LEN(SUBSTITUTE(Answers!B597,CHAR(10),\"\"))","v":1},"",{"$f":"LEN(Answers!B597)","v":0},""]
[{"$f":"1 + LEN(Answers!B598) - LEN(SUBSTITUTE(Answers!B598,CHAR(10),\"\"))","v":1},"",{"$f":"LEN(Answers!B598)","v":0},""]
[{"$f":"1 + LEN(Answers!B599) - LEN(SUBSTITUTE(Answers!B599,CHAR(10),\"\"))","v":1},"",{"$f":"LEN(Answers!B599)","v":0},""]
[{"$f":"1 + LEN(Answers!B600) - LEN(SUBSTITUTE(Answers!B600,CHAR(10),\"\"))","v":1},"",{"$f":"LEN(Answers!B600)","v":0},""]
[{"$f":"1 + LEN(Answers!B601) - LEN(SUBSTITUTE(Answers!B601,CHAR(10),\"\"))","v":1},"",{"$f":"LEN(Answers!B601)","v":0},""]
[{"$f":"1 + LEN(Answers!B602) - LEN(SUBSTITUTE(Answers!B602,CHAR(10),\"\"))","v":1},"",{"$f":"LEN(Answers!B602)","v":0},""]
[{"$f":"1 + LEN(Answers!B603) - LEN(SUBSTITUTE(Answers!B603,CHAR(10),\"\"))","v":1},"",{"$f":"LEN(Answers!B603)","v":0},""]
[{"$f":"1 + LEN(Answers!B604) - LEN(SUBSTITUTE(Answers!B604,CHAR(10),\"\"))","v":1},"",{"$f":"LEN(Answers!B604)","v":0},""]
[{"$f":"1 + LEN(Answers!B605) - LEN(SUBSTITUTE(Answers!B605,CHAR(10),\"\"))","v":1},"",{"$f":"LEN(Answers!B605)","v":0},""]
[{"$f":"1 + LEN(Answers!B606) - LEN(SUBSTITUTE(Answers!B606,CHAR(10),\"\"))","v":1},"",{"$f":"LEN(Answers!B606)","v":0},""]
[{"$f":"1 + LEN(Answers!B607) - LEN(SUBSTITUTE(Answers!B607,CHAR(10),\"\"))","v":1},"",{"$f":"LEN(Answers!B607)","v":0},""]
[{"$f":"1 + LEN(Answers!B608) - LEN(SUBSTITUTE(Answers!B608,CHAR(10),\"\"))","v":1},"",{"$f":"LEN(Answers!B608)","v":0},""]
[{"$f":"1 + LEN(Answers!B609) - LEN(SUBSTITUTE(Answers!B609,CHAR(10),\"\"))","v":1},"",{"$f":"LEN(Answers!B609)","v":0},""]
[{"$f":"1 + LEN(Answers!B610) - LEN(SUBSTITUTE(Answers!B610,CHAR(10),\"\"))","v":1},"",{"$f":"LEN(Answers!B610)","v":0},""]
[{"$f":"1 + LEN(Answers!B611) - LEN(SUBSTITUTE(Answers!B611,CHAR(10),\"\"))","v":1},"",{"$f":"LEN(Answers!B611)","v":0},""]
[{"$f":"1 + LEN(Answers!B612) - LEN(SUBSTITUTE(Answers!B612,CHAR(10),\"\"))","v":1},"",{"$f":"LEN(Answers!B612)","v":0},""]
[{"$f":"1 + LEN(Answers!B613) - LEN(SUBSTITUTE(Answers!B613,CHAR(10),\"\"))","v":1},"",{"$f":"LEN(Answers!B613)","v":0},""]
[{"$f":"1 + LEN(Answers!B614) - LEN(SUBSTITUTE(Answers!B614,CHAR(10),\"\"))","v":1},"",{"$f":"LEN(Answers!B614)","v":0},""]
[{"$f":"1 + LEN(Answers!B615) - LEN(SUBSTITUTE(Answers!B615,CHAR(10),\"\"))","v":1},"",{"$f":"LEN(Answers!B615)","v":0},""]
[{"$f":"1 + LEN(Answers!B616) - LEN(SUBSTITUTE(Answers!B616,CHAR(10),\"\"))","v":1},"",{"$f":"LEN(Answers!B616)","v":0},""]
[{"$f":"1 + LEN(Answers!B617) - LEN(SUBSTITUTE(Answers!B617,CHAR(10),\"\"))","v":1},"",{"$f":"LEN(Answers!B617)","v":0},""]
[{"$f":"1 + LEN(Answers!B618) - LEN(SUBSTITUTE(Answers!B618,CHAR(10),\"\"))","v":1},"",{"$f":"LEN(Answers!B618)","v":0},""]
[{"$f":"1 + LEN(Answers!B619) - LEN(SUBSTITUTE(Answers!B619,CHAR(10),\"\"))","v":1},"",{"$f":"LEN(Answers!B619)","v":0},""]
[{"$f":"1 + LEN(Answers!B620) - LEN(SUBSTITUTE(Answers!B620,CHAR(10),\"\"))","v":1},"",{"$f":"LEN(Answers!B620)","v":0},""]
[{"$f":"1 + LEN(Answers!B621) - LEN(SUBSTITUTE(Answers!B621,CHAR(10),\"\"))","v":1},"",{"$f":"LEN(Answers!B621)","v":0},""]
[{"$f":"1 + LEN(Answers!B622) - LEN(SUBSTITUTE(Answers!B622,CHAR(10),\"\"))","v":1},"",{"$f":"LEN(Answers!B622)","v":0},""]
[{"$f":"1 + LEN(Answers!B623) - LEN(SUBSTITUTE(Answers!B623,CHAR(10),\"\"))","v":1},"",{"$f":"LEN(Answers!B623)","v":0},""]
[{"$f":"1 + LEN(Answers!B624) - LEN(SUBSTITUTE(Answers!B624,CHAR(10),\"\"))","v":1},"",{"$f":"LEN(Answers!B624)","v":0},""]
[{"$f":"1 + LEN(Answers!B625) - LEN(SUBSTITUTE(Answers!B625,CHAR(10),\"\"))","v":1},"",{"$f":"LEN(Answers!B625)","v":0},""]
[{"$f":"1 + LEN(Answers!B626) - LEN(SUBSTITUTE(Answers!B626,CHAR(10),\"\"))","v":1},"",{"$f":"LEN(Answers!B626)","v":0},""]
[{"$f":"1 + LEN(Answers!B627) - LEN(SUBSTITUTE(Answers!B627,CHAR(10),\"\"))","v":1},"",{"$f":"LEN(Answers!B627)","v":0},""]
[{"$f":"1 + LEN(Answers!B628) - LEN(SUBSTITUTE(Answers!B628,CHAR(10),\"\"))","v":1},"",{"$f":"LEN(Answers!B628)","v":0},""]
[{"$f":"1 + LEN(Answers!B629) - LEN(SUBSTITUTE(Answers!B629,CHAR(10),\"\"))","v":1},"",{"$f":"LEN(Answers!B629)","v":0},""]
[{"$f":"1 + LEN(Answers!B630) - LEN(SUBSTITUTE(Answers!B630,CHAR(10),\"\"))","v":1},"",{"$f":"LEN(Answers!B630)","v":0},""]
[{"$f":"1 + LEN(Answers!B631) - LEN(SUBSTITUTE(Answers!B631,CHAR(10),\"\"))","v":1},"",{"$f":"LEN(Answers!B631)","v":0},""]
[{"$f":"1 + LEN(Answers!B632) - LEN(SUBSTITUTE(Answers!B632,CHAR(10),\"\"))","v":1},"",{"$f":"LEN(Answers!B632)","v":0},""]
[{"$f":"1 + LEN(Answers!B633) - LEN(SUBSTITUTE(Answers!B633,CHAR(10),\"\"))","v":1},"",{"$f":"LEN(Answers!B633)","v":0},""]
[{"$f":"1 + LEN(Answers!B634) - LEN(SUBSTITUTE(Answers!B634,CHAR(10),\"\"))","v":1},"",{"$f":"LEN(Answers!B634)","v":0},""]
[{"$f":"1 + LEN(Answers!B635) - LEN(SUBSTITUTE(Answers!B635,CHAR(10),\"\"))","v":1},"",{"$f":"LEN(Answers!B635)","v":0},""]
[{"$f":"1 + LEN(Answers!B636) - LEN(SUBSTITUTE(Answers!B636,CHAR(10),\"\"))","v":1},"",{"$f":"LEN(Answers!B636)","v":0},""]
[{"$f":"1 + LEN(Answers!B637) - LEN(SUBSTITUTE(Answers!B637,CHAR(10),\"\"))","v":1},"",{"$f":"LEN(Answers!B637)","v":0},""]
[{"$f":"1 + LEN(Answers!B638) - LEN(SUBSTITUTE(Answers!B638,CHAR(10),\"\"))","v":1},"",{"$f":"LEN(Answers!B638)","v":0},""]
[{"$f":"1 + LEN(Answers!B639) - LEN(SUBSTITUTE(Answers!B639,CHAR(10),\"\"))","v":1},"",{"$f":"LEN(Answers!B639)","v":0},""]
[{"$f":"1 + LEN(Answers!B640) - LEN(SUBSTITUTE(Answers!B640,CHAR(10),\"\"))","v":1},"",{"$f":"LEN(Answers!B640)","v":0},""]
[{"$f":"1 + LEN(Answers!B641) - LEN(SUBSTITUTE(Answers!B641,CHAR(10),\"\"))","v":1},"",{"$f":"LEN(Answers!B641)","v":0},""]
[{"$f":"1 + LEN(Answers!B642) - LEN(SUBSTITUTE(Answers!B642,CHAR(10),\"\"))","v":1},"",{"$f":"LEN(Answers!B642)","v":0},""]
[{"$f":"1 + LEN(Answers!B643) - LEN(SUBSTITUTE(Answers!B643,CHAR(10),\"\"))","v":1},{"$f":"IF(A644>4,\"alert\",\"\")","v":""},{"$f":"LEN(Answers!B643)","v":0},{"$f":"IF(C644>120,\"alert\",\"\")","v":""}]
[{"$f":"1 + LEN(Answers!B644) - LEN(SUBSTITUTE(Answers!B644,CHAR(10),\"\"))","v":1},"",{"$f":"LEN(Answers!B644)","v":0},""]
[{"$f":"1 + LEN(Answers!B645) - LEN(SUBSTITUTE(Answers!B645,CHAR(10),\"\"))","v":1},"",{"$f":"LEN(Answers!B645)","v":0},""]
[{"$f":"1 + LEN(Answers!B646) - LEN(SUBSTITUTE(Answers!B646,CHAR(10),\"\"))","v":1},"",{"$f":"LEN(Answers!B646)","v":0},""]
[{"$f":"1 + LEN(Answers!B647) - LEN(SUBSTITUTE(Answers!B647,CHAR(10),\"\"))","v":1},"",{"$f":"LEN(Answers!B647)","v":0},""]
[{"$f":"1 + LEN(Answers!B648) - LEN(SUBSTITUTE(Answers!B648,CHAR(10),\"\"))","v":1},"",{"$f":"LEN(Answers!B648)","v":0},""]
[{"$f":"1 + LEN(Answers!B649) - LEN(SUBSTITUTE(Answers!B649,CHAR(10),\"\"))","v":1},"",{"$f":"LEN(Answers!B649)","v":0},""]
[{"$f":"1 + LEN(Answers!B650) - LEN(SUBSTITUTE(Answers!B650,CHAR(10),\"\"))","v":1},"",{"$f":"LEN(Answers!B650)","v":0},""]
[{"$f":"1 + LEN(Answers!B651) - LEN(SUBSTITUTE(Answers!B651,CHAR(10),\"\"))","v":1},"",{"$f":"LEN(Answers!B651)","v":0},""]
[{"$f":"1 + LEN(Answers!B652) - LEN(SUBSTITUTE(Answers!B652,CHAR(10),\"\"))","v":1},"",{"$f":"LEN(Answers!B652)","v":0},""]
[{"$f":"1 + LEN(Answers!B653) - LEN(SUBSTITUTE(Answers!B653,CHAR(10),\"\"))","v":1},"",{"$f":"LEN(Answers!B653)","v":0},""]
[{"$f":"1 + LEN(Answers!B654) - LEN(SUBSTITUTE(Answers!B654,CHAR(10),\"\"))","v":1},"",{"$f":"LEN(Answers!B654)","v":0},""]
[{"$f":"1 + LEN(Answers!B655) - LEN(SUBSTITUTE(Answers!B655,CHAR(10),\"\"))","v":1},"",{"$f":"LEN(Answers!B655)","v":0},""]
[{"$f":"1 + LEN(Answers!B656) - LEN(SUBSTITUTE(Answers!B656,CHAR(10),\"\"))","v":1},"",{"$f":"LEN(Answers!B656)","v":0},""]
[{"$f":"1 + LEN(Answers!B657) - LEN(SUBSTITUTE(Answers!B657,CHAR(10),\"\"))","v":1},"",{"$f":"LEN(Answers!B657)","v":0},""]
[{"$f":"1 + LEN(Answers!B658) - LEN(SUBSTITUTE(Answers!B658,CHAR(10),\"\"))","v":1},"",{"$f":"LEN(Answers!B658)","v":0},""]
[{"$f":"1 + LEN(Answers!B659) - LEN(SUBSTITUTE(Answers!B659,CHAR(10),\"\"))","v":1},"",{"$f":"LEN(Answers!B659)","v":0},""]
[{"$f":"1 + LEN(Answers!B660) - LEN(SUBSTITUTE(Answers!B660,CHAR(10),\"\"))","v":1},"",{"$f":"LEN(Answers!B660)","v":0},""]
[{"$f":"1 + LEN(Answers!B661) - LEN(SUBSTITUTE(Answers!B661,CHAR(10),\"\"))","v":1},"",{"$f":"LEN(Answers!B661)","v":0},""]
[{"$f":"1 + LEN(Answers!B662) - LEN(SUBSTITUTE(Answers!B662,CHAR(10),\"\"))","v":1},"",{"$f":"LEN(Answers!B662)","v":0},""]
[{"$f":"1 + LEN(Answers!B663) - LEN(SUBSTITUTE(Answers!B663,CHAR(10),\"\"))","v":1},"",{"$f":"LEN(Answers!B663)","v":0},""]
[{"$f":"1 + LEN(Answers!B664) - LEN(SUBSTITUTE(Answers!B664,CHAR(10),\"\"))","v":1},"",{"$f":"LEN(Answers!B664)","v":0},""]
[{"$f":"1 + LEN(Answers!B665) - LEN(SUBSTITUTE(Answers!B665,CHAR(10),\"\"))","v":1},"",{"$f":"LEN(Answers!B665)","v":0},""]
[{"$f":"1 + LEN(Answers!B666) - LEN(SUBSTITUTE(Answers!B666,CHAR(10),\"\"))","v":1},"",{"$f":"LEN(Answers!B666)","v":0},""]
[{"$f":"1 + LEN(Answers!B667) - LEN(SUBSTITUTE(Answers!B667,CHAR(10),\"\"))","v":1},"",{"$f":"LEN(Answers!B667)","v":0},""]
[{"$f":"1 + LEN(Answers!B668) - LEN(SUBSTITUTE(Answers!B668,CHAR(10),\"\"))","v":1},"",{"$f":"LEN(Answers!B668)","v":0},""]
[{"$f":"1 + LEN(Answers!B669) - LEN(SUBSTITUTE(Answers!B669,CHAR(10),\"\"))","v":1},"",{"$f":"LEN(Answers!B669)","v":0},""]
[{"$f":"1 + LEN(Answers!B670) - LEN(SUBSTITUTE(Answers!B670,CHAR(10),\"\"))","v":1},"",{"$f":"LEN(Answers!B670)","v":0},""]
[{"$f":"1 + LEN(Answers!B671) - LEN(SUBSTITUTE(Answers!B671,CHAR(10),\"\"))","v":1},"",{"$f":"LEN(Answers!B671)","v":0},""]
[{"$f":"1 + LEN(Answers!B672) - LEN(SUBSTITUTE(Answers!B672,CHAR(10),\"\"))","v":1},"",{"$f":"LEN(Answers!B672)","v":0},""]
[{"$f":"1 + LEN(Answers!B673) - LEN(SUBSTITUTE(Answers!B673,CHAR(10),\"\"))","v":1},"",{"$f":"LEN(Answers!B673)","v":0},""]
[{"$f":"1 + LEN(Answers!B674) - LEN(SUBSTITUTE(Answers!B674,CHAR(10),\"\"))","v":1},"",{"$f":"LEN(Answers!B674)","v":0},""]
[{"$f":"1 + LEN(Answers!B675) - LEN(SUBSTITUTE(Answers!B675,CHAR(10),\"\"))","v":1},"",{"$f":"LEN(Answers!B675)","v":0},""]
[{"$f":"1 + LEN(Answers!B676) - LEN(SUBSTITUTE(Answers!B676,CHAR(10),\"\"))","v":1},"",{"$f":"LEN(Answers!B676)","v":0},""]
[{"$f":"1 + LEN(Answers!B677) - LEN(SUBSTITUTE(Answers!B677,CHAR(10),\"\"))","v":1},"",{"$f":"LEN(Answers!B677)","v":0},""]
[{"$f":"1 + LEN(Answers!B678) - LEN(SUBSTITUTE(Answers!B678,CHAR(10),\"\"))","v":1},"",{"$f":"LEN(Answers!B678)","v":0},""]
[{"$f":"1 + LEN(Answers!B679) - LEN(SUBSTITUTE(Answers!B679,CHAR(10),\"\"))","v":1},"",{"$f":"LEN(Answers!B679)","v":0},""]
[{"$f":"1 + LEN(Answers!B680) - LEN(SUBSTITUTE(Answers!B680,CHAR(10),\"\"))","v":1},"",{"$f":"LEN(Answers!B680)","v":0},""]
[{"$f":"1 + LEN(Answers!B681) - LEN(SUBSTITUTE(Answers!B681,CHAR(10),\"\"))","v":1},"",{"$f":"LEN(Answers!B681)","v":0},""]
[{"$f":"1 + LEN(Answers!B682) - LEN(SUBSTITUTE(Answers!B682,CHAR(10),\"\"))","v":1},"",{"$f":"LEN(Answers!B682)","v":0},""]
[{"$f":"1 + LEN(Answers!B683) - LEN(SUBSTITUTE(Answers!B683,CHAR(10),\"\"))","v":1},"",{"$f":"LEN(Answers!B683)","v":0},""]
[{"$f":"1 + LEN(Answers!B684) - LEN(SUBSTITUTE(Answers!B684,CHAR(10),\"\"))","v":1},"",{"$f":"LEN(Answers!B684)","v":0},""]
[{"$f":"1 + LEN(Answers!B685) - LEN(SUBSTITUTE(Answers!B685,CHAR(10),\"\"))","v":1},"",{"$f":"LEN(Answers!B685)","v":0},""]
[{"$f":"1 + LEN(Answers!B686) - LEN(SUBSTITUTE(Answers!B686,CHAR(10),\"\"))","v":1},"",{"$f":"LEN(Answers!B686)","v":0},""]
[{"$f":"1 + LEN(Answers!B687) - LEN(SUBSTITUTE(Answers!B687,CHAR(10),\"\"))","v":1},"",{"$f":"LEN(Answers!B687)","v":0},""]
[{"$f":"1 + LEN(Answers!B688) - LEN(SUBSTITUTE(Answers!B688,CHAR(10),\"\"))","v":1},"",{"$f":"LEN(Answers!B688)","v":0},""]
[{"$f":"1 + LEN(Answers!B689) - LEN(SUBSTITUTE(Answers!B689,CHAR(10),\"\"))","v":1},"",{"$f":"LEN(Answers!B689)","v":0},""]
[{"$f":"1 + LEN(Answers!B690) - LEN(SUBSTITUTE(Answers!B690,CHAR(10),\"\"))","v":1},"",{"$f":"LEN(Answers!B690)","v":0},""]
[{"$f":"1 + LEN(Answers!B691) - LEN(SUBSTITUTE(Answers!B691,CHAR(10),\"\"))","v":1},"",{"$f":"LEN(Answers!B691)","v":0},""]
[{"$f":"1 + LEN(Answers!B692) - LEN(SUBSTITUTE(Answers!B692,CHAR(10),\"\"))","v":1},"",{"$f":"LEN(Answers!B692)","v":0},""]
[{"$f":"1 + LEN(Answers!B693) - LEN(SUBSTITUTE(Answers!B693,CHAR(10),\"\"))","v":1},"",{"$f":"LEN(Answers!B693)","v":0},""]
[{"$f":"1 + LEN(Answers!B694) - LEN(SUBSTITUTE(Answers!B694,CHAR(10),\"\"))","v":1},"",{"$f":"LEN(Answers!B694)","v":0},""]
[{"$f":"1 + LEN(Answers!B695) - LEN(SUBSTITUTE(Answers!B695,CHAR(10),\"\"))","v":1},"",{"$f":"LEN(Answers!B695)","v":0},""]
[{"$f":"1 + LEN(Answers!B696) - LEN(SUBSTITUTE(Answers!B696,CHAR(10),\"\"))","v":1},"",{"$f":"LEN(Answers!B696)","v":0},""]
[{"$f":"1 + LEN(Answers!B697) - LEN(SUBSTITUTE(Answers!B697,CHAR(10),\"\"))","v":1},"",{"$f":"LEN(Answers!B697)","v":0},""]
[{"$f":"1 + LEN(Answers!B698) - LEN(SUBSTITUTE(Answers!B698,CHAR(10),\"\"))","v":1},"",{"$f":"LEN(Answers!B698)","v":0},""]
[{"$f":"1 + LEN(Answers!B699) - LEN(SUBSTITUTE(Answers!B699,CHAR(10),\"\"))","v":1},"",{"$f":"LEN(Answers!B699)","v":0},""]
[{"$f":"1 + LEN(Answers!B700) - LEN(SUBSTITUTE(Answers!B700,CHAR(10),\"\"))","v":1},"",{"$f":"LEN(Answers!B700)","v":0},""]
[{"$f":"1 + LEN(Answers!B701) - LEN(SUBSTITUTE(Answers!B701,CHAR(10),\"\"))","v":1},"",{"$f":"LEN(Answers!B701)","v":0},""]
[{"$f":"1 + LEN(Answers!B702) - LEN(SUBSTITUTE(Answers!B702,CHAR(10),\"\"))","v":1},"",{"$f":"LEN(Answers!B702)","v":0},""]
[{"$f":"1 + LEN(Answers!B703) - LEN(SUBSTITUTE(Answers!B703,CHAR(10),\"\"))","v":1},"",{"$f":"LEN(Answers!B703)","v":0},""]
[{"$f":"1 + LEN(Answers!B704) - LEN(SUBSTITUTE(Answers!B704,CHAR(10),\"\"))","v":1},"",{"$f":"LEN(Answers!B704)","v":0},""]
[{"$f":"1 + LEN(Answers!B705) - LEN(SUBSTITUTE(Answers!B705,CHAR(10),\"\"))","v":1},"",{"$f":"LEN(Answers!B705)","v":0},""]
[{"$f":"1 + LEN(Answers!B706) - LEN(SUBSTITUTE(Answers!B706,CHAR(10),\"\"))","v":1},"",{"$f":"LEN(Answers!B706)","v":0},""]
[{"$f":"1 + LEN(Answers!B707) - LEN(SUBSTITUTE(Answers!B707,CHAR(10),\"\"))","v":1},{"$f":"IF(A708>4,\"alert\",\"\")","v":""},{"$f":"LEN(Answers!B707)","v":0},{"$f":"IF(C708>120,\"alert\",\"\")","v":""}]
[{"$f":"1 + LEN(Answers!B708) - LEN(SUBSTITUTE(Answers!B708,CHAR(10),\"\"))","v":1},"",{"$f":"LEN(Answers!B708)","v":0},""]
[{"$f":"1 + LEN(Answers!B709) - LEN(SUBSTITUTE(Answers!B709,CHAR(10),\"\"))","v":1},"",{"$f":"LEN(Answers!B709)","v":0},""]
[{"$f":"1 + LEN(Answers!B710) - LEN(SUBSTITUTE(Answers!B710,CHAR(10),\"\"))","v":1},"",{"$f":"LEN(Answers!B710)","v":0},""]
[{"$f":"1 + LEN(Answers!B711) - LEN(SUBSTITUTE(Answers!B711,CHAR(10),\"\"))","v":1},"",{"$f":"LEN(Answers!B711)","v":0},""]
[{"$f":"1 + LEN(Answers!B712) - LEN(SUBSTITUTE(Answers!B712,CHAR(10),\"\"))","v":1},"",{"$f":"LEN(Answers!B712)","v":0},""]
[{"$f":"1 + LEN(Answers!B713) - LEN(SUBSTITUTE(Answers!B713,CHAR(10),\"\"))","v":1},"",{"$f":"LEN(Answers!B713)","v":0},""]
[{"$f":"1 + LEN(Answers!B714) - LEN(SUBSTITUTE(Answers!B714,CHAR(10),\"\"))","v":1},"",{"$f":"LEN(Answers!B714)","v":0},""]
[{"$f":"1 + LEN(Answers!B715) - LEN(SUBSTITUTE(Answers!B715,CHAR(10),\"\"))","v":1},"",{"$f":"LEN(Answers!B715)","v":0},""]
[{"$f":"1 + LEN(Answers!B716) - LEN(SUBSTITUTE(Answers!B716,CHAR(10),\"\"))","v":1},"",{"$f":"LEN(Answers!B716)","v":0},""]
[{"$f":"1 + LEN(Answers!B717) - LEN(SUBSTITUTE(Answers!B717,CHAR(10),\"\"))","v":1},"",{"$f":"LEN(Answers!B717)","v":0},""]
[{"$f":"1 + LEN(Answers!B718) - LEN(SUBSTITUTE(Answers!B718,CHAR(10),\"\"))","v":1},"",{"$f":"LEN(Answers!B718)","v":0},""]
[{"$f":"1 + LEN(Answers!B719) - LEN(SUBSTITUTE(Answers!B719,CHAR(10),\"\"))","v":1},"",{"$f":"LEN(Answers!B719)","v":0},""]
[{"$f":"1 + LEN(Answers!B720) - LEN(SUBSTITUTE(Answers!B720,CHAR(10),\"\"))","v":1},"",{"$f":"LEN(Answers!B720)","v":0},""]
[{"$f":"1 + LEN(Answers!B721) - LEN(SUBSTITUTE(Answers!B721,CHAR(10),\"\"))","v":1},"",{"$f":"LEN(Answers!B721)","v":0},""]
[{"$f":"1 + LEN(Answers!B722) - LEN(SUBSTITUTE(Answers!B722,CHAR(10),\"\"))","v":1},"",{"$f":"LEN(Answers!B722)","v":0},""]
[{"$f":"1 + LEN(Answers!B723) - LEN(SUBSTITUTE(Answers!B723,CHAR(10),\"\"))","v":1},"",{"$f":"LEN(Answers!B723)","v":0},""]
[{"$f":"1 + LEN(Answers!B724) - LEN(SUBSTITUTE(Answers!B724,CHAR(10),\"\"))","v":1},"",{"$f":"LEN(Answers!B724)","v":0},""]
[{"$f":"1 + LEN(Answers!B725) - LEN(SUBSTITUTE(Answers!B725,CHAR(10),\"\"))","v":1},"",{"$f":"LEN(Answers!B725)","v":0},""]
[{"$f":"1 + LEN(Answers!B726) - LEN(SUBSTITUTE(Answers!B726,CHAR(10),\"\"))","v":1},"",{"$f":"LEN(Answers!B726)","v":0},""]
[{"$f":"1 + LEN(Answers!B727) - LEN(SUBSTITUTE(Answers!B727,CHAR(10),\"\"))","v":1},"",{"$f":"LEN(Answers!B727)","v":0},""]
[{"$f":"1 + LEN(Answers!B728) - LEN(SUBSTITUTE(Answers!B728,CHAR(10),\"\"))","v":1},"",{"$f":"LEN(Answers!B728)","v":0},""]
[{"$f":"1 + LEN(Answers!B729) - LEN(SUBSTITUTE(Answers!B729,CHAR(10),\"\"))","v":1},"",{"$f":"LEN(Answers!B729)","v":0},""]
[{"$f":"1 + LEN(Answers!B730) - LEN(SUBSTITUTE(Answers!B730,CHAR(10),\"\"))","v":1},"",{"$f":"LEN(Answers!B730)","v":0},""]
[{"$f":"1 + LEN(Answers!B731) - LEN(SUBSTITUTE(Answers!B731,CHAR(10),\"\"))","v":1},"",{"$f":"LEN(Answers!B731)","v":0},""]
[{"$f":"1 + LEN(Answers!B732) - LEN(SUBSTITUTE(Answers!B732,CHAR(10),\"\"))","v":1},"",{"$f":"LEN(Answers!B732)","v":0},""]
[{"$f":"1 + LEN(Answers!B733) - LEN(SUBSTITUTE(Answers!B733,CHAR(10),\"\"))","v":1},"",{"$f":"LEN(Answers!B733)","v":0},""]
[{"$f":"1 + LEN(Answers!B734) - LEN(SUBSTITUTE(Answers!B734,CHAR(10),\"\"))","v":1},"",{"$f":"LEN(Answers!B734)","v":0},""]
[{"$f":"1 + LEN(Answers!B735) - LEN(SUBSTITUTE(Answers!B735,CHAR(10),\"\"))","v":1},"",{"$f":"LEN(Answers!B735)","v":0},""]
[{"$f":"1 + LEN(Answers!B736) - LEN(SUBSTITUTE(Answers!B736,CHAR(10),\"\"))","v":1},"",{"$f":"LEN(Answers!B736)","v":0},""]
[{"$f":"1 + LEN(Answers!B737) - LEN(SUBSTITUTE(Answers!B737,CHAR(10),\"\"))","v":1},"",{"$f":"LEN(Answers!B737)","v":0},""]
[{"$f":"1 + LEN(Answers!B738) - LEN(SUBSTITUTE(Answers!B738,CHAR(10),\"\"))","v":1},"",{"$f":"LEN(Answers!B738)","v":0},""]
[{"$f":"1 + LEN(Answers!B739) - LEN(SUBSTITUTE(Answers!B739,CHAR(10),\"\"))","v":1},"",{"$f":"LEN(Answers!B739)","v":0},""]
[{"$f":"1 + LEN(Answers!B740) - LEN(SUBSTITUTE(Answers!B740,CHAR(10),\"\"))","v":1},"",{"$f":"LEN(Answers!B740)","v":0},""]
[{"$f":"1 + LEN(Answers!B741) - LEN(SUBSTITUTE(Answers!B741,CHAR(10),\"\"))","v":1},"",{"$f":"LEN(Answers!B741)","v":0},""]
[{"$f":"1 + LEN(Answers!B742) - LEN(SUBSTITUTE(Answers!B742,CHAR(10),\"\"))","v":1},"",{"$f":"LEN(Answers!B742)","v":0},""]
[{"$f":"1 + LEN(Answers!B743) - LEN(SUBSTITUTE(Answers!B743,CHAR(10),\"\"))","v":1},"",{"$f":"LEN(Answers!B743)","v":0},""]
[{"$f":"1 + LEN(Answers!B744) - LEN(SUBSTITUTE(Answers!B744,CHAR(10),\"\"))","v":1},"",{"$f":"LEN(Answers!B744)","v":0},""]
[{"$f":"1 + LEN(Answers!B745) - LEN(SUBSTITUTE(Answers!B745,CHAR(10),\"\"))","v":1},"",{"$f":"LEN(Answers!B745)","v":0},""]
[{"$f":"1 + LEN(Answers!B746) - LEN(SUBSTITUTE(Answers!B746,CHAR(10),\"\"))","v":1},"",{"$f":"LEN(Answers!B746)","v":0},""]
[{"$f":"1 + LEN(Answers!B747) - LEN(SUBSTITUTE(Answers!B747,CHAR(10),\"\"))","v":1},"",{"$f":"LEN(Answers!B747)","v":0},""]
[{"$f":"1 + LEN(Answers!B748) - LEN(SUBSTITUTE(Answers!B748,CHAR(10),\"\"))","v":1},"",{"$f":"LEN(Answers!B748)","v":0},""]
[{"$f":"1 + LEN(Answers!B749) - LEN(SUBSTITUTE(Answers!B749,CHAR(10),\"\"))","v":1},"",{"$f":"LEN(Answers!B749)","v":0},""]
[{"$f":"1 + LEN(Answers!B750) - LEN(SUBSTITUTE(Answers!B750,CHAR(10),\"\"))","v":1},"",{"$f":"LEN(Answers!B750)","v":0},""]
[{"$f":"1 + LEN(Answers!B751) - LEN(SUBSTITUTE(Answers!B751,CHAR(10),\"\"))","v":1},"",{"$f":"LEN(Answers!B751)","v":0},""]
[{"$f":"1 + LEN(Answers!B752) - LEN(SUBSTITUTE(Answers!B752,CHAR(10),\"\"))","v":1},"",{"$f":"LEN(Answers!B752)","v":0},""]
[{"$f":"1 + LEN(Answers!B753) - LEN(SUBSTITUTE(Answers!B753,CHAR(10),\"\"))","v":1},"",{"$f":"LEN(Answers!B753)","v":0},""]
[{"$f":"1 + LEN(Answers!B754) - LEN(SUBSTITUTE(Answers!B754,CHAR(10),\"\"))","v":1},"",{"$f":"LEN(Answers!B754)","v":0},""]
[{"$f":"1 + LEN(Answers!B755) - LEN(SUBSTITUTE(Answers!B755,CHAR(10),\"\"))","v":1},"",{"$f":"LEN(Answers!B755)","v":0},""]
[{"$f":"1 + LEN(Answers!B756) - LEN(SUBSTITUTE(Answers!B756,CHAR(10),\"\"))","v":1},"",{"$f":"LEN(Answers!B756)","v":0},""]
[{"$f":"1 + LEN(Answers!B757) - LEN(SUBSTITUTE(Answers!B757,CHAR(10),\"\"))","v":1},"",{"$f":"LEN(Answers!B757)","v":0},""]
[{"$f":"1 + LEN(Answers!B758) - LEN(SUBSTITUTE(Answers!B758,CHAR(10),\"\"))","v":1},"",{"$f":"LEN(Answers!B758)","v":0},""]
[{"$f":"1 + LEN(Answers!B759) - LEN(SUBSTITUTE(Answers!B759,CHAR(10),\"\"))","v":1},"",{"$f":"LEN(Answers!B759)","v":0},""]
[{"$f":"1 + LEN(Answers!B760) - LEN(SUBSTITUTE(Answers!B760,CHAR(10),\"\"))","v":1},"",{"$f":"LEN(Answers!B760)","v":0},""]
[{"$f":"1 + LEN(Answers!B761) - LEN(SUBSTITUTE(Answers!B761,CHAR(10),\"\"))","v":1},"",{"$f":"LEN(Answers!B761)","v":0},""]
[{"$f":"1 + LEN(Answers!B762) - LEN(SUBSTITUTE(Answers!B762,CHAR(10),\"\"))","v":1},"",{"$f":"LEN(Answers!B762)","v":0},""]
[{"$f":"1 + LEN(Answers!B763) - LEN(SUBSTITUTE(Answers!B763,CHAR(10),\"\"))","v":1},"",{"$f":"LEN(Answers!B763)","v":0},""]
[{"$f":"1 + LEN(Answers!B764) - LEN(SUBSTITUTE(Answers!B764,CHAR(10),\"\"))","v":1},"",{"$f":"LEN(Answers!B764)","v":0},""]
[{"$f":"1 + LEN(Answers!B765) - LEN(SUBSTITUTE(Answers!B765,CHAR(10),\"\"))","v":1},"",{"$f":"LEN(Answers!B765)","v":0},""]
[{"$f":"1 + LEN(Answers!B766) - LEN(SUBSTITUTE(Answers!B766,CHAR(10),\"\"))","v":1},"",{"$f":"LEN(Answers!B766)","v":0},""]
[{"$f":"1 + LEN(Answers!B767) - LEN(SUBSTITUTE(Answers!B767,CHAR(10),\"\"))","v":1},"",{"$f":"LEN(Answers!B767)","v":0},""]
[{"$f":"1 + LEN(Answers!B768) - LEN(SUBSTITUTE(Answers!B768,CHAR(10),\"\"))","v":1},"",{"$f":"LEN(Answers!B768)","v":0},""]
[{"$f":"1 + LEN(Answers!B769) - LEN(SUBSTITUTE(Answers!B769,CHAR(10),\"\"))","v":1},"",{"$f":"LEN(Answers!B769)","v":0},""]
[{"$f":"1 + LEN(Answers!B770) - LEN(SUBSTITUTE(Answers!B770,CHAR(10),\"\"))","v":1},"",{"$f":"LEN(Answers!B770)","v":0},""]
[{"$f":"1 + LEN(Answers!B771) - LEN(SUBSTITUTE(Answers!B771,CHAR(10),\"\"))","v":1},{"$f":"IF(A772>4,\"alert\",\"\")","v":""},{"$f":"LEN(Answers!B771)","v":0},{"$f":"IF(C772>120,\"alert\",\"\")","v":""}]
[{"$f":"1 + LEN(Answers!B772) - LEN(SUBSTITUTE(Answers!B772,CHAR(10),\"\"))","v":1},"",{"$f":"LEN(Answers!B772)","v":0},""]
[{"$f":"1 + LEN(Answers!B773) - LEN(SUBSTITUTE(Answers!B773,CHAR(10),\"\"))","v":1},"",{"$f":"LEN(Answers!B773)","v":0},""]
[{"$f":"1 + LEN(Answers!B774) - LEN(SUBSTITUTE(Answers!B774,CHAR(10),\"\"))","v":1},"",{"$f":"LEN(Answers!B774)","v":0},""]
[{"$f":"1 + LEN(Answers!B775) - LEN(SUBSTITUTE(Answers!B775,CHAR(10),\"\"))","v":1},"",{"$f":"LEN(Answers!B775)","v":0},""]
[{"$f":"1 + LEN(Answers!B776) - LEN(SUBSTITUTE(Answers!B776,CHAR(10),\"\"))","v":1},"",{"$f":"LEN(Answers!B776)","v":0},""]
[{"$f":"1 + LEN(Answers!B777) - LEN(SUBSTITUTE(Answers!B777,CHAR(10),\"\"))","v":1},"",{"$f":"LEN(Answers!B777)","v":0},""]
[{"$f":"1 + LEN(Answers!B778) - LEN(SUBSTITUTE(Answers!B778,CHAR(10),\"\"))","v":1},"",{"$f":"LEN(Answers!B778)","v":0},""]
[{"$f":"1 + LEN(Answers!B779) - LEN(SUBSTITUTE(Answers!B779,CHAR(10),\"\"))","v":1},"",{"$f":"LEN(Answers!B779)","v":0},""]
[{"$f":"1 + LEN(Answers!B780) - LEN(SUBSTITUTE(Answers!B780,CHAR(10),\"\"))","v":1},"",{"$f":"LEN(Answers!B780)","v":0},""]
[{"$f":"1 + LEN(Answers!B781) - LEN(SUBSTITUTE(Answers!B781,CHAR(10),\"\"))","v":1},"",{"$f":"LEN(Answers!B781)","v":0},""]
[{"$f":"1 + LEN(Answers!B782) - LEN(SUBSTITUTE(Answers!B782,CHAR(10),\"\"))","v":1},"",{"$f":"LEN(Answers!B782)","v":0},""]
[{"$f":"1 + LEN(Answers!B783) - LEN(SUBSTITUTE(Answers!B783,CHAR(10),\"\"))","v":1},"",{"$f":"LEN(Answers!B783)","v":0},""]
[{"$f":"1 + LEN(Answers!B784) - LEN(SUBSTITUTE(Answers!B784,CHAR(10),\"\"))","v":1},"",{"$f":"LEN(Answers!B784)","v":0},""]
[{"$f":"1 + LEN(Answers!B785) - LEN(SUBSTITUTE(Answers!B785,CHAR(10),\"\"))","v":1},"",{"$f":"LEN(Answers!B785)","v":0},""]
[{"$f":"1 + LEN(Answers!B786) - LEN(SUBSTITUTE(Answers!B786,CHAR(10),\"\"))","v":1},"",{"$f":"LEN(Answers!B786)","v":0},""]
[{"$f":"1 + LEN(Answers!B787) - LEN(SUBSTITUTE(Answers!B787,CHAR(10),\"\"))","v":1},"",{"$f":"LEN(Answers!B787)","v":0},""]
[{"$f":"1 + LEN(Answers!B788) - LEN(SUBSTITUTE(Answers!B788,CHAR(10),\"\"))","v":1},"",{"$f":"LEN(Answers!B788)","v":0},""]
[{"$f":"1 + LEN(Answers!B789) - LEN(SUBSTITUTE(Answers!B789,CHAR(10),\"\"))","v":1},"",{"$f":"LEN(Answers!B789)","v":0},""]
[{"$f":"1 + LEN(Answers!B790) - LEN(SUBSTITUTE(Answers!B790,CHAR(10),\"\"))","v":1},"",{"$f":"LEN(Answers!B790)","v":0},""]
[{"$f":"1 + LEN(Answers!B791) - LEN(SUBSTITUTE(Answers!B791,CHAR(10),\"\"))","v":1},"",{"$f":"LEN(Answers!B791)","v":0},""]
[{"$f":"1 + LEN(Answers!B792) - LEN(SUBSTITUTE(Answers!B792,CHAR(10),\"\"))","v":1},"",{"$f":"LEN(Answers!B792)","v":0},""]
[{"$f":"1 + LEN(Answers!B793) - LEN(SUBSTITUTE(Answers!B793,CHAR(10),\"\"))","v":1},"",{"$f":"LEN(Answers!B793)","v":0},""]
[{"$f":"1 + LEN(Answers!B794) - LEN(SUBSTITUTE(Answers!B794,CHAR(10),\"\"))","v":1},"",{"$f":"LEN(Answers!B794)","v":0},""]
[{"$f":"1 + LEN(Answers!B795) - LEN(SUBSTITUTE(Answers!B795,CHAR(10),\"\"))","v":1},"",{"$f":"LEN(Answers!B795)","v":0},""]
[{"$f":"1 + LEN(Answers!B796) - LEN(SUBSTITUTE(Answers!B796,CHAR(10),\"\"))","v":1},"",{"$f":"LEN(Answers!B796)","v":0},""]
[{"$f":"1 + LEN(Answers!B797) - LEN(SUBSTITUTE(Answers!B797,CHAR(10),\"\"))","v":1},"",{"$f":"LEN(Answers!B797)","v":0},""]
[{"$f":"1 + LEN(Answers!B798) - LEN(SUBSTITUTE(Answers!B798,CHAR(10),\"\"))","v":1},"",{"$f":"LEN(Answers!B798)","v":0},""]
[{"$f":"1 + LEN(Answers!B799) - LEN(SUBSTITUTE(Answers!B799,CHAR(10),\"\"))","v":1},"",{"$f":"LEN(Answers!B799)","v":0},""]
[{"$f":"1 + LEN(Answers!B800) - LEN(SUBSTITUTE(Answers!B800,CHAR(10),\"\"))","v":1},"",{"$f":"LEN(Answers!B800)","v":0},""]
[{"$f":"1 + LEN(Answers!B801) - LEN(SUBSTITUTE(Answers!B801,CHAR(10),\"\"))","v":1},"",{"$f":"LEN(Answers!B801)","v":0},""]
[{"$f":"1 + LEN(Answers!B802) - LEN(SUBSTITUTE(Answers!B802,CHAR(10),\"\"))","v":1},"",{"$f":"LEN(Answers!B802)","v":0},""]
[{"$f":"1 + LEN(Answers!B803) - LEN(SUBSTITUTE(Answers!B803,CHAR(10),\"\"))","v":1},"",{"$f":"LEN(Answers!B803)","v":0},""]
[{"$f":"1 + LEN(Answers!B804) - LEN(SUBSTITUTE(Answers!B804,CHAR(10),\"\"))","v":1},"",{"$f":"LEN(Answers!B804)","v":0},""]
[{"$f":"1 + LEN(Answers!B805) - LEN(SUBSTITUTE(Answers!B805,CHAR(10),\"\"))","v":1},"",{"$f":"LEN(Answers!B805)","v":0},""]
[{"$f":"1 + LEN(Answers!B806) - LEN(SUBSTITUTE(Answers!B806,CHAR(10),\"\"))","v":1},"",{"$f":"LEN(Answers!B806)","v":0},""]
[{"$f":"1 + LEN(Answers!B807) - LEN(SUBSTITUTE(Answers!B807,CHAR(10),\"\"))","v":1},"",{"$f":"LEN(Answers!B807)","v":0},""]
[{"$f":"1 + LEN(Answers!B808) - LEN(SUBSTITUTE(Answers!B808,CHAR(10),\"\"))","v":1},"",{"$f":"LEN(Answers!B808)","v":0},""]
[{"$f":"1 + LEN(Answers!B809) - LEN(SUBSTITUTE(Answers!B809,CHAR(10),\"\"))","v":1},"",{"$f":"LEN(Answers!B809)","v":0},""]
[{"$f":"1 + LEN(Answers!B810) - LEN(SUBSTITUTE(Answers!B810,CHAR(10),\"\"))","v":1},"",{"$f":"LEN(Answers!B810)","v":0},""]
[{"$f":"1 + LEN(Answers!B811) - LEN(SUBSTITUTE(Answers!B811,CHAR(10),\"\"))","v":1},"",{"$f":"LEN(Answers!B811)","v":0},""]
[{"$f":"1 + LEN(Answers!B812) - LEN(SUBSTITUTE(Answers!B812,CHAR(10),\"\"))","v":1},"",{"$f":"LEN(Answers!B812)","v":0},""]
[{"$f":"1 + LEN(Answers!B813) - LEN(SUBSTITUTE(Answers!B813,CHAR(10),\"\"))","v":1},"",{"$f":"LEN(Answers!B813)","v":0},""]
[{"$f":"1 + LEN(Answers!B814) - LEN(SUBSTITUTE(Answers!B814,CHAR(10),\"\"))","v":1},"",{"$f":"LEN(Answers!B814)","v":0},""]
[{"$f":"1 + LEN(Answers!B815) - LEN(SUBSTITUTE(Answers!B815,CHAR(10),\"\"))","v":1},"",{"$f":"LEN(Answers!B815)","v":0},""]
[{"$f":"1 + LEN(Answers!B816) - LEN(SUBSTITUTE(Answers!B816,CHAR(10),\"\"))","v":1},"",{"$f":"LEN(Answers!B816)","v":0},""]
[{"$f":"1 + LEN(Answers!B817) - LEN(SUBSTITUTE(Answers!B817,CHAR(10),\"\"))","v":1},"",{"$f":"LEN(Answers!B817)","v":0},""]
[{"$f":"1 + LEN(Answers!B818) - LEN(SUBSTITUTE(Answers!B818,CHAR(10),\"\"))","v":1},"",{"$f":"LEN(Answers!B818)","v":0},""]
[{"$f":"1 + LEN(Answers!B819) - LEN(SUBSTITUTE(Answers!B819,CHAR(10),\"\"))","v":1},"",{"$f":"LEN(Answers!B819)","v":0},""]
[{"$f":"1 + LEN(Answers!B820) - LEN(SUBSTITUTE(Answers!B820,CHAR(10),\"\"))","v":1},"",{"$f":"LEN(Answers!B820)","v":0},""]
[{"$f":"1 + LEN(Answers!B821) - LEN(SUBSTITUTE(Answers!B821,CHAR(10),\"\"))","v":1},"",{"$f":"LEN(Answers!B821)","v":0},""]
[{"$f":"1 + LEN(Answers!B822) - LEN(SUBSTITUTE(Answers!B822,CHAR(10),\"\"))","v":1},"",{"$f":"LEN(Answers!B822)","v":0},""]
[{"$f":"1 + LEN(Answers!B823) - LEN(SUBSTITUTE(Answers!B823,CHAR(10),\"\"))","v":1},"",{"$f":"LEN(Answers!B823)","v":0},""]
[{"$f":"1 + LEN(Answers!B824) - LEN(SUBSTITUTE(Answers!B824,CHAR(10),\"\"))","v":1},"",{"$f":"LEN(Answers!B824)","v":0},""]
[{"$f":"1 + LEN(Answers!B825) - LEN(SUBSTITUTE(Answers!B825,CHAR(10),\"\"))","v":1},"",{"$f":"LEN(Answers!B825)","v":0},""]
[{"$f":"1 + LEN(Answers!B826) - LEN(SUBSTITUTE(Answers!B826,CHAR(10),\"\"))","v":1},"",{"$f":"LEN(Answers!B826)","v":0},""]
[{"$f":"1 + LEN(Answers!B827) - LEN(SUBSTITUTE(Answers!B827,CHAR(10),\"\"))","v":1},"",{"$f":"LEN(Answers!B827)","v":0},""]
[{"$f":"1 + LEN(Answers!B828) - LEN(SUBSTITUTE(Answers!B828,CHAR(10),\"\"))","v":1},"",{"$f":"LEN(Answers!B828)","v":0},""]
[{"$f":"1 + LEN(Answers!B829) - LEN(SUBSTITUTE(Answers!B829,CHAR(10),\"\"))","v":1},"",{"$f":"LEN(Answers!B829)","v":0},""]
[{"$f":"1 + LEN(Answers!B830) - LEN(SUBSTITUTE(Answers!B830,CHAR(10),\"\"))","v":1},"",{"$f":"LEN(Answers!B830)","v":0},""]
[{"$f":"1 + LEN(Answers!B831) - LEN(SUBSTITUTE(Answers!B831,CHAR(10),\"\"))","v":1},"",{"$f":"LEN(Answers!B831)","v":0},""]
[{"$f":"1 + LEN(Answers!B832) - LEN(SUBSTITUTE(Answers!B832,CHAR(10),\"\"))","v":1},"",{"$f":"LEN(Answers!B832)","v":0},""]
[{"$f":"1 + LEN(Answers!B833) - LEN(SUBSTITUTE(Answers!B833,CHAR(10),\"\"))","v":1},"",{"$f":"LEN(Answers!B833)","v":0},""]
[{"$f":"1 + LEN(Answers!B834) - LEN(SUBSTITUTE(Answers!B834,CHAR(10),\"\"))","v":1},"",{"$f":"LEN(Answers!B834)","v":0},""]
[{"$f":"1 + LEN(Answers!B835) - LEN(SUBSTITUTE(Answers!B835,CHAR(10),\"\"))","v":1},{"$f":"IF(A836>4,\"alert\",\"\")","v":""},{"$f":"LEN(Answers!B835)","v":0},{"$f":"IF(C836>120,\"alert\",\"\")","v":""}]
[{"$f":"1 + LEN(Answers!B836) - LEN(SUBSTITUTE(Answers!B836,CHAR(10),\"\"))","v":1},"",{"$f":"LEN(Answers!B836)","v":0},""]
[{"$f":"1 + LEN(Answers!B837) - LEN(SUBSTITUTE(Answers!B837,CHAR(10),\"\"))","v":1},"",{"$f":"LEN(Answers!B837)","v":0},""]
[{"$f":"1 + LEN(Answers!B838) - LEN(SUBSTITUTE(Answers!B838,CHAR(10),\"\"))","v":1},"",{"$f":"LEN(Answers!B838)","v":0},""]
[{"$f":"1 + LEN(Answers!B839) - LEN(SUBSTITUTE(Answers!B839,CHAR(10),\"\"))","v":1},"",{"$f":"LEN(Answers!B839)","v":0},""]
[{"$f":"1 + LEN(Answers!B840) - LEN(SUBSTITUTE(Answers!B840,CHAR(10),\"\"))","v":1},"",{"$f":"LEN(Answers!B840)","v":0},""]
[{"$f":"1 + LEN(Answers!B841) - LEN(SUBSTITUTE(Answers!B841,CHAR(10),\"\"))","v":1},"",{"$f":"LEN(Answers!B841)","v":0},""]
[{"$f":"1 + LEN(Answers!B842) - LEN(SUBSTITUTE(Answers!B842,CHAR(10),\"\"))","v":1},"",{"$f":"LEN(Answers!B842)","v":0},""]
[{"$f":"1 + LEN(Answers!B843) - LEN(SUBSTITUTE(Answers!B843,CHAR(10),\"\"))","v":1},"",{"$f":"LEN(Answers!B843)","v":0},""]
[{"$f":"1 + LEN(Answers!B844) - LEN(SUBSTITUTE(Answers!B844,CHAR(10),\"\"))","v":1},"",{"$f":"LEN(Answers!B844)","v":0},""]
[{"$f":"1 + LEN(Answers!B845) - LEN(SUBSTITUTE(Answers!B845,CHAR(10),\"\"))","v":1},"",{"$f":"LEN(Answers!B845)","v":0},""]
[{"$f":"1 + LEN(Answers!B846) - LEN(SUBSTITUTE(Answers!B846,CHAR(10),\"\"))","v":1},"",{"$f":"LEN(Answers!B846)","v":0},""]
[{"$f":"1 + LEN(Answers!B847) - LEN(SUBSTITUTE(Answers!B847,CHAR(10),\"\"))","v":1},"",{"$f":"LEN(Answers!B847)","v":0},""]
[{"$f":"1 + LEN(Answers!B848) - LEN(SUBSTITUTE(Answers!B848,CHAR(10),\"\"))","v":1},"",{"$f":"LEN(Answers!B848)","v":0},""]
[{"$f":"1 + LEN(Answers!B849) - LEN(SUBSTITUTE(Answers!B849,CHAR(10),\"\"))","v":1},"",{"$f":"LEN(Answers!B849)","v":0},""]
[{"$f":"1 + LEN(Answers!B850) - LEN(SUBSTITUTE(Answers!B850,CHAR(10),\"\"))","v":1},"",{"$f":"LEN(Answers!B850)","v":0},""]
[{"$f":"1 + LEN(Answers!B851) - LEN(SUBSTITUTE(Answers!B851,CHAR(10),\"\"))","v":1},"",{"$f":"LEN(Answers!B851)","v":0},""]
[{"$f":"1 + LEN(Answers!B852) - LEN(SUBSTITUTE(Answers!B852,CHAR(10),\"\"))","v":1},"",{"$f":"LEN(Answers!B852)","v":0},""]
[{"$f":"1 + LEN(Answers!B853) - LEN(SUBSTITUTE(Answers!B853,CHAR(10),\"\"))","v":1},"",{"$f":"LEN(Answers!B853)","v":0},""]
[{"$f":"1 + LEN(Answers!B854) - LEN(SUBSTITUTE(Answers!B854,CHAR(10),\"\"))","v":1},"",{"$f":"LEN(Answers!B854)","v":0},""]
[{"$f":"1 + LEN(Answers!B855) - LEN(SUBSTITUTE(Answers!B855,CHAR(10),\"\"))","v":1},"",{"$f":"LEN(Answers!B855)","v":0},""]
[{"$f":"1 + LEN(Answers!B856) - LEN(SUBSTITUTE(Answers!B856,CHAR(10),\"\"))","v":1},"",{"$f":"LEN(Answers!B856)","v":0},""]
[{"$f":"1 + LEN(Answers!B857) - LEN(SUBSTITUTE(Answers!B857,CHAR(10),\"\"))","v":1},"",{"$f":"LEN(Answers!B857)","v":0},""]
[{"$f":"1 + LEN(Answers!B858) - LEN(SUBSTITUTE(Answers!B858,CHAR(10),\"\"))","v":1},"",{"$f":"LEN(Answers!B858)","v":0},""]
[{"$f":"1 + LEN(Answers!B859) - LEN(SUBSTITUTE(Answers!B859,CHAR(10),\"\"))","v":1},"",{"$f":"LEN(Answers!B859)","v":0},""]
[{"$f":"1 + LEN(Answers!B860) - LEN(SUBSTITUTE(Answers!B860,CHAR(10),\"\"))","v":1},"",{"$f":"LEN(Answers!B860)","v":0},""]
[{"$f":"1 + LEN(Answers!B861) - LEN(SUBSTITUTE(Answers!B861,CHAR(10),\"\"))","v":1},"",{"$f":"LEN(Answers!B861)","v":0},""]
[{"$f":"1 + LEN(Answers!B862) - LEN(SUBSTITUTE(Answers!B862,CHAR(10),\"\"))","v":1},"",{"$f":"LEN(Answers!B862)","v":0},""]
[{"$f":"1 + LEN(Answers!B863) - LEN(SUBSTITUTE(Answers!B863,CHAR(10),\"\"))","v":1},"",{"$f":"LEN(Answers!B863)","v":0},""]
[{"$f":"1 + LEN(Answers!B864) - LEN(SUBSTITUTE(Answers!B864,CHAR(10),\"\"))","v":1},"",{"$f":"LEN(Answers!B864)","v":0},""]
[{"$f":"1 + LEN(Answers!B865) - LEN(SUBSTITUTE(Answers!B865,CHAR(10),\"\"))","v":1},"",{"$f":"LEN(Answers!B865)","v":0},""]
[{"$f":"1 + LEN(Answers!B866) - LEN(SUBSTITUTE(Answers!B866,CHAR(10),\"\"))","v":1},"",{"$f":"LEN(Answers!B866)","v":0},""]
[{"$f":"1 + LEN(Answers!B867) - LEN(SUBSTITUTE(Answers!B867,CHAR(10),\"\"))","v":1},"",{"$f":"LEN(Answers!B867)","v":0},""]
[{"$f":"1 + LEN(Answers!B868) - LEN(SUBSTITUTE(Answers!B868,CHAR(10),\"\"))","v":1},"",{"$f":"LEN(Answers!B868)","v":0},""]
[{"$f":"1 + LEN(Answers!B869) - LEN(SUBSTITUTE(Answers!B869,CHAR(10),\"\"))","v":1},"",{"$f":"LEN(Answers!B869)","v":0},""]
[{"$f":"1 + LEN(Answers!B870) - LEN(SUBSTITUTE(Answers!B870,CHAR(10),\"\"))","v":1},"",{"$f":"LEN(Answers!B870)","v":0},""]
[{"$f":"1 + LEN(Answers!B871) - LEN(SUBSTITUTE(Answers!B871,CHAR(10),\"\"))","v":1},"",{"$f":"LEN(Answers!B871)","v":0},""]
[{"$f":"1 + LEN(Answers!B872) - LEN(SUBSTITUTE(Answers!B872,CHAR(10),\"\"))","v":1},"",{"$f":"LEN(Answers!B872)","v":0},""]
[{"$f":"1 + LEN(Answers!B873) - LEN(SUBSTITUTE(Answers!B873,CHAR(10),\"\"))","v":1},"",{"$f":"LEN(Answers!B873)","v":0},""]
[{"$f":"1 + LEN(Answers!B874) - LEN(SUBSTITUTE(Answers!B874,CHAR(10),\"\"))","v":1},"",{"$f":"LEN(Answers!B874)","v":0},""]
[{"$f":"1 + LEN(Answers!B875) - LEN(SUBSTITUTE(Answers!B875,CHAR(10),\"\"))","v":1},"",{"$f":"LEN(Answers!B875)","v":0},""]
[{"$f":"1 + LEN(Answers!B876) - LEN(SUBSTITUTE(Answers!B876,CHAR(10),\"\"))","v":1},"",{"$f":"LEN(Answers!B876)","v":0},""]
[{"$f":"1 + LEN(Answers!B877) - LEN(SUBSTITUTE(Answers!B877,CHAR(10),\"\"))","v":1},"",{"$f":"LEN(Answers!B877)","v":0},""]
[{"$f":"1 + LEN(Answers!B878) - LEN(SUBSTITUTE(Answers!B878,CHAR(10),\"\"))","v":1},"",{"$f":"LEN(Answers!B878)","v":0},""]
[{"$f":"1 + LEN(Answers!B879) - LEN(SUBSTITUTE(Answers!B879,CHAR(10),\"\"))","v":1},"",{"$f":"LEN(Answers!B879)","v":0},""]
[{"$f":"1 + LEN(Answers!B880) - LEN(SUBSTITUTE(Answers!B880,CHAR(10),\"\"))","v":1},"",{"$f":"LEN(Answers!B880)","v":0},""]
[{"$f":"1 + LEN(Answers!B881) - LEN(SUBSTITUTE(Answers!B881,CHAR(10),\"\"))","v":1},"",{"$f":"LEN(Answers!B881)","v":0},""]
[{"$f":"1 + LEN(Answers!B882) - LEN(SUBSTITUTE(Answers!B882,CHAR(10),\"\"))","v":1},"",{"$f":"LEN(Answers!B882)","v":0},""]
[{"$f":"1 + LEN(Answers!B883) - LEN(SUBSTITUTE(Answers!B883,CHAR(10),\"\"))","v":1},"",{"$f":"LEN(Answers!B883)","v":0},""]
[{"$f":"1 + LEN(Answers!B884) - LEN(SUBSTITUTE(Answers!B884,CHAR(10),\"\"))","v":1},"",{"$f":"LEN(Answers!B884)","v":0},""]
[{"$f":"1 + LEN(Answers!B885) - LEN(SUBSTITUTE(Answers!B885,CHAR(10),\"\"))","v":1},"",{"$f":"LEN(Answers!B885)","v":0},""]
[{"$f":"1 + LEN(Answers!B886) - LEN(SUBSTITUTE(Answers!B886,CHAR(10),\"\"))","v":1},"",{"$f":"LEN(Answers!B886)","v":0},""]
[{"$f":"1 + LEN(Answers!B887) - LEN(SUBSTITUTE(Answers!B887,CHAR(10),\"\"))","v":1},"",{"$f":"LEN(Answers!B887)","v":0},""]
[{"$f":"1 + LEN(Answers!B888) - LEN(SUBSTITUTE(Answers!B888,CHAR(10),\"\"))","v":1},"",{"$f":"LEN(Answers!B888)","v":0},""]
[{"$f":"1 + LEN(Answers!B889) - LEN(SUBSTITUTE(Answers!B889,CHAR(10),\"\"))","v":1},"",{"$f":"LEN(Answers!B889)","v":0},""]
[{"$f":"1 + LEN(Answers!B890) - LEN(SUBSTITUTE(Answers!B890,CHAR(10),\"\"))","v":1},"",{"$f":"LEN(Answers!B890)","v":0},""]
[{"$f":"1 + LEN(Answers!B891) - LEN(SUBSTITUTE(Answers!B891,CHAR(10),\"\"))","v":1},"",{"$f":"LEN(Answers!B891)","v":0},""]
[{"$f":"1 + LEN(Answers!B892) - LEN(SUBSTITUTE(Answers!B892,CHAR(10),\"\"))","v":1},"",{"$f":"LEN(Answers!B892)","v":0},""]
[{"$f":"1 + LEN(Answers!B893) - LEN(SUBSTITUTE(Answers!B893,CHAR(10),\"\"))","v":1},"",{"$f":"LEN(Answers!B893)","v":0},""]
[{"$f":"1 + LEN(Answers!B894) - LEN(SUBSTITUTE(Answers!B894,CHAR(10),\"\"))","v":1},"",{"$f":"LEN(Answers!B894)","v":0},""]
[{"$f":"1 + LEN(Answers!B895) - LEN(SUBSTITUTE(Answers!B895,CHAR(10),\"\"))","v":1},"",{"$f":"LEN(Answers!B895)","v":0},""]
[{"$f":"1 + LEN(Answers!B896) - LEN(SUBSTITUTE(Answers!B896,CHAR(10),\"\"))","v":1},"",{"$f":"LEN(Answers!B896)","v":0},""]
[{"$f":"1 + LEN(Answers!B897) - LEN(SUBSTITUTE(Answers!B897,CHAR(10),\"\"))","v":1},"",{"$f":"LEN(Answers!B897)","v":0},""]
[{"$f":"1 + LEN(Answers!B898) - LEN(SUBSTITUTE(Answers!B898,CHAR(10),\"\"))","v":1},"",{"$f":"LEN(Answers!B898)","v":0},""]
[{"$f":"1 + LEN(Answers!B899) - LEN(SUBSTITUTE(Answers!B899,CHAR(10),\"\"))","v":1},{"$f":"IF(A900>4,\"alert\",\"\")","v":""},{"$f":"LEN(Answers!B899)","v":0},{"$f":"IF(C900>120,\"alert\",\"\")","v":""}]
[{"$f":"1 + LEN(Answers!B900) - LEN(SUBSTITUTE(Answers!B900,CHAR(10),\"\"))","v":1},"",{"$f":"LEN(Answers!B900)","v":0},""]
[{"$f":"1 + LEN(Answers!B901) - LEN(SUBSTITUTE(Answers!B901,CHAR(10),\"\"))","v":1},"",{"$f":"LEN(Answers!B901)","v":0},""]
[{"$f":"1 + LEN(Answers!B902) - LEN(SUBSTITUTE(Answers!B902,CHAR(10),\"\"))","v":1},"",{"$f":"LEN(Answers!B902)","v":0},""]
[{"$f":"1 + LEN(Answers!B903) - LEN(SUBSTITUTE(Answers!B903,CHAR(10),\"\"))","v":1},"",{"$f":"LEN(Answers!B903)","v":0},""]
[{"$f":"1 + LEN(Answers!B904) - LEN(SUBSTITUTE(Answers!B904,CHAR(10),\"\"))","v":1},"",{"$f":"LEN(Answers!B904)","v":0},""]
[{"$f":"1 + LEN(Answers!B905) - LEN(SUBSTITUTE(Answers!B905,CHAR(10),\"\"))","v":1},"",{"$f":"LEN(Answers!B905)","v":0},""]
[{"$f":"1 + LEN(Answers!B906) - LEN(SUBSTITUTE(Answers!B906,CHAR(10),\"\"))","v":1},"",{"$f":"LEN(Answers!B906)","v":0},""]
[{"$f":"1 + LEN(Answers!B907) - LEN(SUBSTITUTE(Answers!B907,CHAR(10),\"\"))","v":1},"",{"$f":"LEN(Answers!B907)","v":0},""]
[{"$f":"1 + LEN(Answers!B908) - LEN(SUBSTITUTE(Answers!B908,CHAR(10),\"\"))","v":1},"",{"$f":"LEN(Answers!B908)","v":0},""]
[{"$f":"1 + LEN(Answers!B909) - LEN(SUBSTITUTE(Answers!B909,CHAR(10),\"\"))","v":1},"",{"$f":"LEN(Answers!B909)","v":0},""]
[{"$f":"1 + LEN(Answers!B910) - LEN(SUBSTITUTE(Answers!B910,CHAR(10),\"\"))","v":1},"",{"$f":"LEN(Answers!B910)","v":0},""]
[{"$f":"1 + LEN(Answers!B911) - LEN(SUBSTITUTE(Answers!B911,CHAR(10),\"\"))","v":1},"",{"$f":"LEN(Answers!B911)","v":0},""]
[{"$f":"1 + LEN(Answers!B912) - LEN(SUBSTITUTE(Answers!B912,CHAR(10),\"\"))","v":1},"",{"$f":"LEN(Answers!B912)","v":0},""]
[{"$f":"1 + LEN(Answers!B913) - LEN(SUBSTITUTE(Answers!B913,CHAR(10),\"\"))","v":1},"",{"$f":"LEN(Answers!B913)","v":0},""]
[{"$f":"1 + LEN(Answers!B914) - LEN(SUBSTITUTE(Answers!B914,CHAR(10),\"\"))","v":1},"",{"$f":"LEN(Answers!B914)","v":0},""]
[{"$f":"1 + LEN(Answers!B915) - LEN(SUBSTITUTE(Answers!B915,CHAR(10),\"\"))","v":1},"",{"$f":"LEN(Answers!B915)","v":0},""]
[{"$f":"1 + LEN(Answers!B916) - LEN(SUBSTITUTE(Answers!B916,CHAR(10),\"\"))","v":1},"",{"$f":"LEN(Answers!B916)","v":0},""]
[{"$f":"1 + LEN(Answers!B917) - LEN(SUBSTITUTE(Answers!B917,CHAR(10),\"\"))","v":1},"",{"$f":"LEN(Answers!B917)","v":0},""]
[{"$f":"1 + LEN(Answers!B918) - LEN(SUBSTITUTE(Answers!B918,CHAR(10),\"\"))","v":1},"",{"$f":"LEN(Answers!B918)","v":0},""]
[{"$f":"1 + LEN(Answers!B919) - LEN(SUBSTITUTE(Answers!B919,CHAR(10),\"\"))","v":1},"",{"$f":"LEN(Answers!B919)","v":0},""]
[{"$f":"1 + LEN(Answers!B920) - LEN(SUBSTITUTE(Answers!B920,CHAR(10),\"\"))","v":1},"",{"$f":"LEN(Answers!B920)","v":0},""]
[{"$f":"1 + LEN(Answers!B921) - LEN(SUBSTITUTE(Answers!B921,CHAR(10),\"\"))","v":1},"",{"$f":"LEN(Answers!B921)","v":0},""]
[{"$f":"1 + LEN(Answers!B922) - LEN(SUBSTITUTE(Answers!B922,CHAR(10),\"\"))","v":1},"",{"$f":"LEN(Answers!B922)","v":0},""]
[{"$f":"1 + LEN(Answers!B923) - LEN(SUBSTITUTE(Answers!B923,CHAR(10),\"\"))","v":1},"",{"$f":"LEN(Answers!B923)","v":0},""]
[{"$f":"1 + LEN(Answers!B924) - LEN(SUBSTITUTE(Answers!B924,CHAR(10),\"\"))","v":1},"",{"$f":"LEN(Answers!B924)","v":0},""]
[{"$f":"1 + LEN(Answers!B925) - LEN(SUBSTITUTE(Answers!B925,CHAR(10),\"\"))","v":1},"",{"$f":"LEN(Answers!B925)","v":0},""]
[{"$f":"1 + LEN(Answers!B926) - LEN(SUBSTITUTE(Answers!B926,CHAR(10),\"\"))","v":1},"",{"$f":"LEN(Answers!B926)","v":0},""]
[{"$f":"1 + LEN(Answers!B927) - LEN(SUBSTITUTE(Answers!B927,CHAR(10),\"\"))","v":1},"",{"$f":"LEN(Answers!B927)","v":0},""]
[{"$f":"1 + LEN(Answers!B928) - LEN(SUBSTITUTE(Answers!B928,CHAR(10),\"\"))","v":1},"",{"$f":"LEN(Answers!B928)","v":0},""]
[{"$f":"1 + LEN(Answers!B929) - LEN(SUBSTITUTE(Answers!B929,CHAR(10),\"\"))","v":1},"",{"$f":"LEN(Answers!B929)","v":0},""]
[{"$f":"1 + LEN(Answers!B930) - LEN(SUBSTITUTE(Answers!B930,CHAR(10),\"\"))","v":1},"",{"$f":"LEN(Answers!B930)","v":0},""]
[{"$f":"1 + LEN(Answers!B931) - LEN(SUBSTITUTE(Answers!B931,CHAR(10),\"\"))","v":1},"",{"$f":"LEN(Answers!B931)","v":0},""]
[{"$f":"1 + LEN(Answers!B932) - LEN(SUBSTITUTE(Answers!B932,CHAR(10),\"\"))","v":1},"",{"$f":"LEN(Answers!B932)","v":0},""]
[{"$f":"1 + LEN(Answers!B933) - LEN(SUBSTITUTE(Answers!B933,CHAR(10),\"\"))","v":1},"",{"$f":"LEN(Answers!B933)","v":0},""]
[{"$f":"1 + LEN(Answers!B934) - LEN(SUBSTITUTE(Answers!B934,CHAR(10),\"\"))","v":1},"",{"$f":"LEN(Answers!B934)","v":0},""]
[{"$f":"1 + LEN(Answers!B935) - LEN(SUBSTITUTE(Answers!B935,CHAR(10),\"\"))","v":1},"",{"$f":"LEN(Answers!B935)","v":0},""]
[{"$f":"1 + LEN(Answers!B936) - LEN(SUBSTITUTE(Answers!B936,CHAR(10),\"\"))","v":1},"",{"$f":"LEN(Answers!B936)","v":0},""]
[{"$f":"1 + LEN(Answers!B937) - LEN(SUBSTITUTE(Answers!B937,CHAR(10),\"\"))","v":1},"",{"$f":"LEN(Answers!B937)","v":0},""]
[{"$f":"1 + LEN(Answers!B938) - LEN(SUBSTITUTE(Answers!B938,CHAR(10),\"\"))","v":1},"",{"$f":"LEN(Answers!B938)","v":0},""]
[{"$f":"1 + LEN(Answers!B939) - LEN(SUBSTITUTE(Answers!B939,CHAR(10),\"\"))","v":1},"",{"$f":"LEN(Answers!B939)","v":0},""]
[{"$f":"1 + LEN(Answers!B940) - LEN(SUBSTITUTE(Answers!B940,CHAR(10),\"\"))","v":1},"",{"$f":"LEN(Answers!B940)","v":0},""]
[{"$f":"1 + LEN(Answers!B941) - LEN(SUBSTITUTE(Answers!B941,CHAR(10),\"\"))","v":1},"",{"$f":"LEN(Answers!B941)","v":0},""]
[{"$f":"1 + LEN(Answers!B942) - LEN(SUBSTITUTE(Answers!B942,CHAR(10),\"\"))","v":1},"",{"$f":"LEN(Answers!B942)","v":0},""]
[{"$f":"1 + LEN(Answers!B943) - LEN(SUBSTITUTE(Answers!B943,CHAR(10),\"\"))","v":1},"",{"$f":"LEN(Answers!B943)","v":0},""]
[{"$f":"1 + LEN(Answers!B944) - LEN(SUBSTITUTE(Answers!B944,CHAR(10),\"\"))","v":1},"",{"$f":"LEN(Answers!B944)","v":0},""]
[{"$f":"1 + LEN(Answers!B945) - LEN(SUBSTITUTE(Answers!B945,CHAR(10),\"\"))","v":1},"",{"$f":"LEN(Answers!B945)","v":0},""]
[{"$f":"1 + LEN(Answers!B946) - LEN(SUBSTITUTE(Answers!B946,CHAR(10),\"\"))","v":1},"",{"$f":"LEN(Answers!B946)","v":0},""]
[{"$f":"1 + LEN(Answers!B947) - LEN(SUBSTITUTE(Answers!B947,CHAR(10),\"\"))","v":1},"",{"$f":"LEN(Answers!B947)","v":0},""]
[{"$f":"1 + LEN(Answers!B948) - LEN(SUBSTITUTE(Answers!B948,CHAR(10),\"\"))","v":1},"",{"$f":"LEN(Answers!B948)","v":0},""]
[{"$f":"1 + LEN(Answers!B949) - LEN(SUBSTITUTE(Answers!B949,CHAR(10),\"\"))","v":1},"",{"$f":"LEN(Answers!B949)","v":0},""]
[{"$f":"1 + LEN(Answers!B950) - LEN(SUBSTITUTE(Answers!B950,CHAR(10),\"\"))","v":1},"",{"$f":"LEN(Answers!B950)","v":0},""]
[{"$f":"1 + LEN(Answers!B951) - LEN(SUBSTITUTE(Answers!B951,CHAR(10),\"\"))","v":1},"",{"$f":"LEN(Answers!B951)","v":0},""]
[{"$f":"1 + LEN(Answers!B952) - LEN(SUBSTITUTE(Answers!B952,CHAR(10),\"\"))","v":1},"",{"$f":"LEN(Answers!B952)","v":0},""]
[{"$f":"1 + LEN(Answers!B953) - LEN(SUBSTITUTE(Answers!B953,CHAR(10),\"\"))","v":1},"",{"$f":"LEN(Answers!B953)","v":0},""]
[{"$f":"1 + LEN(Answers!B954) - LEN(SUBSTITUTE(Answers!B954,CHAR(10),\"\"))","v":1},"",{"$f":"LEN(Answers!B954)","v":0},""]
[{"$f":"1 + LEN(Answers!B955) - LEN(SUBSTITUTE(Answers!B955,CHAR(10),\"\"))","v":1},"",{"$f":"LEN(Answers!B955)","v":0},""]
[{"$f":"1 + LEN(Answers!B956) - LEN(SUBSTITUTE(Answers!B956,CHAR(10),\"\"))","v":1},"",{"$f":"LEN(Answers!B956)","v":0},""]
[{"$f":"1 + LEN(Answers!B957) - LEN(SUBSTITUTE(Answers!B957,CHAR(10),\"\"))","v":1},"",{"$f":"LEN(Answers!B957)","v":0},""]
[{"$f":"1 + LEN(Answers!B958) - LEN(SUBSTITUTE(Answers!B958,CHAR(10),\"\"))","v":1},"",{"$f":"LEN(Answers!B958)","v":0},""]
[{"$f":"1 + LEN(Answers!B959) - LEN(SUBSTITUTE(Answers!B959,CHAR(10),\"\"))","v":1},"",{"$f":"LEN(Answers!B959)","v":0},""]
[{"$f":"1 + LEN(Answers!B960) - LEN(SUBSTITUTE(Answers!B960,CHAR(10),\"\"))","v":1},"",{"$f":"LEN(Answers!B960)","v":0},""]
[{"$f":"1 + LEN(Answers!B961) - LEN(SUBSTITUTE(Answers!B961,CHAR(10),\"\"))","v":1},"",{"$f":"LEN(Answers!B961)","v":0},""]
[{"$f":"1 + LEN(Answers!B962) - LEN(SUBSTITUTE(Answers!B962,CHAR(10),\"\"))","v":1},"",{"$f":"LEN(Answers!B962)","v":0},""]
[{"$f":"1 + LEN(Answers!B963) - LEN(SUBSTITUTE(Answers!B963,CHAR(10),\"\"))","v":1},{"$f":"IF(A964>4,\"alert\",\"\")","v":""},{"$f":"LEN(Answers!B963)","v":0},{"$f":"IF(C964>120,\"alert\",\"\")","v":""}]
[{"$f":"1 + LEN(Answers!B964) - LEN(SUBSTITUTE(Answers!B964,CHAR(10),\"\"))","v":1},"",{"$f":"LEN(Answers!B964)","v":0},""]
[{"$f":"1 + LEN(Answers!B965) - LEN(SUBSTITUTE(Answers!B965,CHAR(10),\"\"))","v":1},"",{"$f":"LEN(Answers!B965)","v":0},""]
[{"$f":"1 + LEN(Answers!B966) - LEN(SUBSTITUTE(Answers!B966,CHAR(10),\"\"))","v":1},"",{"$f":"LEN(Answers!B966)","v":0},""]
[{"$f":"1 + LEN(Answers!B967) - LEN(SUBSTITUTE(Answers!B967,CHAR(10),\"\"))","v":1},"",{"$f":"LEN(Answers!B967)","v":0},""]
[{"$f":"1 + LEN(Answers!B968) - LEN(SUBSTITUTE(Answers!B968,CHAR(10),\"\"))","v":1},"",{"$f":"LEN(Answers!B968)","v":0},""]
[{"$f":"1 + LEN(Answers!B969) - LEN(SUBSTITUTE(Answers!B969,CHAR(10),\"\"))","v":1},"",{"$f":"LEN(Answers!B969)","v":0},""]
[{"$f":"1 + LEN(Answers!B970) - LEN(SUBSTITUTE(Answers!B970,CHAR(10),\"\"))","v":1},"",{"$f":"LEN(Answers!B970)","v":0},""]
[{"$f":"1 + LEN(Answers!B971) - LEN(SUBSTITUTE(Answers!B971,CHAR(10),\"\"))","v":1},"",{"$f":"LEN(Answers!B971)","v":0},""]
[{"$f":"1 + LEN(Answers!B972) - LEN(SUBSTITUTE(Answers!B972,CHAR(10),\"\"))","v":1},"",{"$f":"LEN(Answers!B972)","v":0},""]
[{"$f":"1 + LEN(Answers!B973) - LEN(SUBSTITUTE(Answers!B973,CHAR(10),\"\"))","v":1},"",{"$f":"LEN(Answers!B973)","v":0},""]
[{"$f":"1 + LEN(Answers!B974) - LEN(SUBSTITUTE(Answers!B974,CHAR(10),\"\"))","v":1},"",{"$f":"LEN(Answers!B974)","v":0},""]
[{"$f":"1 + LEN(Answers!B975) - LEN(SUBSTITUTE(Answers!B975,CHAR(10),\"\"))","v":1},"",{"$f":"LEN(Answers!B975)","v":0},""]
[{"$f":"1 + LEN(Answers!B976) - LEN(SUBSTITUTE(Answers!B976,CHAR(10),\"\"))","v":1},"",{"$f":"LEN(Answers!B976)","v":0},""]
[{"$f":"1 + LEN(Answers!B977) - LEN(SUBSTITUTE(Answers!B977,CHAR(10),\"\"))","v":1},"",{"$f":"LEN(Answers!B977)","v":0},""]
[{"$f":"1 + LEN(Answers!B978) - LEN(SUBSTITUTE(Answers!B978,CHAR(10),\"\"))","v":1},"",{"$f":"LEN(Answers!B978)","v":0},""]
[{"$f":"1 + LEN(Answers!B979) - LEN(SUBSTITUTE(Answers!B979,CHAR(10),\"\"))","v":1},"",{"$f":"LEN(Answers!B979)","v":0},""]
[{"$f":"1 + LEN(Answers!B980) - LEN(SUBSTITUTE(Answers!B980,CHAR(10),\"\"))","v":1},"",{"$f":"LEN(Answers!B980)","v":0},""]
[{"$f":"1 + LEN(Answers!B981) - LEN(SUBSTITUTE(Answers!B981,CHAR(10),\"\"))","v":1},"",{"$f":"LEN(Answers!B981)","v":0},""]
[{"$f":"1 + LEN(Answers!B982) - LEN(SUBSTITUTE(Answers!B982,CHAR(10),\"\"))","v":1},"",{"$f":"LEN(Answers!B982)","v":0},""]
[{"$f":"1 + LEN(Answers!B983) - LEN(SUBSTITUTE(Answers!B983,CHAR(10),\"\"))","v":1},"",{"$f":"LEN(Answers!B983)","v":0},""]
[{"$f":"1 + LEN(Answers!B984) - LEN(SUBSTITUTE(Answers!B984,CHAR(10),\"\"))","v":1},"",{"$f":"LEN(Answers!B984)","v":0},""]
[{"$f":"1 + LEN(Answers!B985) - LEN(SUBSTITUTE(Answers!B985,CHAR(10),\"\"))","v":1},"",{"$f":"LEN(Answers!B985)","v":0},""]
[{"$f":"1 + LEN(Answers!B986) - LEN(SUBSTITUTE(Answers!B986,CHAR(10),\"\"))","v":1},"",{"$f":"LEN(Answers!B986)","v":0},""]
[{"$f":"1 + LEN(Answers!B987) - LEN(SUBSTITUTE(Answers!B987,CHAR(10),\"\"))","v":1},"",{"$f":"LEN(Answers!B987)","v":0},""]
[{"$f":"1 + LEN(Answers!B988) - LEN(SUBSTITUTE(Answers!B988,CHAR(10),\"\"))","v":1},"",{"$f":"LEN(Answers!B988)","v":0},""]
[{"$f":"1 + LEN(Answers!B989) - LEN(SUBSTITUTE(Answers!B989,CHAR(10),\"\"))","v":1},"",{"$f":"LEN(Answers!B989)","v":0},""]
[{"$f":"1 + LEN(Answers!B990) - LEN(SUBSTITUTE(Answers!B990,CHAR(10),\"\"))","v":1},"",{"$f":"LEN(Answers!B990)","v":0},""]
[{"$f":"1 + LEN(Answers!B991) - LEN(SUBSTITUTE(Answers!B991,CHAR(10),\"\"))","v":1},"",{"$f":"LEN(Answers!B991)","v":0},""]
[{"$f":"1 + LEN(Answers!B992) - LEN(SUBSTITUTE(Answers!B992,CHAR(10),\"\"))","v":1},"",{"$f":"LEN(Answers!B992)","v":0},""]
[{"$f":"1 + LEN(Answers!B993) - LEN(SUBSTITUTE(Answers!B993,CHAR(10),\"\"))","v":1},"",{"$f":"LEN(Answers!B993)","v":0},""]
[{"$f":"1 + LEN(Answers!B994) - LEN(SUBSTITUTE(Answers!B994,CHAR(10),\"\"))","v":1},"",{"$f":"LEN(Answers!B994)","v":0},""]
[{"$f":"1 + LEN(Answers!B995) - LEN(SUBSTITUTE(Answers!B995,CHAR(10),\"\"))","v":1},"",{"$f":"LEN(Answers!B995)","v":0},""]
[{"$f":"1 + LEN(Answers!B996) - LEN(SUBSTITUTE(Answers!B996,CHAR(10),\"\"))","v":1},"",{"$f":"LEN(Answers!B996)","v":0},""]
[{"$f":"1 + LEN(Answers!B997) - LEN(SUBSTITUTE(Answers!B997,CHAR(10),\"\"))","v":1},"",{"$f":"LEN(Answers!B997)","v":0},""]
[{"$f":"1 + LEN(Answers!B998) - LEN(SUBSTITUTE(Answers!B998,CHAR(10),\"\"))","v":1},"",{"$f":"LEN(Answers!B998)","v":0},""]
[{"$f":"1 + LEN(Answers!B999) - LEN(SUBSTITUTE(Answers!B999,CHAR(10),\"\"))","v":1},"",{"$f":"LEN(Answers!B999)","v":0},""]
[{"$f":"1 + LEN(Answers!B1000) - LEN(SUBSTITUTE(Answers!B1000,CHAR(10),\"\"))","v":1},"",{"$f":"LEN(Answers!B1000)","v":0},""]
[{"$f":"1 + LEN(Answers!B1001) - LEN(SUBSTITUTE(Answers!B1001,CHAR(10),\"\"))","v":1},"",{"$f":"LEN(Answers!B1001)","v":0},""]
[{"$f":"1 + LEN(Answers!B1002) - LEN(SUBSTITUTE(Answers!B1002,CHAR(10),\"\"))","v":1},"",{"$f":"LEN(Answers!B1002)","v":0},""]
[{"$f":"1 + LEN(Answers!B1003) - LEN(SUBSTITUTE(Answers!B1003,CHAR(10),\"\"))","v":1},"",{"$f":"LEN(Answers!B1003)","v":0},""]
[{"$f":"1 + LEN(Answers!B1004) - LEN(SUBSTITUTE(Answers!B1004,CHAR(10),\"\"))","v":1},"",{"$f":"LEN(Answers!B1004)","v":0},""]
[{"$f":"1 + LEN(Answers!B1005) - LEN(SUBSTITUTE(Answers!B1005,CHAR(10),\"\"))","v":1},"",{"$f":"LEN(Answers!B1005)","v":0},""]
[{"$f":"1 + LEN(Answers!B1006) - LEN(SUBSTITUTE(Answers!B1006,CHAR(10),\"\"))","v":1},"",{"$f":"LEN(Answers!B1006)","v":0},""]
[{"$f":"1 + LEN(Answers!B1007) - LEN(SUBSTITUTE(Answers!B1007,CHAR(10),\"\"))","v":1},"",{"$f":"LEN(Answers!B1007)","v":0},""]
[{"$f":"1 + LEN(Answers!B1008) - LEN(SUBSTITUTE(Answers!B1008,CHAR(10),\"\"))","v":1},"",{"$f":"LEN(Answers!B1008)","v":0},""]
[{"$f":"1 + LEN(Answers!B1009) - LEN(SUBSTITUTE(Answers!B1009,CHAR(10),\"\"))","v":1},"",{"$f":"LEN(Answers!B1009)","v":0},""]
[{"$f":"1 + LEN(Answers!B1010) - LEN(SUBSTITUTE(Answers!B1010,CHAR(10),\"\"))","v":1},"",{"$f":"LEN(Answers!B1010)","v":0},""]
[{"$f":"1 + LEN(Answers!B1011) - LEN(SUBSTITUTE(Answers!B1011,CHAR(10),\"\"))","v":1},"",{"$f":"LEN(Answers!B1011)","v":0},""]
[{"$f":"1 + LEN(Answers!B1012) - LEN(SUBSTITUTE(Answers!B1012,CHAR(10),\"\"))","v":1},"",{"$f":"LEN(Answers!B1012)","v":0},""]
[{"$f":"1 + LEN(Answers!B1013) - LEN(SUBSTITUTE(Answers!B1013,CHAR(10),\"\"))","v":1},"",{"$f":"LEN(Answers!B1013)","v":0},""]
[{"$f":"1 + LEN(Answers!B1014) - LEN(SUBSTITUTE(Answers!B1014,CHAR(10),\"\"))","v":1},"",{"$f":"LEN(Answers!B1014)","v":0},""]
[{"$f":"1 + LEN(Answers!B1015) - LEN(SUBSTITUTE(Answers!B1015,CHAR(10),\"\"))","v":1},"",{"$f":"LEN(Answers!B1015)","v":0},""]
[{"$f":"1 + LEN(Answers!B1016) - LEN(SUBSTITUTE(Answers!B1016,CHAR(10),\"\"))","v":1},"",{"$f":"LEN(Answers!B1016)","v":0},""]
[{"$f":"1 + LEN(Answers!B1017) - LEN(SUBSTITUTE(Answers!B1017,CHAR(10),\"\"))","v":1},"",{"$f":"LEN(Answers!B1017)","v":0},""]
[{"$f":"1 + LEN(Answers!B1018) - LEN(SUBSTITUTE(Answers!B1018,CHAR(10),\"\"))","v":1},"",{"$f":"LEN(Answers!B1018)","v":0},""]
[{"$f":"1 + LEN(Answers!B1019) - LEN(SUBSTITUTE(Answers!B1019,CHAR(10),\"\"))","v":1},"",{"$f":"LEN(Answers!B1019)","v":0},""]
[{"$f":"1 + LEN(Answers!B1020) - LEN(SUBSTITUTE(Answers!B1020,CHAR(10),\"\"))","v":1},"",{"$f":"LEN(Answers!B1020)","v":0},""]
[{"$f":"1 + LEN(Answers!B1021) - LEN(SUBSTITUTE(Answers!B1021,CHAR(10),\"\"))","v":1},"",{"$f":"LEN(Answers!B1021)","v":0},""]
[{"$f":"1 + LEN(Answers!B1022) - LEN(SUBSTITUTE(Answers!B1022,CHAR(10),\"\"))","v":1},"",{"$f":"LEN(Answers!B1022)","v":0},""]
[{"$f":"1 + LEN(Answers!B1023) - LEN(SUBSTITUTE(Answers!B1023,CHAR(10),\"\"))","v":1},"",{"$f":"LEN(Answers!B1023)","v":0},""]
[{"$f":"1 + LEN(Answers!B1024) - LEN(SUBSTITUTE(Answers!B1024,CHAR(10),\"\"))","v":1},"",{"$f":"LEN(Answers!B1024)","v":0},""]
[{"$f":"1 + LEN(Answers!B1025) - LEN(SUBSTITUTE(Answers!B1025,CHAR(10),\"\"))","v":1},"",{"$f":"LEN(Answers!B1025)","v":0},""]
[{"$f":"1 + LEN(Answers!B1026) - LEN(SUBSTITUTE(Answers!B1026,CHAR(10),\"\"))","v":1},"",{"$f":"LEN(Answers!B1026)","v":0},""]
[{"$f":"1 + LEN(Answers!B1027) - LEN(SUBSTITUTE(Answers!B1027,CHAR(10),\"\"))","v":1},{"$f":"IF(A1028>4,\"alert\",\"\")","v":""},{"$f":"LEN(Answers!B1027)","v":0},{"$f":"IF(C1028>120,\"alert\",\"\")","v":""}]
[{"$f":"1 + LEN(Answers!B1028) - LEN(SUBSTITUTE(Answers!B1028,CHAR(10),\"\"))","v":1},"",{"$f":"LEN(Answers!B1028)","v":0},""]
[{"$f":"1 + LEN(Answers!B1029) - LEN(SUBSTITUTE(Answers!B1029,CHAR(10),\"\"))","v":1},"",{"$f":"LEN(Answers!B1029)","v":0},""]
[{"$f":"1 + LEN(Answers!B1030) - LEN(SUBSTITUTE(Answers!B1030,CHAR(10),\"\"))","v":1},"",{"$f":"LEN(Answers!B1030)","v":0},""]
[{"$f":"1 + LEN(Answers!B1031) - LEN(SUBSTITUTE(Answers!B1031,CHAR(10),\"\"))","v":1},"",{"$f":"LEN(Answers!B1031)","v":0},""]
[{"$f":"1 + LEN(Answers!B1032) - LEN(SUBSTITUTE(Answers!B1032,CHAR(10),\"\"))","v":1},"",{"$f":"LEN(Answers!B1032)","v":0},""]
[{"$f":"1 + LEN(Answers!B1033) - LEN(SUBSTITUTE(Answers!B1033,CHAR(10),\"\"))","v":1},"",{"$f":"LEN(Answers!B1033)","v":0},""]
[{"$f":"1 + LEN(Answers!B1034) - LEN(SUBSTITUTE(Answers!B1034,CHAR(10),\"\"))","v":1},"",{"$f":"LEN(Answers!B1034)","v":0},""]
[{"$f":"1 + LEN(Answers!B1035) - LEN(SUBSTITUTE(Answers!B1035,CHAR(10),\"\"))","v":1},"",{"$f":"LEN(Answers!B1035)","v":0},""]
[{"$f":"1 + LEN(Answers!B1036) - LEN(SUBSTITUTE(Answers!B1036,CHAR(10),\"\"))","v":1},"",{"$f":"LEN(Answers!B1036)","v":0},""]
[{"$f":"1 + LEN(Answers!B1037) - LEN(SUBSTITUTE(Answers!B1037,CHAR(10),\"\"))","v":1},"",{"$f":"LEN(Answers!B1037)","v":0},""]
[{"$f":"1 + LEN(Answers!B1038) - LEN(SUBSTITUTE(Answers!B1038,CHAR(10),\"\"))","v":1},"",{"$f":"LEN(Answers!B1038)","v":0},""]
[{"$f":"1 + LEN(Answers!B1039) - LEN(SUBSTITUTE(Answers!B1039,CHAR(10),\"\"))","v":1},"",{"$f":"LEN(Answers!B1039)","v":0},""]
[{"$f":"1 + LEN(Answers!B1040) - LEN(SUBSTITUTE(Answers!B1040,CHAR(10),\"\"))","v":1},"",{"$f":"LEN(Answers!B1040)","v":0},""]
[{"$f":"1 + LEN(Answers!B1041) - LEN(SUBSTITUTE(Answers!B1041,CHAR(10),\"\"))","v":1},"",{"$f":"LEN(Answers!B1041)","v":0},""]
[{"$f":"1 + LEN(Answers!B1042) - LEN(SUBSTITUTE(Answers!B1042,CHAR(10),\"\"))","v":1},"",{"$f":"LEN(Answers!B1042)","v":0},""]
[{"$f":"1 + LEN(Answers!B1043) - LEN(SUBSTITUTE(Answers!B1043,CHAR(10),\"\"))","v":1},"",{"$f":"LEN(Answers!B1043)","v":0},""]
[{"$f":"1 + LEN(Answers!B1044) - LEN(SUBSTITUTE(Answers!B1044,CHAR(10),\"\"))","v":1},"",{"$f":"LEN(Answers!B1044)","v":0},""]
[{"$f":"1 + LEN(Answers!B1045) - LEN(SUBSTITUTE(Answers!B1045,CHAR(10),\"\"))","v":1},"",{"$f":"LEN(Answers!B1045)","v":0},""]
[{"$f":"1 + LEN(Answers!B1046) - LEN(SUBSTITUTE(Answers!B1046,CHAR(10),\"\"))","v":1},"",{"$f":"LEN(Answers!B1046)","v":0},""]
[{"$f":"1 + LEN(Answers!B1047) - LEN(SUBSTITUTE(Answers!B1047,CHAR(10),\"\"))","v":1},"",{"$f":"LEN(Answers!B1047)","v":0},""]
[{"$f":"1 + LEN(Answers!B1048) - LEN(SUBSTITUTE(Answers!B1048,CHAR(10),\"\"))","v":1},"",{"$f":"LEN(Answers!B1048)","v":0},""]
[{"$f":"1 + LEN(Answers!B1049) - LEN(SUBSTITUTE(Answers!B1049,CHAR(10),\"\"))","v":1},"",{"$f":"LEN(Answers!B1049)","v":0},""]
[{"$f":"1 + LEN(Answers!B1050) - LEN(SUBSTITUTE(Answers!B1050,CHAR(10),\"\"))","v":1},"",{"$f":"LEN(Answers!B1050)","v":0},""]
[{"$f":"1 + LEN(Answers!B1051) - LEN(SUBSTITUTE(Answers!B1051,CHAR(10),\"\"))","v":1},"",{"$f":"LEN(Answers!B1051)","v":0},""]
[{"$f":"1 + LEN(Answers!B1052) - LEN(SUBSTITUTE(Answers!B1052,CHAR(10),\"\"))","v":1},"",{"$f":"LEN(Answers!B1052)","v":0},""]
[{"$f":"1 + LEN(Answers!B1053) - LEN(SUBSTITUTE(Answers!B1053,CHAR(10),\"\"))","v":1},"",{"$f":"LEN(Answers!B1053)","v":0},""]
[{"$f":"1 + LEN(Answers!B1054) - LEN(SUBSTITUTE(Answers!B1054,CHAR(10),\"\"))","v":1},"",{"$f":"LEN(Answers!B1054)","v":0},""]
[{"$f":"1 + LEN(Answers!B1055) - LEN(SUBSTITUTE(Answers!B1055,CHAR(10),\"\"))","v":1},"",{"$f":"LEN(Answers!B1055)","v":0},""]
[{"$f":"1 + LEN(Answers!B1056) - LEN(SUBSTITUTE(Answers!B1056,CHAR(10),\"\"))","v":1},"",{"$f":"LEN(Answers!B1056)","v":0},""]
[{"$f":"1 + LEN(Answers!B1057) - LEN(SUBSTITUTE(Answers!B1057,CHAR(10),\"\"))","v":1},"",{"$f":"LEN(Answers!B1057)","v":0},""]
[{"$f":"1 + LEN(Answers!B1058) - LEN(SUBSTITUTE(Answers!B1058,CHAR(10),\"\"))","v":1},"",{"$f":"LEN(Answers!B1058)","v":0},""]
[{"$f":"1 + LEN(Answers!B1059) - LEN(SUBSTITUTE(Answers!B1059,CHAR(10),\"\"))","v":1},"",{"$f":"LEN(Answers!B1059)","v":0},""]
[{"$f":"1 + LEN(Answers!B1060) - LEN(SUBSTITUTE(Answers!B1060,CHAR(10),\"\"))","v":1},"",{"$f":"LEN(Answers!B1060)","v":0},""]
[{"$f":"1 + LEN(Answers!B1061) - LEN(SUBSTITUTE(Answers!B1061,CHAR(10),\"\"))","v":1},"",{"$f":"LEN(Answers!B1061)","v":0},""]
[{"$f":"1 + LEN(Answers!B1062) - LEN(SUBSTITUTE(Answers!B1062,CHAR(10),\"\"))","v":1},"",{"$f":"LEN(Answers!B1062)","v":0},""]
[{"$f":"1 + LEN(Answers!B1063) - LEN(SUBSTITUTE(Answers!B1063,CHAR(10),\"\"))","v":1},"",{"$f":"LEN(Answers!B1063)","v":0},""]
[{"$f":"1 + LEN(Answers!B1064) - LEN(SUBSTITUTE(Answers!B1064,CHAR(10),\"\"))","v":1},"",{"$f":"LEN(Answers!B1064)","v":0},""]
[{"$f":"1 + LEN(Answers!B1065) - LEN(SUBSTITUTE(Answers!B1065,CHAR(10),\"\"))","v":1},"",{"$f":"LEN(Answers!B1065)","v":0},""]
[{"$f":"1 + LEN(Answers!B1066) - LEN(SUBSTITUTE(Answers!B1066,CHAR(10),\"\"))","v":1},"",{"$f":"LEN(Answers!B1066)","v":0},""]
[{"$f":"1 + LEN(Answers!B1067) - LEN(SUBSTITUTE(Answers!B1067,CHAR(10),\"\"))","v":1},"",{"$f":"LEN(Answers!B1067)","v":0},""]
[{"$f":"1 + LEN(Answers!B1068) - LEN(SUBSTITUTE(Answers!B1068,CHAR(10),\"\"))","v":1},"",{"$f":"LEN(Answers!B1068)","v":0},""]
[{"$f":"1 + LEN(Answers!B1069) - LEN(SUBSTITUTE(Answers!B1069,CHAR(10),\"\"))","v":1},"",{"$f":"LEN(Answers!B1069)","v":0},""]
[{"$f":"1 + LEN(Answers!B1070) - LEN(SUBSTITUTE(Answers!B1070,CHAR(10),\"\"))","v":1},"",{"$f":"LEN(Answers!B1070)","v":0},""]
[{"$f":"1 + LEN(Answers!B1071) - LEN(SUBSTITUTE(Answers!B1071,CHAR(10),\"\"))","v":1},"",{"$f":"LEN(Answers!B1071)","v":0},""]
[{"$f":"1 + LEN(Answers!B1072) - LEN(SUBSTITUTE(Answers!B1072,CHAR(10),\"\"))","v":1},"",{"$f":"LEN(Answers!B1072)","v":0},""]
[{"$f":"1 + LEN(Answers!B1073) - LEN(SUBSTITUTE(Answers!B1073,CHAR(10),\"\"))","v":1},"",{"$f":"LEN(Answers!B1073)","v":0},""]
[{"$f":"1 + LEN(Answers!B1074) - LEN(SUBSTITUTE(Answers!B1074,CHAR(10),\"\"))","v":1},"",{"$f":"LEN(Answers!B1074)","v":0},""]
[{"$f":"1 + LEN(Answers!B1075) - LEN(SUBSTITUTE(Answers!B1075,CHAR(10),\"\"))","v":1},"",{"$f":"LEN(Answers!B1075)","v":0},""]
[{"$f":"1 + LEN(Answers!B1076) - LEN(SUBSTITUTE(Answers!B1076,CHAR(10),\"\"))","v":1},"",{"$f":"LEN(Answers!B1076)","v":0},""]
[{"$f":"1 + LEN(Answers!B1077) - LEN(SUBSTITUTE(Answers!B1077,CHAR(10),\"\"))","v":1},"",{"$f":"LEN(Answers!B1077)","v":0},""]
[{"$f":"1 + LEN(Answers!B1078) - LEN(SUBSTITUTE(Answers!B1078,CHAR(10),\"\"))","v":1},"",{"$f":"LEN(Answers!B1078)","v":0},""]
[{"$f":"1 + LEN(Answers!B1079) - LEN(SUBSTITUTE(Answers!B1079,CHAR(10),\"\"))","v":1},"",{"$f":"LEN(Answers!B1079)","v":0},""]
[{"$f":"1 + LEN(Answers!B1080) - LEN(SUBSTITUTE(Answers!B1080,CHAR(10),\"\"))","v":1},"",{"$f":"LEN(Answers!B1080)","v":0},""]
[{"$f":"1 + LEN(Answers!B1081) - LEN(SUBSTITUTE(Answers!B1081,CHAR(10),\"\"))","v":1},"",{"$f":"LEN(Answers!B1081)","v":0},""]
[{"$f":"1 + LEN(Answers!B1082) - LEN(SUBSTITUTE(Answers!B1082,CHAR(10),\"\"))","v":1},"",{"$f":"LEN(Answers!B1082)","v":0},""]
[{"$f":"1 + LEN(Answers!B1083) - LEN(SUBSTITUTE(Answers!B1083,CHAR(10),\"\"))","v":1},"",{"$f":"LEN(Answers!B1083)","v":0},""]
[{"$f":"1 + LEN(Answers!B1084) - LEN(SUBSTITUTE(Answers!B1084,CHAR(10),\"\"))","v":1},"",{"$f":"LEN(Answers!B1084)","v":0},""]
[{"$f":"1 + LEN(Answers!B1085) - LEN(SUBSTITUTE(Answers!B1085,CHAR(10),\"\"))","v":1},"",{"$f":"LEN(Answers!B1085)","v":0},""]
[{"$f":"1 + LEN(Answers!B1086) - LEN(SUBSTITUTE(Answers!B1086,CHAR(10),\"\"))","v":1},"",{"$f":"LEN(Answers!B1086)","v":0},""]
[{"$f":"1 + LEN(Answers!B1087) - LEN(SUBSTITUTE(Answers!B1087,CHAR(10),\"\"))","v":1},"",{"$f":"LEN(Answers!B1087)","v":0},""]
[{"$f":"1 + LEN(Answers!B1088) - LEN(SUBSTITUTE(Answers!B1088,CHAR(10),\"\"))","v":1},"",{"$f":"LEN(Answers!B1088)","v":0},""]
[{"$f":"1 + LEN(Answers!B1089) - LEN(SUBSTITUTE(Answers!B1089,CHAR(10),\"\"))","v":1},"",{"$f":"LEN(Answers!B1089)","v":0},""]
[{"$f":"1 + LEN(Answers!B1090) - LEN(SUBSTITUTE(Answers!B1090,CHAR(10),\"\"))","v":1},"",{"$f":"LEN(Answers!B1090)","v":0},""]
[{"$f":"1 + LEN(Answers!B1091) - LEN(SUBSTITUTE(Answers!B1091,CHAR(10),\"\"))","v":1},{"$f":"IF(A1092>4,\"alert\",\"\")","v":""},{"$f":"LEN(Answers!B1091)","v":0},{"$f":"IF(C1092>120,\"alert\",\"\")","v":""}]
[{"$f":"1 + LEN(Answers!B1092) - LEN(SUBSTITUTE(Answers!B1092,CHAR(10),\"\"))","v":1},"",{"$f":"LEN(Answers!B1092)","v":0},""]
[{"$f":"1 + LEN(Answers!B1093) - LEN(SUBSTITUTE(Answers!B1093,CHAR(10),\"\"))","v":1},"",{"$f":"LEN(Answers!B1093)","v":0},""]
[{"$f":"1 + LEN(Answers!B1094) - LEN(SUBSTITUTE(Answers!B1094,CHAR(10),\"\"))","v":1},"",{"$f":"LEN(Answers!B1094)","v":0},""]
[{"$f":"1 + LEN(Answers!B1095) - LEN(SUBSTITUTE(Answers!B1095,CHAR(10),\"\"))","v":1},"",{"$f":"LEN(Answers!B1095)","v":0},""]
[{"$f":"1 + LEN(Answers!B1096) - LEN(SUBSTITUTE(Answers!B1096,CHAR(10),\"\"))","v":1},"",{"$f":"LEN(Answers!B1096)","v":0},""]
[{"$f":"1 + LEN(Answers!B1097) - LEN(SUBSTITUTE(Answers!B1097,CHAR(10),\"\"))","v":1},"",{"$f":"LEN(Answers!B1097)","v":0},""]
[{"$f":"1 + LEN(Answers!B1098) - LEN(SUBSTITUTE(Answers!B1098,CHAR(10),\"\"))","v":1},"",{"$f":"LEN(Answers!B1098)","v":0},""]
[{"$f":"1 + LEN(Answers!B1099) - LEN(SUBSTITUTE(Answers!B1099,CHAR(10),\"\"))","v":1},"",{"$f":"LEN(Answers!B1099)","v":0},""]
[{"$f":"1 + LEN(Answers!B1100) - LEN(SUBSTITUTE(Answers!B1100,CHAR(10),\"\"))","v":1},"",{"$f":"LEN(Answers!B1100)","v":0},""]
[{"$f":"1 + LEN(Answers!B1101) - LEN(SUBSTITUTE(Answers!B1101,CHAR(10),\"\"))","v":1},"",{"$f":"LEN(Answers!B1101)","v":0},""]
[{"$f":"1 + LEN(Answers!B1102) - LEN(SUBSTITUTE(Answers!B1102,CHAR(10),\"\"))","v":1},"",{"$f":"LEN(Answers!B1102)","v":0},""]
[{"$f":"1 + LEN(Answers!B1103) - LEN(SUBSTITUTE(Answers!B1103,CHAR(10),\"\"))","v":1},"",{"$f":"LEN(Answers!B1103)","v":0},""]
[{"$f":"1 + LEN(Answers!B1104) - LEN(SUBSTITUTE(Answers!B1104,CHAR(10),\"\"))","v":1},"",{"$f":"LEN(Answers!B1104)","v":0},""]
[{"$f":"1 + LEN(Answers!B1105) - LEN(SUBSTITUTE(Answers!B1105,CHAR(10),\"\"))","v":1},"",{"$f":"LEN(Answers!B1105)","v":0},""]
[{"$f":"1 + LEN(Answers!B1106) - LEN(SUBSTITUTE(Answers!B1106,CHAR(10),\"\"))","v":1},"",{"$f":"LEN(Answers!B1106)","v":0},""]
[{"$f":"1 + LEN(Answers!B1107) - LEN(SUBSTITUTE(Answers!B1107,CHAR(10),\"\"))","v":1},"",{"$f":"LEN(Answers!B1107)","v":0},""]
[{"$f":"1 + LEN(Answers!B1108) - LEN(SUBSTITUTE(Answers!B1108,CHAR(10),\"\"))","v":1},"",{"$f":"LEN(Answers!B1108)","v":0},""]
[{"$f":"1 + LEN(Answers!B1109) - LEN(SUBSTITUTE(Answers!B1109,CHAR(10),\"\"))","v":1},"",{"$f":"LEN(Answers!B1109)","v":0},""]
[{"$f":"1 + LEN(Answers!B1110) - LEN(SUBSTITUTE(Answers!B1110,CHAR(10),\"\"))","v":1},"",{"$f":"LEN(Answers!B1110)","v":0},""]
[{"$f":"1 + LEN(Answers!B1111) - LEN(SUBSTITUTE(Answers!B1111,CHAR(10),\"\"))","v":1},"",{"$f":"LEN(Answers!B1111)","v":0},""]
[{"$f":"1 + LEN(Answers!B1112) - LEN(SUBSTITUTE(Answers!B1112,CHAR(10),\"\"))","v":1},"",{"$f":"LEN(Answers!B1112)","v":0},""]
[{"$f":"1 + LEN(Answers!B1113) - LEN(SUBSTITUTE(Answers!B1113,CHAR(10),\"\"))","v":1},"",{"$f":"LEN(Answers!B1113)","v":0},""]
[{"$f":"1 + LEN(Answers!B1114) - LEN(SUBSTITUTE(Answers!B1114,CHAR(10),\"\"))","v":1},"",{"$f":"LEN(Answers!B1114)","v":0},""]
[{"$f":"1 + LEN(Answers!B1115) - LEN(SUBSTITUTE(Answers!B1115,CHAR(10),\"\"))","v":1},"",{"$f":"LEN(Answers!B1115)","v":0},""]
[{"$f":"1 + LEN(Answers!B1116) - LEN(SUBSTITUTE(Answers!B1116,CHAR(10),\"\"))","v":1},"",{"$f":"LEN(Answers!B1116)","v":0},""]
[{"$f":"1 + LEN(Answers!B1117) - LEN(SUBSTITUTE(Answers!B1117,CHAR(10),\"\"))","v":1},"",{"$f":"LEN(Answers!B1117)","v":0},""]
[{"$f":"1 + LEN(Answers!B1118) - LEN(SUBSTITUTE(Answers!B1118,CHAR(10),\"\"))","v":1},"",{"$f":"LEN(Answers!B1118)","v":0},""]
[{"$f":"1 + LEN(Answers!B1119) - LEN(SUBSTITUTE(Answers!B1119,CHAR(10),\"\"))","v":1},"",{"$f":"LEN(Answers!B1119)","v":0},""]
[{"$f":"1 + LEN(Answers!B1120) - LEN(SUBSTITUTE(Answers!B1120,CHAR(10),\"\"))","v":1},"",{"$f":"LEN(Answers!B1120)","v":0},""]
[{"$f":"1 + LEN(Answers!B1121) - LEN(SUBSTITUTE(Answers!B1121,CHAR(10),\"\"))","v":1},"",{"$f":"LEN(Answers!B1121)","v":0},""]
[{"$f":"1 + LEN(Answers!B1122) - LEN(SUBSTITUTE(Answers!B1122,CHAR(10),\"\"))","v":1},"",{"$f":"LEN(Answers!B1122)","v":0},""]
[{"$f":"1 + LEN(Answers!B1123) - LEN(SUBSTITUTE(Answers!B1123,CHAR(10),\"\"))","v":1},"",{"$f":"LEN(Answers!B1123)","v":0},""]
[{"$f":"1 + LEN(Answers!B1124) - LEN(SUBSTITUTE(Answers!B1124,CHAR(10),\"\"))","v":1},"",{"$f":"LEN(Answers!B1124)","v":0},""]
[{"$f":"1 + LEN(Answers!B1125) - LEN(SUBSTITUTE(Answers!B1125,CHAR(10),\"\"))","v":1},"",{"$f":"LEN(Answers!B1125)","v":0},""]
[{"$f":"1 + LEN(Answers!B1126) - LEN(SUBSTITUTE(Answers!B1126,CHAR(10),\"\"))","v":1},"",{"$f":"LEN(Answers!B1126)","v":0},""]
[{"$f":"1 + LEN(Answers!B1127) - LEN(SUBSTITUTE(Answers!B1127,CHAR(10),\"\"))","v":1},"",{"$f":"LEN(Answers!B1127)","v":0},""]
[{"$f":"1 + LEN(Answers!B1128) - LEN(SUBSTITUTE(Answers!B1128,CHAR(10),\"\"))","v":1},"",{"$f":"LEN(Answers!B1128)","v":0},""]
[{"$f":"1 + LEN(Answers!B1129) - LEN(SUBSTITUTE(Answers!B1129,CHAR(10),\"\"))","v":1},"",{"$f":"LEN(Answers!B1129)","v":0},""]
[{"$f":"1 + LEN(Answers!B1130) - LEN(SUBSTITUTE(Answers!B1130,CHAR(10),\"\"))","v":1},"",{"$f":"LEN(Answers!B1130)","v":0},""]
[{"$f":"1 + LEN(Answers!B1131) - LEN(SUBSTITUTE(Answers!B1131,CHAR(10),\"\"))","v":1},"",{"$f":"LEN(Answers!B1131)","v":0},""]
[{"$f":"1 + LEN(Answers!B1132) - LEN(SUBSTITUTE(Answers!B1132,CHAR(10),\"\"))","v":1},"",{"$f":"LEN(Answers!B1132)","v":0},""]
[{"$f":"1 + LEN(Answers!B1133) - LEN(SUBSTITUTE(Answers!B1133,CHAR(10),\"\"))","v":1},"",{"$f":"LEN(Answers!B1133)","v":0},""]
[{"$f":"1 + LEN(Answers!B1134) - LEN(SUBSTITUTE(Answers!B1134,CHAR(10),\"\"))","v":1},"",{"$f":"LEN(Answers!B1134)","v":0},""]
[{"$f":"1 + LEN(Answers!B1135) - LEN(SUBSTITUTE(Answers!B1135,CHAR(10),\"\"))","v":1},"",{"$f":"LEN(Answers!B1135)","v":0},""]
[{"$f":"1 + LEN(Answers!B1136) - LEN(SUBSTITUTE(Answers!B1136,CHAR(10),\"\"))","v":1},"",{"$f":"LEN(Answers!B1136)","v":0},""]
[{"$f":"1 + LEN(Answers!B1137) - LEN(SUBSTITUTE(Answers!B1137,CHAR(10),\"\"))","v":1},"",{"$f":"LEN(Answers!B1137)","v":0},""]
[{"$f":"1 + LEN(Answers!B1138) - LEN(SUBSTITUTE(Answers!B1138,CHAR(10),\"\"))","v":1},"",{"$f":"LEN(Answers!B1138)","v":0},""]
[{"$f":"1 + LEN(Answers!B1139) - LEN(SUBSTITUTE(Answers!B1139,CHAR(10),\"\"))","v":1},"",{"$f":"LEN(Answers!B1139)","v":0},""]
[{"$f":"1 + LEN(Answers!B1140) - LEN(SUBSTITUTE(Answers!B1140,CHAR(10),\"\"))","v":1},"",{"$f":"LEN(Answers!B1140)","v":0},""]
[{"$f":"1 + LEN(Answers!B1141) - LEN(SUBSTITUTE(Answers!B1141,CHAR(10),\"\"))","v":1},"",{"$f":"LEN(Answers!B1141)","v":0},""]
[{"$f":"1 + LEN(Answers!B1142) - LEN(SUBSTITUTE(Answers!B1142,CHAR(10),\"\"))","v":1},"",{"$f":"LEN(Answers!B1142)","v":0},""]
[{"$f":"1 + LEN(Answers!B1143) - LEN(SUBSTITUTE(Answers!B1143,CHAR(10),\"\"))","v":1},"",{"$f":"LEN(Answers!B1143)","v":0},""]
[{"$f":"1 + LEN(Answers!B1144) - LEN(SUBSTITUTE(Answers!B1144,CHAR(10),\"\"))","v":1},"",{"$f":"LEN(Answers!B1144)","v":0},""]
[{"$f":"1 + LEN(Answers!B1145) - LEN(SUBSTITUTE(Answers!B1145,CHAR(10),\"\"))","v":1},"",{"$f":"LEN(Answers!B1145)","v":0},""]
[{"$f":"1 + LEN(Answers!B1146) - LEN(SUBSTITUTE(Answers!B1146,CHAR(10),\"\"))","v":1},"",{"$f":"LEN(Answers!B1146)","v":0},""]
[{"$f":"1 + LEN(Answers!B1147) - LEN(SUBSTITUTE(Answers!B1147,CHAR(10),\"\"))","v":1},"",{"$f":"LEN(Answers!B1147)","v":0},""]
[{"$f":"1 + LEN(Answers!B1148) - LEN(SUBSTITUTE(Answers!B1148,CHAR(10),\"\"))","v":1},"",{"$f":"LEN(Answers!B1148)","v":0},""]
[{"$f":"1 + LEN(Answers!B1149) - LEN(SUBSTITUTE(Answers!B1149,CHAR(10),\"\"))","v":1},"",{"$f":"LEN(Answers!B1149)","v":0},""]
[{"$f":"1 + LEN(Answers!B1150) - LEN(SUBSTITUTE(Answers!B1150,CHAR(10),\"\"))","v":1},"",{"$f":"LEN(Answers!B1150)","v":0},""]
[{"$f":"1 + LEN(Answers!B1151) - LEN(SUBSTITUTE(Answers!B1151,CHAR(10),\"\"))","v":1},"",{"$f":"LEN(Answers!B1151)","v":0},""]
[{"$f":"1 + LEN(Answers!B1152) - LEN(SUBSTITUTE(Answers!B1152,CHAR(10),\"\"))","v":1},"",{"$f":"LEN(Answers!B1152)","v":0},""]
[{"$f":"1 + LEN(Answers!B1153) - LEN(SUBSTITUTE(Answers!B1153,CHAR(10),\"\"))","v":1},"",{"$f":"LEN(Answers!B1153)","v":0},""]
[{"$f":"1 + LEN(Answers!B1154) - LEN(SUBSTITUTE(Answers!B1154,CHAR(10),\"\"))","v":1},"",{"$f":"LEN(Answers!B1154)","v":0},""]
[{"$f":"1 + LEN(Answers!B1155) - LEN(SUBSTITUTE(Answers!B1155,CHAR(10),\"\"))","v":1},{"$f":"IF(A1156>4,\"alert\",\"\")","v":""},{"$f":"LEN(Answers!B1155)","v":0},{"$f":"IF(C1156>120,\"alert\",\"\")","v":""}]
[{"$f":"1 + LEN(Answers!B1156) - LEN(SUBSTITUTE(Answers!B1156,CHAR(10),\"\"))","v":1},"",{"$f":"LEN(Answers!B1156)","v":0},""]
[{"$f":"1 + LEN(Answers!B1157) - LEN(SUBSTITUTE(Answers!B1157,CHAR(10),\"\"))","v":1},"",{"$f":"LEN(Answers!B1157)","v":0},""]
[{"$f":"1 + LEN(Answers!B1158) - LEN(SUBSTITUTE(Answers!B1158,CHAR(10),\"\"))","v":1},"",{"$f":"LEN(Answers!B1158)","v":0},""]
[{"$f":"1 + LEN(Answers!B1159) - LEN(SUBSTITUTE(Answers!B1159,CHAR(10),\"\"))","v":1},"",{"$f":"LEN(Answers!B1159)","v":0},""]
[{"$f":"1 + LEN(Answers!B1160) - LEN(SUBSTITUTE(Answers!B1160,CHAR(10),\"\"))","v":1},"",{"$f":"LEN(Answers!B1160)","v":0},""]
[{"$f":"1 + LEN(Answers!B1161) - LEN(SUBSTITUTE(Answers!B1161,CHAR(10),\"\"))","v":1},"",{"$f":"LEN(Answers!B1161)","v":0},""]
[{"$f":"1 + LEN(Answers!B1162) - LEN(SUBSTITUTE(Answers!B1162,CHAR(10),\"\"))","v":1},"",{"$f":"LEN(Answers!B1162)","v":0},""]
[{"$f":"1 + LEN(Answers!B1163) - LEN(SUBSTITUTE(Answers!B1163,CHAR(10),\"\"))","v":1},"",{"$f":"LEN(Answers!B1163)","v":0},""]
[{"$f":"1 + LEN(Answers!B1164) - LEN(SUBSTITUTE(Answers!B1164,CHAR(10),\"\"))","v":1},"",{"$f":"LEN(Answers!B1164)","v":0},""]
[{"$f":"1 + LEN(Answers!B1165) - LEN(SUBSTITUTE(Answers!B1165,CHAR(10),\"\"))","v":1},"",{"$f":"LEN(Answers!B1165)","v":0},""]
[{"$f":"1 + LEN(Answers!B1166) - LEN(SUBSTITUTE(Answers!B1166,CHAR(10),\"\"))","v":1},"",{"$f":"LEN(Answers!B1166)","v":0},""]
[{"$f":"1 + LEN(Answers!B1167) - LEN(SUBSTITUTE(Answers!B1167,CHAR(10),\"\"))","v":1},"",{"$f":"LEN(Answers!B1167)","v":0},""]
[{"$f":"1 + LEN(Answers!B1168) - LEN(SUBSTITUTE(Answers!B1168,CHAR(10),\"\"))","v":1},"",{"$f":"LEN(Answers!B1168)","v":0},""]
[{"$f":"1 + LEN(Answers!B1169) - LEN(SUBSTITUTE(Answers!B1169,CHAR(10),\"\"))","v":1},"",{"$f":"LEN(Answers!B1169)","v":0},""]
[{"$f":"1 + LEN(Answers!B1170) - LEN(SUBSTITUTE(Answers!B1170,CHAR(10),\"\"))","v":1},"",{"$f":"LEN(Answers!B1170)","v":0},""]
[{"$f":"1 + LEN(Answers!B1171) - LEN(SUBSTITUTE(Answers!B1171,CHAR(10),\"\"))","v":1},"",{"$f":"LEN(Answers!B1171)","v":0},""]
[{"$f":"1 + LEN(Answers!B1172) - LEN(SUBSTITUTE(Answers!B1172,CHAR(10),\"\"))","v":1},"",{"$f":"LEN(Answers!B1172)","v":0},""]
[{"$f":"1 + LEN(Answers!B1173) - LEN(SUBSTITUTE(Answers!B1173,CHAR(10),\"\"))","v":1},"",{"$f":"LEN(Answers!B1173)","v":0},""]
[{"$f":"1 + LEN(Answers!B1174) - LEN(SUBSTITUTE(Answers!B1174,CHAR(10),\"\"))","v":1},"",{"$f":"LEN(Answers!B1174)","v":0},""]
[{"$f":"1 + LEN(Answers!B1175) - LEN(SUBSTITUTE(Answers!B1175,CHAR(10),\"\"))","v":1},"",{"$f":"LEN(Answers!B1175)","v":0},""]
[{"$f":"1 + LEN(Answers!B1176) - LEN(SUBSTITUTE(Answers!B1176,CHAR(10),\"\"))","v":1},"",{"$f":"LEN(Answers!B1176)","v":0},""]
[{"$f":"1 + LEN(Answers!B1177) - LEN(SUBSTITUTE(Answers!B1177,CHAR(10),\"\"))","v":1},"",{"$f":"LEN(Answers!B1177)","v":0},""]
[{"$f":"1 + LEN(Answers!B1178) - LEN(SUBSTITUTE(Answers!B1178,CHAR(10),\"\"))","v":1},"",{"$f":"LEN(Answers!B1178)","v":0},""]
[{"$f":"1 + LEN(Answers!B1179) - LEN(SUBSTITUTE(Answers!B1179,CHAR(10),\"\"))","v":1},"",{"$f":"LEN(Answers!B1179)","v":0},""]
[{"$f":"1 + LEN(Answers!B1180) - LEN(SUBSTITUTE(Answers!B1180,CHAR(10),\"\"))","v":1},"",{"$f":"LEN(Answers!B1180)","v":0},""]
[{"$f":"1 + LEN(Answers!B1181) - LEN(SUBSTITUTE(Answers!B1181,CHAR(10),\"\"))","v":1},"",{"$f":"LEN(Answers!B1181)","v":0},""]
[{"$f":"1 + LEN(Answers!B1182) - LEN(SUBSTITUTE(Answers!B1182,CHAR(10),\"\"))","v":1},"",{"$f":"LEN(Answers!B1182)","v":0},""]
[{"$f":"1 + LEN(Answers!B1183) - LEN(SUBSTITUTE(Answers!B1183,CHAR(10),\"\"))","v":1},"",{"$f":"LEN(Answers!B1183)","v":0},""]
[{"$f":"1 + LEN(Answers!B1184) - LEN(SUBSTITUTE(Answers!B1184,CHAR(10),\"\"))","v":1},"",{"$f":"LEN(Answers!B1184)","v":0},""]
[{"$f":"1 + LEN(Answers!B1185) - LEN(SUBSTITUTE(Answers!B1185,CHAR(10),\"\"))","v":1},"",{"$f":"LEN(Answers!B1185)","v":0},""]
[{"$f":"1 + LEN(Answers!B1186) - LEN(SUBSTITUTE(Answers!B1186,CHAR(10),\"\"))","v":1},"",{"$f":"LEN(Answers!B1186)","v":0},""]
[{"$f":"1 + LEN(Answers!B1187) - LEN(SUBSTITUTE(Answers!B1187,CHAR(10),\"\"))","v":1},"",{"$f":"LEN(Answers!B1187)","v":0},""]
[{"$f":"1 + LEN(Answers!B1188) - LEN(SUBSTITUTE(Answers!B1188,CHAR(10),\"\"))","v":1},"",{"$f":"LEN(Answers!B1188)","v":0},""]
[{"$f":"1 + LEN(Answers!B1189) - LEN(SUBSTITUTE(Answers!B1189,CHAR(10),\"\"))","v":1},"",{"$f":"LEN(Answers!B1189)","v":0},""]
[{"$f":"1 + LEN(Answers!B1190) - LEN(SUBSTITUTE(Answers!B1190,CHAR(10),\"\"))","v":1},"",{"$f":"LEN(Answers!B1190)","v":0},""]
[{"$f":"1 + LEN(Answers!B1191) - LEN(SUBSTITUTE(Answers!B1191,CHAR(10),\"\"))","v":1},"",{"$f":"LEN(Answers!B1191)","v":0},""]
[{"$f":"1 + LEN(Answers!B1192) - LEN(SUBSTITUTE(Answers!B1192,CHAR(10),\"\"))","v":1},"",{"$f":"LEN(Answers!B1192)","v":0},""]
[{"$f":"1 + LEN(Answers!B1193) - LEN(SUBSTITUTE(Answers!B1193,CHAR(10),\"\"))","v":1},"",{"$f":"LEN(Answers!B1193)","v":0},""]
[{"$f":"1 + LEN(Answers!B1194) - LEN(SUBSTITUTE(Answers!B1194,CHAR(10),\"\"))","v":1},"",{"$f":"LEN(Answers!B1194)","v":0},""]
[{"$f":"1 + LEN(Answers!B1195) - LEN(SUBSTITUTE(Answers!B1195,CHAR(10),\"\"))","v":1},"",{"$f":"LEN(Answers!B1195)","v":0},""]
[{"$f":"1 + LEN(Answers!B1196) - LEN(SUBSTITUTE(Answers!B1196,CHAR(10),\"\"))","v":1},"",{"$f":"LEN(Answers!B1196)","v":0},""]
[{"$f":"1 + LEN(Answers!B1197) - LEN(SUBSTITUTE(Answers!B1197,CHAR(10),\"\"))","v":1},"",{"$f":"LEN(Answers!B1197)","v":0},""]
[{"$f":"1 + LEN(Answers!B1198) - LEN(SUBSTITUTE(Answers!B1198,CHAR(10),\"\"))","v":1},"",{"$f":"LEN(Answers!B1198)","v":0},""]
[{"$f":"1 + LEN(Answers!B1199) - LEN(SUBSTITUTE(Answers!B1199,CHAR(10),\"\"))","v":1},"",{"$f":"LEN(Answers!B1199)","v":0},""]
[{"$f":"1 + LEN(Answers!B1200) - LEN(SUBSTITUTE(Answers!B1200,CHAR(10),\"\"))","v":1},"",{"$f":"LEN(Answers!B1200)","v":0},""]
[{"$f":"1 + LEN(Answers!B1201) - LEN(SUBSTITUTE(Answers!B1201,CHAR(10),\"\"))","v":1},"",{"$f":"LEN(Answers!B1201)","v":0},""]
[{"$f":"1 + LEN(Answers!B1202) - LEN(SUBSTITUTE(Answers!B1202,CHAR(10),\"\"))","v":1},"",{"$f":"LEN(Answers!B1202)","v":0},""]
[{"$f":"1 + LEN(Answers!B1203) - LEN(SUBSTITUTE(Answers!B1203,CHAR(10),\"\"))","v":1},"",{"$f":"LEN(Answers!B1203)","v":0},""]
[{"$f":"1 + LEN(Answers!B1204) - LEN(SUBSTITUTE(Answers!B1204,CHAR(10),\"\"))","v":1},"",{"$f":"LEN(Answers!B1204)","v":0},""]
[{"$f":"1 + LEN(Answers!B1205) - LEN(SUBSTITUTE(Answers!B1205,CHAR(10),\"\"))","v":1},"",{"$f":"LEN(Answers!B1205)","v":0},""]
[{"$f":"1 + LEN(Answers!B1206) - LEN(SUBSTITUTE(Answers!B1206,CHAR(10),\"\"))","v":1},"",{"$f":"LEN(Answers!B1206)","v":0},""]
[{"$f":"1 + LEN(Answers!B1207) - LEN(SUBSTITUTE(Answers!B1207,CHAR(10),\"\"))","v":1},"",{"$f":"LEN(Answers!B1207)","v":0},""]
[{"$f":"1 + LEN(Answers!B1208) - LEN(SUBSTITUTE(Answers!B1208,CHAR(10),\"\"))","v":1},"",{"$f":"LEN(Answers!B1208)","v":0},""]
[{"$f":"1 + LEN(Answers!B1209) - LEN(SUBSTITUTE(Answers!B1209,CHAR(10),\"\"))","v":1},"",{"$f":"LEN(Answers!B1209)","v":0},""]
[{"$f":"1 + LEN(Answers!B1210) - LEN(SUBSTITUTE(Answers!B1210,CHAR(10),\"\"))","v":1},"",{"$f":"LEN(Answers!B1210)","v":0},""]
[{"$f":"1 + LEN(Answers!B1211) - LEN(SUBSTITUTE(Answers!B1211,CHAR(10),\"\"))","v":1},"",{"$f":"LEN(Answers!B1211)","v":0},""]
[{"$f":"1 + LEN(Answers!B1212) - LEN(SUBSTITUTE(Answers!B1212,CHAR(10),\"\"))","v":1},"",{"$f":"LEN(Answers!B1212)","v":0},""]
[{"$f":"1 + LEN(Answers!B1213) - LEN(SUBSTITUTE(Answers!B1213,CHAR(10),\"\"))","v":1},"",{"$f":"LEN(Answers!B1213)","v":0},""]
[{"$f":"1 + LEN(Answers!B1214) - LEN(SUBSTITUTE(Answers!B1214,CHAR(10),\"\"))","v":1},"",{"$f":"LEN(Answers!B1214)","v":0},""]
[{"$f":"1 + LEN(Answers!B1215) - LEN(SUBSTITUTE(Answers!B1215,CHAR(10),\"\"))","v":1},"",{"$f":"LEN(Answers!B1215)","v":0},""]
[{"$f":"1 + LEN(Answers!B1216) - LEN(SUBSTITUTE(Answers!B1216,CHAR(10),\"\"))","v":1},"",{"$f":"LEN(Answers!B1216)","v":0},""]
[{"$f":"1 + LEN(Answers!B1217) - LEN(SUBSTITUTE(Answers!B1217,CHAR(10),\"\"))","v":1},"",{"$f":"LEN(Answers!B1217)","v":0},""]
[{"$f":"1 + LEN(Answers!B1218) - LEN(SUBSTITUTE(Answers!B1218,CHAR(10),\"\"))","v":1},"",{"$f":"LEN(Answers!B1218)","v":0},""]
[{"$f":"1 + LEN(Answers!B1219) - LEN(SUBSTITUTE(Answers!B1219,CHAR(10),\"\"))","v":1},{"$f":"IF(A1220>4,\"alert\",\"\")","v":""},{"$f":"LEN(Answers!B1219)","v":0},{"$f":"IF(C1220>120,\"alert\",\"\")","v":""}]
[{"$f":"1 + LEN(Answers!B1220) - LEN(SUBSTITUTE(Answers!B1220,CHAR(10),\"\"))","v":1},"",{"$f":"LEN(Answers!B1220)","v":0},""]
[{"$f":"1 + LEN(Answers!B1221) - LEN(SUBSTITUTE(Answers!B1221,CHAR(10),\"\"))","v":1},"",{"$f":"LEN(Answers!B1221)","v":0},""]
[{"$f":"1 + LEN(Answers!B1222) - LEN(SUBSTITUTE(Answers!B1222,CHAR(10),\"\"))","v":1},"",{"$f":"LEN(Answers!B1222)","v":0},""]
[{"$f":"1 + LEN(Answers!B1223) - LEN(SUBSTITUTE(Answers!B1223,CHAR(10),\"\"))","v":1},"",{"$f":"LEN(Answers!B1223)","v":0},""]
[{"$f":"1 + LEN(Answers!B1224) - LEN(SUBSTITUTE(Answers!B1224,CHAR(10),\"\"))","v":1},"",{"$f":"LEN(Answers!B1224)","v":0},""]
[{"$f":"1 + LEN(Answers!B1225) - LEN(SUBSTITUTE(Answers!B1225,CHAR(10),\"\"))","v":1},"",{"$f":"LEN(Answers!B1225)","v":0},""]
[{"$f":"1 + LEN(Answers!B1226) - LEN(SUBSTITUTE(Answers!B1226,CHAR(10),\"\"))","v":1},"",{"$f":"LEN(Answers!B1226)","v":0},""]
[{"$f":"1 + LEN(Answers!B1227) - LEN(SUBSTITUTE(Answers!B1227,CHAR(10),\"\"))","v":1},"",{"$f":"LEN(Answers!B1227)","v":0},""]
[{"$f":"1 + LEN(Answers!B1228) - LEN(SUBSTITUTE(Answers!B1228,CHAR(10),\"\"))","v":1},"",{"$f":"LEN(Answers!B1228)","v":0},""]
[{"$f":"1 + LEN(Answers!B1229) - LEN(SUBSTITUTE(Answers!B1229,CHAR(10),\"\"))","v":1},"",{"$f":"LEN(Answers!B1229)","v":0},""]
[{"$f":"1 + LEN(Answers!B1230) - LEN(SUBSTITUTE(Answers!B1230,CHAR(10),\"\"))","v":1},"",{"$f":"LEN(Answers!B1230)","v":0},""]
[{"$f":"1 + LEN(Answers!B1231) - LEN(SUBSTITUTE(Answers!B1231,CHAR(10),\"\"))","v":1},"",{"$f":"LEN(Answers!B1231)","v":0},""]
[{"$f":"1 + LEN(Answers!B1232) - LEN(SUBSTITUTE(Answers!B1232,CHAR(10),\"\"))","v":1},"",{"$f":"LEN(Answers!B1232)","v":0},""]
[{"$f":"1 + LEN(Answers!B1233) - LEN(SUBSTITUTE(Answers!B1233,CHAR(10),\"\"))","v":1},"",{"$f":"LEN(Answers!B1233)","v":0},""]
[{"$f":"1 + LEN(Answers!B1234) - LEN(SUBSTITUTE(Answers!B1234,CHAR(10),\"\"))","v":1},"",{"$f":"LEN(Answers!B1234)","v":0},""]
[{"$f":"1 + LEN(Answers!B1235) - LEN(SUBSTITUTE(Answers!B1235,CHAR(10),\"\"))","v":1},"",{"$f":"LEN(Answers!B1235)","v":0},""]
[{"$f":"1 + LEN(Answers!B1236) - LEN(SUBSTITUTE(Answers!B1236,CHAR(10),\"\"))","v":1},"",{"$f":"LEN(Answers!B1236)","v":0},""]
[{"$f":"1 + LEN(Answers!B1237) - LEN(SUBSTITUTE(Answers!B1237,CHAR(10),\"\"))","v":1},"",{"$f":"LEN(Answers!B1237)","v":0},""]
[{"$f":"1 + LEN(Answers!B1238) - LEN(SUBSTITUTE(Answers!B1238,CHAR(10),\"\"))","v":1},"",{"$f":"LEN(Answers!B1238)","v":0},""]
[{"$f":"1 + LEN(Answers!B1239) - LEN(SUBSTITUTE(Answers!B1239,CHAR(10),\"\"))","v":1},"",{"$f":"LEN(Answers!B1239)","v":0},""]
[{"$f":"1 + LEN(Answers!B1240) - LEN(SUBSTITUTE(Answers!B1240,CHAR(10),\"\"))","v":1},"",{"$f":"LEN(Answers!B1240)","v":0},""]
[{"$f":"1 + LEN(Answers!B1241) - LEN(SUBSTITUTE(Answers!B1241,CHAR(10),\"\"))","v":1},"",{"$f":"LEN(Answers!B1241)","v":0},""]
[{"$f":"1 + LEN(Answers!B1242) - LEN(SUBSTITUTE(Answers!B1242,CHAR(10),\"\"))","v":1},"",{"$f":"LEN(Answers!B1242)","v":0},""]
[{"$f":"1 + LEN(Answers!B1243) - LEN(SUBSTITUTE(Answers!B1243,CHAR(10),\"\"))","v":1},"",{"$f":"LEN(Answers!B1243)","v":0},""]
[{"$f":"1 + LEN(Answers!B1244) - LEN(SUBSTITUTE(Answers!B1244,CHAR(10),\"\"))","v":1},"",{"$f":"LEN(Answers!B1244)","v":0},""]
[{"$f":"1 + LEN(Answers!B1245) - LEN(SUBSTITUTE(Answers!B1245,CHAR(10),\"\"))","v":1},"",{"$f":"LEN(Answers!B1245)","v":0},""]
[{"$f":"1 + LEN(Answers!B1246) - LEN(SUBSTITUTE(Answers!B1246,CHAR(10),\"\"))","v":1},"",{"$f":"LEN(Answers!B1246)","v":0},""]
[{"$f":"1 + LEN(Answers!B1247) - LEN(SUBSTITUTE(Answers!B1247,CHAR(10),\"\"))","v":1},"",{"$f":"LEN(Answers!B1247)","v":0},""]
[{"$f":"1 + LEN(Answers!B1248) - LEN(SUBSTITUTE(Answers!B1248,CHAR(10),\"\"))","v":1},"",{"$f":"LEN(Answers!B1248)","v":0},""]
[{"$f":"1 + LEN(Answers!B1249) - LEN(SUBSTITUTE(Answers!B1249,CHAR(10),\"\"))","v":1},"",{"$f":"LEN(Answers!B1249)","v":0},""]
[{"$f":"1 + LEN(Answers!B1250) - LEN(SUBSTITUTE(Answers!B1250,CHAR(10),\"\"))","v":1},"",{"$f":"LEN(Answers!B1250)","v":0},""]
[{"$f":"1 + LEN(Answers!B1251) - LEN(SUBSTITUTE(Answers!B1251,CHAR(10),\"\"))","v":1},"",{"$f":"LEN(Answers!B1251)","v":0},""]
[{"$f":"1 + LEN(Answers!B1252) - LEN(SUBSTITUTE(Answers!B1252,CHAR(10),\"\"))","v":1},"",{"$f":"LEN(Answers!B1252)","v":0},""]
[{"$f":"1 + LEN(Answers!B1253) - LEN(SUBSTITUTE(Answers!B1253,CHAR(10),\"\"))","v":1},"",{"$f":"LEN(Answers!B1253)","v":0},""]
[{"$f":"1 + LEN(Answers!B1254) - LEN(SUBSTITUTE(Answers!B1254,CHAR(10),\"\"))","v":1},"",{"$f":"LEN(Answers!B1254)","v":0},""]
[{"$f":"1 + LEN(Answers!B1255) - LEN(SUBSTITUTE(Answers!B1255,CHAR(10),\"\"))","v":1},"",{"$f":"LEN(Answers!B1255)","v":0},""]
[{"$f":"1 + LEN(Answers!B1256) - LEN(SUBSTITUTE(Answers!B1256,CHAR(10),\"\"))","v":1},"",{"$f":"LEN(Answers!B1256)","v":0},""]
[{"$f":"1 + LEN(Answers!B1257) - LEN(SUBSTITUTE(Answers!B1257,CHAR(10),\"\"))","v":1},"",{"$f":"LEN(Answers!B1257)","v":0},""]
[{"$f":"1 + LEN(Answers!B1258) - LEN(SUBSTITUTE(Answers!B1258,CHAR(10),\"\"))","v":1},"",{"$f":"LEN(Answers!B1258)","v":0},""]
[{"$f":"1 + LEN(Answers!B1259) - LEN(SUBSTITUTE(Answers!B1259,CHAR(10),\"\"))","v":1},"",{"$f":"LEN(Answers!B1259)","v":0},""]
[{"$f":"1 + LEN(Answers!B1260) - LEN(SUBSTITUTE(Answers!B1260,CHAR(10),\"\"))","v":1},"",{"$f":"LEN(Answers!B1260)","v":0},""]
[{"$f":"1 + LEN(Answers!B1261) - LEN(SUBSTITUTE(Answers!B1261,CHAR(10),\"\"))","v":1},"",{"$f":"LEN(Answers!B1261)","v":0},""]
[{"$f":"1 + LEN(Answers!B1262) - LEN(SUBSTITUTE(Answers!B1262,CHAR(10),\"\"))","v":1},"",{"$f":"LEN(Answers!B1262)","v":0},""]
[{"$f":"1 + LEN(Answers!B1263) - LEN(SUBSTITUTE(Answers!B1263,CHAR(10),\"\"))","v":1},"",{"$f":"LEN(Answers!B1263)","v":0},""]
[{"$f":"1 + LEN(Answers!B1264) - LEN(SUBSTITUTE(Answers!B1264,CHAR(10),\"\"))","v":1},"",{"$f":"LEN(Answers!B1264)","v":0},""]
[{"$f":"1 + LEN(Answers!B1265) - LEN(SUBSTITUTE(Answers!B1265,CHAR(10),\"\"))","v":1},"",{"$f":"LEN(Answers!B1265)","v":0},""]
[{"$f":"1 + LEN(Answers!B1266) - LEN(SUBSTITUTE(Answers!B1266,CHAR(10),\"\"))","v":1},"",{"$f":"LEN(Answers!B1266)","v":0},""]
[{"$f":"1 + LEN(Answers!B1267) - LEN(SUBSTITUTE(Answers!B1267,CHAR(10),\"\"))","v":1},"",{"$f":"LEN(Answers!B1267)","v":0},""]
[{"$f":"1 + LEN(Answers!B1268) - LEN(SUBSTITUTE(Answers!B1268,CHAR(10),\"\"))","v":1},"",{"$f":"LEN(Answers!B1268)","v":0},""]
[{"$f":"1 + LEN(Answers!B1269) - LEN(SUBSTITUTE(Answers!B1269,CHAR(10),\"\"))","v":1},"",{"$f":"LEN(Answers!B1269)","v":0},""]
[{"$f":"1 + LEN(Answers!B1270) - LEN(SUBSTITUTE(Answers!B1270,CHAR(10),\"\"))","v":1},"",{"$f":"LEN(Answers!B1270)","v":0},""]
[{"$f":"1 + LEN(Answers!B1271) - LEN(SUBSTITUTE(Answers!B1271,CHAR(10),\"\"))","v":1},"",{"$f":"LEN(Answers!B1271)","v":0},""]
[{"$f":"1 + LEN(Answers!B1272) - LEN(SUBSTITUTE(Answers!B1272,CHAR(10),\"\"))","v":1},"",{"$f":"LEN(Answers!B1272)","v":0},""]
[{"$f":"1 + LEN(Answers!B1273) - LEN(SUBSTITUTE(Answers!B1273,CHAR(10),\"\"))","v":1},"",{"$f":"LEN(Answers!B1273)","v":0},""]
[{"$f":"1 + LEN(Answers!B1274) - LEN(SUBSTITUTE(Answers!B1274,CHAR(10),\"\"))","v":1},"",{"$f":"LEN(Answers!B1274)","v":0},""]
[{"$f":"1 + LEN(Answers!B1275) - LEN(SUBSTITUTE(Answers!B1275,CHAR(10),\"\"))","v":1},"",{"$f":"LEN(Answers!B1275)","v":0},""]
[{"$f":"1 + LEN(Answers!B1276) - LEN(SUBSTITUTE(Answers!B1276,CHAR(10),\"\"))","v":1},"",{"$f":"LEN(Answers!B1276)","v":0},""]
[{"$f":"1 + LEN(Answers!B1277) - LEN(SUBSTITUTE(Answers!B1277,CHAR(10),\"\"))","v":1},"",{"$f":"LEN(Answers!B1277)","v":0},""]
[{"$f":"1 + LEN(Answers!B1278) - LEN(SUBSTITUTE(Answers!B1278,CHAR(10),\"\"))","v":1},"",{"$f":"LEN(Answers!B1278)","v":0},""]
[{"$f":"1 + LEN(Answers!B1279) - LEN(SUBSTITUTE(Answers!B1279,CHAR(10),\"\"))","v":1},"",{"$f":"LEN(Answers!B1279)","v":0},""]
[{"$f":"1 + LEN(Answers!B1280) - LEN(SUBSTITUTE(Answers!B1280,CHAR(10),\"\"))","v":1},"",{"$f":"LEN(Answers!B1280)","v":0},""]
[{"$f":"1 + LEN(Answers!B1281) - LEN(SUBSTITUTE(Answers!B1281,CHAR(10),\"\"))","v":1},"",{"$f":"LEN(Answers!B1281)","v":0},""]
[{"$f":"1 + LEN(Answers!B1282) - LEN(SUBSTITUTE(Answers!B1282,CHAR(10),\"\"))","v":1},"",{"$f":"LEN(Answers!B1282)","v":0},""]
[{"$f":"1 + LEN(Answers!B1283) - LEN(SUBSTITUTE(Answers!B1283,CHAR(10),\"\"))","v":1},{"$f":"IF(A1284>4,\"alert\",\"\")","v":""},{"$f":"LEN(Answers!B1283)","v":0},{"$f":"IF(C1284>120,\"alert\",\"\")","v":""}]
[{"$f":"1 + LEN(Answers!B1284) - LEN(SUBSTITUTE(Answers!B1284,CHAR(10),\"\"))","v":1},"",{"$f":"LEN(Answers!B1284)","v":0},""]
[{"$f":"1 + LEN(Answers!B1285) - LEN(SUBSTITUTE(Answers!B1285,CHAR(10),\"\"))","v":1},"",{"$f":"LEN(Answers!B1285)","v":0},""]
[{"$f":"1 + LEN(Answers!B1286) - LEN(SUBSTITUTE(Answers!B1286,CHAR(10),\"\"))","v":1},"",{"$f":"LEN(Answers!B1286)","v":0},""]
[{"$f":"1 + LEN(Answers!B1287) - LEN(SUBSTITUTE(Answers!B1287,CHAR(10),\"\"))","v":1},"",{"$f":"LEN(Answers!B1287)","v":0},""]
[{"$f":"1 + LEN(Answers!B1288) - LEN(SUBSTITUTE(Answers!B1288,CHAR(10),\"\"))","v":1},"",{"$f":"LEN(Answers!B1288)","v":0},""]
[{"$f":"1 + LEN(Answers!B1289) - LEN(SUBSTITUTE(Answers!B1289,CHAR(10),\"\"))","v":1},"",{"$f":"LEN(Answers!B1289)","v":0},""]
[{"$f":"1 + LEN(Answers!B1290) - LEN(SUBSTITUTE(Answers!B1290,CHAR(10),\"\"))","v":1},"",{"$f":"LEN(Answers!B1290)","v":0},""]
[{"$f":"1 + LEN(Answers!B1291) - LEN(SUBSTITUTE(Answers!B1291,CHAR(10),\"\"))","v":1},"",{"$f":"LEN(Answers!B1291)","v":0},""]
[{"$f":"1 + LEN(Answers!B1292) - LEN(SUBSTITUTE(Answers!B1292,CHAR(10),\"\"))","v":1},"",{"$f":"LEN(Answers!B1292)","v":0},""]
[{"$f":"1 + LEN(Answers!B1293) - LEN(SUBSTITUTE(Answers!B1293,CHAR(10),\"\"))","v":1},"",{"$f":"LEN(Answers!B1293)","v":0},""]
[{"$f":"1 + LEN(Answers!B1294) - LEN(SUBSTITUTE(Answers!B1294,CHAR(10),\"\"))","v":1},"",{"$f":"LEN(Answers!B1294)","v":0},""]
[{"$f":"1 + LEN(Answers!B1295) - LEN(SUBSTITUTE(Answers!B1295,CHAR(10),\"\"))","v":1},"",{"$f":"LEN(Answers!B1295)","v":0},""]
[{"$f":"1 + LEN(Answers!B1296) - LEN(SUBSTITUTE(Answers!B1296,CHAR(10),\"\"))","v":1},"",{"$f":"LEN(Answers!B1296)","v":0},""]
[{"$f":"1 + LEN(Answers!B1297) - LEN(SUBSTITUTE(Answers!B1297,CHAR(10),\"\"))","v":1},"",{"$f":"LEN(Answers!B1297)","v":0},""]
[{"$f":"1 + LEN(Answers!B1298) - LEN(SUBSTITUTE(Answers!B1298,CHAR(10),\"\"))","v":1},"",{"$f":"LEN(Answers!B1298)","v":0},""]
[{"$f":"1 + LEN(Answers!B1299) - LEN(SUBSTITUTE(Answers!B1299,CHAR(10),\"\"))","v":1},"",{"$f":"LEN(Answers!B1299)","v":0},""]
[{"$f":"1 + LEN(Answers!B1300) - LEN(SUBSTITUTE(Answers!B1300,CHAR(10),\"\"))","v":1},"",{"$f":"LEN(Answers!B1300)","v":0},""]
[{"$f":"1 + LEN(Answers!B1301) - LEN(SUBSTITUTE(Answers!B1301,CHAR(10),\"\"))","v":1},"",{"$f":"LEN(Answers!B1301)","v":0},""]
[{"$f":"1 + LEN(Answers!B1302) - LEN(SUBSTITUTE(Answers!B1302,CHAR(10),\"\"))","v":1},"",{"$f":"LEN(Answers!B1302)","v":0},""]
[{"$f":"1 + LEN(Answers!B1303) - LEN(SUBSTITUTE(Answers!B1303,CHAR(10),\"\"))","v":1},"",{"$f":"LEN(Answers!B1303)","v":0},""]
[{"$f":"1 + LEN(Answers!B1304) - LEN(SUBSTITUTE(Answers!B1304,CHAR(10),\"\"))","v":1},"",{"$f":"LEN(Answers!B1304)","v":0},""]
[{"$f":"1 + LEN(Answers!B1305) - LEN(SUBSTITUTE(Answers!B1305,CHAR(10),\"\"))","v":1},"",{"$f":"LEN(Answers!B1305)","v":0},""]
[{"$f":"1 + LEN(Answers!B1306) - LEN(SUBSTITUTE(Answers!B1306,CHAR(10),\"\"))","v":1},"",{"$f":"LEN(Answers!B1306)","v":0},""]
[{"$f":"1 + LEN(Answers!B1307) - LEN(SUBSTITUTE(Answers!B1307,CHAR(10),\"\"))","v":1},"",{"$f":"LEN(Answers!B1307)","v":0},""]
[{"$f":"1 + LEN(Answers!B1308) - LEN(SUBSTITUTE(Answers!B1308,CHAR(10),\"\"))","v":1},"",{"$f":"LEN(Answers!B1308)","v":0},""]
[{"$f":"1 + LEN(Answers!B1309) - LEN(SUBSTITUTE(Answers!B1309,CHAR(10),\"\"))","v":1},"",{"$f":"LEN(Answers!B1309)","v":0},""]
[{"$f":"1 + LEN(Answers!B1310) - LEN(SUBSTITUTE(Answers!B1310,CHAR(10),\"\"))","v":1},"",{"$f":"LEN(Answers!B1310)","v":0},""]
[{"$f":"1 + LEN(Answers!B1311) - LEN(SUBSTITUTE(Answers!B1311,CHAR(10),\"\"))","v":1},"",{"$f":"LEN(Answers!B1311)","v":0},""]
[{"$f":"1 + LEN(Answers!B1312) - LEN(SUBSTITUTE(Answers!B1312,CHAR(10),\"\"))","v":1},"",{"$f":"LEN(Answers!B1312)","v":0},""]
[{"$f":"1 + LEN(Answers!B1313) - LEN(SUBSTITUTE(Answers!B1313,CHAR(10),\"\"))","v":1},"",{"$f":"LEN(Answers!B1313)","v":0},""]
[{"$f":"1 + LEN(Answers!B1314) - LEN(SUBSTITUTE(Answers!B1314,CHAR(10),\"\"))","v":1},"",{"$f":"LEN(Answers!B1314)","v":0},""]
[{"$f":"1 + LEN(Answers!B1315) - LEN(SUBSTITUTE(Answers!B1315,CHAR(10),\"\"))","v":1},"",{"$f":"LEN(Answers!B1315)","v":0},""]
[{"$f":"1 + LEN(Answers!B1316) - LEN(SUBSTITUTE(Answers!B1316,CHAR(10),\"\"))","v":1},"",{"$f":"LEN(Answers!B1316)","v":0},""]
[{"$f":"1 + LEN(Answers!B1317) - LEN(SUBSTITUTE(Answers!B1317,CHAR(10),\"\"))","v":1},"",{"$f":"LEN(Answers!B1317)","v":0},""]
[{"$f":"1 + LEN(Answers!B1318) - LEN(SUBSTITUTE(Answers!B1318,CHAR(10),\"\"))","v":1},"",{"$f":"LEN(Answers!B1318)","v":0},""]
[{"$f":"1 + LEN(Answers!B1319) - LEN(SUBSTITUTE(Answers!B1319,CHAR(10),\"\"))","v":1},"",{"$f":"LEN(Answers!B1319)","v":0},""]
[{"$f":"1 + LEN(Answers!B1320) - LEN(SUBSTITUTE(Answers!B1320,CHAR(10),\"\"))","v":1},"",{"$f":"LEN(Answers!B1320)","v":0},""]
[{"$f":"1 + LEN(Answers!B1321) - LEN(SUBSTITUTE(Answers!B1321,CHAR(10),\"\"))","v":1},"",{"$f":"LEN(Answers!B1321)","v":0},""]
[{"$f":"1 + LEN(Answers!B1322) - LEN(SUBSTITUTE(Answers!B1322,CHAR(10),\"\"))","v":1},"",{"$f":"LEN(Answers!B1322)","v":0},""]
[{"$f":"1 + LEN(Answers!B1323) - LEN(SUBSTITUTE(Answers!B1323,CHAR(10),\"\"))","v":1},"",{"$f":"LEN(Answers!B1323)","v":0},""]
[{"$f":"1 + LEN(Answers!B1324) - LEN(SUBSTITUTE(Answers!B1324,CHAR(10),\"\"))","v":1},"",{"$f":"LEN(Answers!B1324)","v":0},""]
[{"$f":"1 + LEN(Answers!B1325) - LEN(SUBSTITUTE(Answers!B1325,CHAR(10),\"\"))","v":1},"",{"$f":"LEN(Answers!B1325)","v":0},""]
[{"$f":"1 + LEN(Answers!B1326) - LEN(SUBSTITUTE(Answers!B1326,CHAR(10),\"\"))","v":1},"",{"$f":"LEN(Answers!B1326)","v":0},""]
[{"$f":"1 + LEN(Answers!B1327) - LEN(SUBSTITUTE(Answers!B1327,CHAR(10),\"\"))","v":1},"",{"$f":"LEN(Answers!B1327)","v":0},""]
[{"$f":"1 + LEN(Answers!B1328) - LEN(SUBSTITUTE(Answers!B1328,CHAR(10),\"\"))","v":1},"",{"$f":"LEN(Answers!B1328)","v":0},""]
[{"$f":"1 + LEN(Answers!B1329) - LEN(SUBSTITUTE(Answers!B1329,CHAR(10),\"\"))","v":1},"",{"$f":"LEN(Answers!B1329)","v":0},""]
[{"$f":"1 + LEN(Answers!B1330) - LEN(SUBSTITUTE(Answers!B1330,CHAR(10),\"\"))","v":1},"",{"$f":"LEN(Answers!B1330)","v":0},""]
[{"$f":"1 + LEN(Answers!B1331) - LEN(SUBSTITUTE(Answers!B1331,CHAR(10),\"\"))","v":1},"",{"$f":"LEN(Answers!B1331)","v":0},""]
[{"$f":"1 + LEN(Answers!B1332) - LEN(SUBSTITUTE(Answers!B1332,CHAR(10),\"\"))","v":1},"",{"$f":"LEN(Answers!B1332)","v":0},""]
[{"$f":"1 + LEN(Answers!B1333) - LEN(SUBSTITUTE(Answers!B1333,CHAR(10),\"\"))","v":1},"",{"$f":"LEN(Answers!B1333)","v":0},""]
[{"$f":"1 + LEN(Answers!B1334) - LEN(SUBSTITUTE(Answers!B1334,CHAR(10),\"\"))","v":1},"",{"$f":"LEN(Answers!B1334)","v":0},""]
[{"$f":"1 + LEN(Answers!B1335) - LEN(SUBSTITUTE(Answers!B1335,CHAR(10),\"\"))","v":1},"",{"$f":"LEN(Answers!B1335)","v":0},""]
[{"$f":"1 + LEN(Answers!B1336) - LEN(SUBSTITUTE(Answers!B1336,CHAR(10),\"\"))","v":1},"",{"$f":"LEN(Answers!B1336)","v":0},""]
[{"$f":"1 + LEN(Answers!B1337) - LEN(SUBSTITUTE(Answers!B1337,CHAR(10),\"\"))","v":1},"",{"$f":"LEN(Answers!B1337)","v":0},""]
[{"$f":"1 + LEN(Answers!B1338) - LEN(SUBSTITUTE(Answers!B1338,CHAR(10),\"\"))","v":1},"",{"$f":"LEN(Answers!B1338)","v":0},""]
[{"$f":"1 + LEN(Answers!B1339) - LEN(SUBSTITUTE(Answers!B1339,CHAR(10),\"\"))","v":1},"",{"$f":"LEN(Answers!B1339)","v":0},""]
[{"$f":"1 + LEN(Answers!B1340) - LEN(SUBSTITUTE(Answers!B1340,CHAR(10),\"\"))","v":1},"",{"$f":"LEN(Answers!B1340)","v":0},""]
[{"$f":"1 + LEN(Answers!B1341) - LEN(SUBSTITUTE(Answers!B1341,CHAR(10),\"\"))","v":1},"",{"$f":"LEN(Answers!B1341)","v":0},""]
[{"$f":"1 + LEN(Answers!B1342) - LEN(SUBSTITUTE(Answers!B1342,CHAR(10),\"\"))","v":1},"",{"$f":"LEN(Answers!B1342)","v":0},""]
[{"$f":"1 + LEN(Answers!B1343) - LEN(SUBSTITUTE(Answers!B1343,CHAR(10),\"\"))","v":1},"",{"$f":"LEN(Answers!B1343)","v":0},""]
[{"$f":"1 + LEN(Answers!B1344) - LEN(SUBSTITUTE(Answers!B1344,CHAR(10),\"\"))","v":1},"",{"$f":"LEN(Answers!B1344)","v":0},""]
[{"$f":"1 + LEN(Answers!B1345) - LEN(SUBSTITUTE(Answers!B1345,CHAR(10),\"\"))","v":1},"",{"$f":"LEN(Answers!B1345)","v":0},""]
[{"$f":"1 + LEN(Answers!B1346) - LEN(SUBSTITUTE(Answers!B1346,CHAR(10),\"\"))","v":1},"",{"$f":"LEN(Answers!B1346)","v":0},""]
[{"$f":"1 + LEN(Answers!B1347) - LEN(SUBSTITUTE(Answers!B1347,CHAR(10),\"\"))","v":1},{"$f":"IF(A1348>4,\"alert\",\"\")","v":""},{"$f":"LEN(Answers!B1347)","v":0},{"$f":"IF(C1348>120,\"alert\",\"\")","v":""}]
[{"$f":"1 + LEN(Answers!B1348) - LEN(SUBSTITUTE(Answers!B1348,CHAR(10),\"\"))","v":1},"",{"$f":"LEN(Answers!B1348)","v":0},""]
[{"$f":"1 + LEN(Answers!B1349) - LEN(SUBSTITUTE(Answers!B1349,CHAR(10),\"\"))","v":1},"",{"$f":"LEN(Answers!B1349)","v":0},""]
[{"$f":"1 + LEN(Answers!B1350) - LEN(SUBSTITUTE(Answers!B1350,CHAR(10),\"\"))","v":1},"",{"$f":"LEN(Answers!B1350)","v":0},""]
[{"$f":"1 + LEN(Answers!B1351) - LEN(SUBSTITUTE(Answers!B1351,CHAR(10),\"\"))","v":1},"",{"$f":"LEN(Answers!B1351)","v":0},""]
[{"$f":"1 + LEN(Answers!B1352) - LEN(SUBSTITUTE(Answers!B1352,CHAR(10),\"\"))","v":1},"",{"$f":"LEN(Answers!B1352)","v":0},""]
[{"$f":"1 + LEN(Answers!B1353) - LEN(SUBSTITUTE(Answers!B1353,CHAR(10),\"\"))","v":1},"",{"$f":"LEN(Answers!B1353)","v":0},""]
[{"$f":"1 + LEN(Answers!B1354) - LEN(SUBSTITUTE(Answers!B1354,CHAR(10),\"\"))","v":1},"",{"$f":"LEN(Answers!B1354)","v":0},""]
[{"$f":"1 + LEN(Answers!B1355) - LEN(SUBSTITUTE(Answers!B1355,CHAR(10),\"\"))","v":1},"",{"$f":"LEN(Answers!B1355)","v":0},""]
[{"$f":"1 + LEN(Answers!B1356) - LEN(SUBSTITUTE(Answers!B1356,CHAR(10),\"\"))","v":1},"",{"$f":"LEN(Answers!B1356)","v":0},""]
[{"$f":"1 + LEN(Answers!B1357) - LEN(SUBSTITUTE(Answers!B1357,CHAR(10),\"\"))","v":1},"",{"$f":"LEN(Answers!B1357)","v":0},""]
[{"$f":"1 + LEN(Answers!B1358) - LEN(SUBSTITUTE(Answers!B1358,CHAR(10),\"\"))","v":1},"",{"$f":"LEN(Answers!B1358)","v":0},""]
[{"$f":"1 + LEN(Answers!B1359) - LEN(SUBSTITUTE(Answers!B1359,CHAR(10),\"\"))","v":1},"",{"$f":"LEN(Answers!B1359)","v":0},""]
[{"$f":"1 + LEN(Answers!B1360) - LEN(SUBSTITUTE(Answers!B1360,CHAR(10),\"\"))","v":1},"",{"$f":"LEN(Answers!B1360)","v":0},""]
[{"$f":"1 + LEN(Answers!B1361) - LEN(SUBSTITUTE(Answers!B1361,CHAR(10),\"\"))","v":1},"",{"$f":"LEN(Answers!B1361)","v":0},""]
[{"$f":"1 + LEN(Answers!B1362) - LEN(SUBSTITUTE(Answers!B1362,CHAR(10),\"\"))","v":1},"",{"$f":"LEN(Answers!B1362)","v":0},""]
[{"$f":"1 + LEN(Answers!B1363) - LEN(SUBSTITUTE(Answers!B1363,CHAR(10),\"\"))","v":1},"",{"$f":"LEN(Answers!B1363)","v":0},""]
[{"$f":"1 + LEN(Answers!B1364) - LEN(SUBSTITUTE(Answers!B1364,CHAR(10),\"\"))","v":1},"",{"$f":"LEN(Answers!B1364)","v":0},""]
[{"$f":"1 + LEN(Answers!B1365) - LEN(SUBSTITUTE(Answers!B1365,CHAR(10),\"\"))","v":1},"",{"$f":"LEN(Answers!B1365)","v":0},""]
[{"$f":"1 + LEN(Answers!B1366) - LEN(SUBSTITUTE(Answers!B1366,CHAR(10),\"\"))","v":1},"",{"$f":"LEN(Answers!B1366)","v":0},""]
[{"$f":"1 + LEN(Answers!B1367) - LEN(SUBSTITUTE(Answers!B1367,CHAR(10),\"\"))","v":1},"",{"$f":"LEN(Answers!B1367)","v":0},""]
[{"$f":"1 + LEN(Answers!B1368) - LEN(SUBSTITUTE(Answers!B1368,CHAR(10),\"\"))","v":1},"",{"$f":"LEN(Answers!B1368)","v":0},""]
[{"$f":"1 + LEN(Answers!B1369) - LEN(SUBSTITUTE(Answers!B1369,CHAR(10),\"\"))","v":1},"",{"$f":"LEN(Answers!B1369)","v":0},""]
[{"$f":"1 + LEN(Answers!B1370) - LEN(SUBSTITUTE(Answers!B1370,CHAR(10),\"\"))","v":1},"",{"$f":"LEN(Answers!B1370)","v":0},""]
[{"$f":"1 + LEN(Answers!B1371) - LEN(SUBSTITUTE(Answers!B1371,CHAR(10),\"\"))","v":1},"",{"$f":"LEN(Answers!B1371)","v":0},""]
[{"$f":"1 + LEN(Answers!B1372) - LEN(SUBSTITUTE(Answers!B1372,CHAR(10),\"\"))","v":1},"",{"$f":"LEN(Answers!B1372)","v":0},""]
[{"$f":"1 + LEN(Answers!B1373) - LEN(SUBSTITUTE(Answers!B1373,CHAR(10),\"\"))","v":1},"",{"$f":"LEN(Answers!B1373)","v":0},""]
[{"$f":"1 + LEN(Answers!B1374) - LEN(SUBSTITUTE(Answers!B1374,CHAR(10),\"\"))","v":1},"",{"$f":"LEN(Answers!B1374)","v":0},""]
[{"$f":"1 + LEN(Answers!B1375) - LEN(SUBSTITUTE(Answers!B1375,CHAR(10),\"\"))","v":1},"",{"$f":"LEN(Answers!B1375)","v":0},""]
[{"$f":"1 + LEN(Answers!B1376) - LEN(SUBSTITUTE(Answers!B1376,CHAR(10),\"\"))","v":1},"",{"$f":"LEN(Answers!B1376)","v":0},""]
[{"$f":"1 + LEN(Answers!B1377) - LEN(SUBSTITUTE(Answers!B1377,CHAR(10),\"\"))","v":1},"",{"$f":"LEN(Answers!B1377)","v":0},""]
[{"$f":"1 + LEN(Answers!B1378) - LEN(SUBSTITUTE(Answers!B1378,CHAR(10),\"\"))","v":1},"",{"$f":"LEN(Answers!B1378)","v":0},""]
[{"$f":"1 + LEN(Answers!B1379) - LEN(SUBSTITUTE(Answers!B1379,CHAR(10),\"\"))","v":1},"",{"$f":"LEN(Answers!B1379)","v":0},""]
[{"$f":"1 + LEN(Answers!B1380) - LEN(SUBSTITUTE(Answers!B1380,CHAR(10),\"\"))","v":1},"",{"$f":"LEN(Answers!B1380)","v":0},""]
[{"$f":"1 + LEN(Answers!B1381) - LEN(SUBSTITUTE(Answers!B1381,CHAR(10),\"\"))","v":1},"",{"$f":"LEN(Answers!B1381)","v":0},""]
[{"$f":"1 + LEN(Answers!B1382) - LEN(SUBSTITUTE(Answers!B1382,CHAR(10),\"\"))","v":1},"",{"$f":"LEN(Answers!B1382)","v":0},""]
[{"$f":"1 + LEN(Answers!B1383) - LEN(SUBSTITUTE(Answers!B1383,CHAR(10),\"\"))","v":1},"",{"$f":"LEN(Answers!B1383)","v":0},""]
[{"$f":"1 + LEN(Answers!B1384) - LEN(SUBSTITUTE(Answers!B1384,CHAR(10),\"\"))","v":1},"",{"$f":"LEN(Answers!B1384)","v":0},""]
[{"$f":"1 + LEN(Answers!B1385) - LEN(SUBSTITUTE(Answers!B1385,CHAR(10),\"\"))","v":1},"",{"$f":"LEN(Answers!B1385)","v":0},""]
[{"$f":"1 + LEN(Answers!B1386) - LEN(SUBSTITUTE(Answers!B1386,CHAR(10),\"\"))","v":1},"",{"$f":"LEN(Answers!B1386)","v":0},""]
[{"$f":"1 + LEN(Answers!B1387) - LEN(SUBSTITUTE(Answers!B1387,CHAR(10),\"\"))","v":1},"",{"$f":"LEN(Answers!B1387)","v":0},""]
[{"$f":"1 + LEN(Answers!B1388) - LEN(SUBSTITUTE(Answers!B1388,CHAR(10),\"\"))","v":1},"",{"$f":"LEN(Answers!B1388)","v":0},""]
[{"$f":"1 + LEN(Answers!B1389) - LEN(SUBSTITUTE(Answers!B1389,CHAR(10),\"\"))","v":1},"",{"$f":"LEN(Answers!B1389)","v":0},""]
[{"$f":"1 + LEN(Answers!B1390) - LEN(SUBSTITUTE(Answers!B1390,CHAR(10),\"\"))","v":1},"",{"$f":"LEN(Answers!B1390)","v":0},""]
[{"$f":"1 + LEN(Answers!B1391) - LEN(SUBSTITUTE(Answers!B1391,CHAR(10),\"\"))","v":1},"",{"$f":"LEN(Answers!B1391)","v":0},""]
[{"$f":"1 + LEN(Answers!B1392) - LEN(SUBSTITUTE(Answers!B1392,CHAR(10),\"\"))","v":1},"",{"$f":"LEN(Answers!B1392)","v":0},""]
[{"$f":"1 + LEN(Answers!B1393) - LEN(SUBSTITUTE(Answers!B1393,CHAR(10),\"\"))","v":1},"",{"$f":"LEN(Answers!B1393)","v":0},""]
[{"$f":"1 + LEN(Answers!B1394) - LEN(SUBSTITUTE(Answers!B1394,CHAR(10),\"\"))","v":1},"",{"$f":"LEN(Answers!B1394)","v":0},""]
[{"$f":"1 + LEN(Answers!B1395) - LEN(SUBSTITUTE(Answers!B1395,CHAR(10),\"\"))","v":1},"",{"$f":"LEN(Answers!B1395)","v":0},""]
[{"$f":"1 + LEN(Answers!B1396) - LEN(SUBSTITUTE(Answers!B1396,CHAR(10),\"\"))","v":1},"",{"$f":"LEN(Answers!B1396)","v":0},""]
[{"$f":"1 + LEN(Answers!B1397) - LEN(SUBSTITUTE(Answers!B1397,CHAR(10),\"\"))","v":1},"",{"$f":"LEN(Answers!B1397)","v":0},""]
[{"$f":"1 + LEN(Answers!B1398) - LEN(SUBSTITUTE(Answers!B1398,CHAR(10),\"\"))","v":1},"",{"$f":"LEN(Answers!B1398)","v":0},""]
[{"$f":"1 + LEN(Answers!B1399) - LEN(SUBSTITUTE(Answers!B1399,CHAR(10),\"\"))","v":1},"",{"$f":"LEN(Answers!B1399)","v":0},""]
[{"$f":"1 + LEN(Answers!B1400) - LEN(SUBSTITUTE(Answers!B1400,CHAR(10),\"\"))","v":1},"",{"$f":"LEN(Answers!B1400)","v":0},""]
[{"$f":"1 + LEN(Answers!B1401) - LEN(SUBSTITUTE(Answers!B1401,CHAR(10),\"\"))","v":1},"",{"$f":"LEN(Answers!B1401)","v":0},""]
[{"$f":"1 + LEN(Answers!B1402) - LEN(SUBSTITUTE(Answers!B1402,CHAR(10),\"\"))","v":1},"",{"$f":"LEN(Answers!B1402)","v":0},""]
[{"$f":"1 + LEN(Answers!B1403) - LEN(SUBSTITUTE(Answers!B1403,CHAR(10),\"\"))","v":1},"",{"$f":"LEN(Answers!B1403)","v":0},""]
[{"$f":"1 + LEN(Answers!B1404) - LEN(SUBSTITUTE(Answers!B1404,CHAR(10),\"\"))","v":1},"",{"$f":"LEN(Answers!B1404)","v":0},""]
[{"$f":"1 + LEN(Answers!B1405) - LEN(SUBSTITUTE(Answers!B1405,CHAR(10),\"\"))","v":1},"",{"$f":"LEN(Answers!B1405)","v":0},""]
[{"$f":"1 + LEN(Answers!B1406) - LEN(SUBSTITUTE(Answers!B1406,CHAR(10),\"\"))","v":1},"",{"$f":"LEN(Answers!B1406)","v":0},""]
[{"$f":"1 + LEN(Answers!B1407) - LEN(SUBSTITUTE(Answers!B1407,CHAR(10),\"\"))","v":1},"",{"$f":"LEN(Answers!B1407)","v":0},""]
[{"$f":"1 + LEN(Answers!B1408) - LEN(SUBSTITUTE(Answers!B1408,CHAR(10),\"\"))","v":1},"",{"$f":"LEN(Answers!B1408)","v":0},""]
[{"$f":"1 + LEN(Answers!B1409) - LEN(SUBSTITUTE(Answers!B1409,CHAR(10),\"\"))","v":1},"",{"$f":"LEN(Answers!B1409)","v":0},""]
[{"$f":"1 + LEN(Answers!B1410) - LEN(SUBSTITUTE(Answers!B1410,CHAR(10),\"\"))","v":1},"",{"$f":"LEN(Answers!B1410)","v":0},""]
[{"$f":"1 + LEN(Answers!B1411) - LEN(SUBSTITUTE(Answers!B1411,CHAR(10),\"\"))","v":1},{"$f":"IF(A1412>4,\"alert\",\"\")","v":""},{"$f":"LEN(Answers!B1411)","v":0},{"$f":"IF(C1412>120,\"alert\",\"\")","v":""}]
[{"$f":"1 + LEN(Answers!B1412) - LEN(SUBSTITUTE(Answers!B1412,CHAR(10),\"\"))","v":1},"",{"$f":"LEN(Answers!B1412)","v":0},""]
[{"$f":"1 + LEN(Answers!B1413) - LEN(SUBSTITUTE(Answers!B1413,CHAR(10),\"\"))","v":1},"",{"$f":"LEN(Answers!B1413)","v":0},""]
[{"$f":"1 + LEN(Answers!B1414) - LEN(SUBSTITUTE(Answers!B1414,CHAR(10),\"\"))","v":1},"",{"$f":"LEN(Answers!B1414)","v":0},""]
[{"$f":"1 + LEN(Answers!B1415) - LEN(SUBSTITUTE(Answers!B1415,CHAR(10),\"\"))","v":1},"",{"$f":"LEN(Answers!B1415)","v":0},""]
[{"$f":"1 + LEN(Answers!B1416) - LEN(SUBSTITUTE(Answers!B1416,CHAR(10),\"\"))","v":1},"",{"$f":"LEN(Answers!B1416)","v":0},""]
[{"$f":"1 + LEN(Answers!B1417) - LEN(SUBSTITUTE(Answers!B1417,CHAR(10),\"\"))","v":1},"",{"$f":"LEN(Answers!B1417)","v":0},""]
[{"$f":"1 + LEN(Answers!B1418) - LEN(SUBSTITUTE(Answers!B1418,CHAR(10),\"\"))","v":1},"",{"$f":"LEN(Answers!B1418)","v":0},""]
[{"$f":"1 + LEN(Answers!B1419) - LEN(SUBSTITUTE(Answers!B1419,CHAR(10),\"\"))","v":1},"",{"$f":"LEN(Answers!B1419)","v":0},""]
[{"$f":"1 + LEN(Answers!B1420) - LEN(SUBSTITUTE(Answers!B1420,CHAR(10),\"\"))","v":1},"",{"$f":"LEN(Answers!B1420)","v":0},""]
[{"$f":"1 + LEN(Answers!B1421) - LEN(SUBSTITUTE(Answers!B1421,CHAR(10),\"\"))","v":1},"",{"$f":"LEN(Answers!B1421)","v":0},""]
[{"$f":"1 + LEN(Answers!B1422) - LEN(SUBSTITUTE(Answers!B1422,CHAR(10),\"\"))","v":1},"",{"$f":"LEN(Answers!B1422)","v":0},""]
[{"$f":"1 + LEN(Answers!B1423) - LEN(SUBSTITUTE(Answers!B1423,CHAR(10),\"\"))","v":1},"",{"$f":"LEN(Answers!B1423)","v":0},""]
[{"$f":"1 + LEN(Answers!B1424) - LEN(SUBSTITUTE(Answers!B1424,CHAR(10),\"\"))","v":1},"",{"$f":"LEN(Answers!B1424)","v":0},""]
[{"$f":"1 + LEN(Answers!B1425) - LEN(SUBSTITUTE(Answers!B1425,CHAR(10),\"\"))","v":1},"",{"$f":"LEN(Answers!B1425)","v":0},""]
[{"$f":"1 + LEN(Answers!B1426) - LEN(SUBSTITUTE(Answers!B1426,CHAR(10),\"\"))","v":1},"",{"$f":"LEN(Answers!B1426)","v":0},""]
[{"$f":"1 + LEN(Answers!B1427) - LEN(SUBSTITUTE(Answers!B1427,CHAR(10),\"\"))","v":1},"",{"$f":"LEN(Answers!B1427)","v":0},""]
[{"$f":"1 + LEN(Answers!B1428) - LEN(SUBSTITUTE(Answers!B1428,CHAR(10),\"\"))","v":1},"",{"$f":"LEN(Answers!B1428)","v":0},""]
[{"$f":"1 + LEN(Answers!B1429) - LEN(SUBSTITUTE(Answers!B1429,CHAR(10),\"\"))","v":1},"",{"$f":"LEN(Answers!B1429)","v":0},""]
[{"$f":"1 + LEN(Answers!B1430) - LEN(SUBSTITUTE(Answers!B1430,CHAR(10),\"\"))","v":1},"",{"$f":"LEN(Answers!B1430)","v":0},""]
[{"$f":"1 + LEN(Answers!B1431) - LEN(SUBSTITUTE(Answers!B1431,CHAR(10),\"\"))","v":1},"",{"$f":"LEN(Answers!B1431)","v":0},""]
[{"$f":"1 + LEN(Answers!B1432) - LEN(SUBSTITUTE(Answers!B1432,CHAR(10),\"\"))","v":1},"",{"$f":"LEN(Answers!B1432)","v":0},""]
[{"$f":"1 + LEN(Answers!B1433) - LEN(SUBSTITUTE(Answers!B1433,CHAR(10),\"\"))","v":1},"",{"$f":"LEN(Answers!B1433)","v":0},""]
[{"$f":"1 + LEN(Answers!B1434) - LEN(SUBSTITUTE(Answers!B1434,CHAR(10),\"\"))","v":1},"",{"$f":"LEN(Answers!B1434)","v":0},""]
[{"$f":"1 + LEN(Answers!B1435) - LEN(SUBSTITUTE(Answers!B1435,CHAR(10),\"\"))","v":1},"",{"$f":"LEN(Answers!B1435)","v":0},""]
[{"$f":"1 + LEN(Answers!B1436) - LEN(SUBSTITUTE(Answers!B1436,CHAR(10),\"\"))","v":1},"",{"$f":"LEN(Answers!B1436)","v":0},""]
[{"$f":"1 + LEN(Answers!B1437) - LEN(SUBSTITUTE(Answers!B1437,CHAR(10),\"\"))","v":1},"",{"$f":"LEN(Answers!B1437)","v":0},""]
[{"$f":"1 + LEN(Answers!B1438) - LEN(SUBSTITUTE(Answers!B1438,CHAR(10),\"\"))","v":1},"",{"$f":"LEN(Answers!B1438)","v":0},""]
[{"$f":"1 + LEN(Answers!B1439) - LEN(SUBSTITUTE(Answers!B1439,CHAR(10),\"\"))","v":1},"",{"$f":"LEN(Answers!B1439)","v":0},""]
[{"$f":"1 + LEN(Answers!B1440) - LEN(SUBSTITUTE(Answers!B1440,CHAR(10),\"\"))","v":1},"",{"$f":"LEN(Answers!B1440)","v":0},""]
[{"$f":"1 + LEN(Answers!B1441) - LEN(SUBSTITUTE(Answers!B1441,CHAR(10),\"\"))","v":1},"",{"$f":"LEN(Answers!B1441)","v":0},""]
[{"$f":"1 + LEN(Answers!B1442) - LEN(SUBSTITUTE(Answers!B1442,CHAR(10),\"\"))","v":1},"",{"$f":"LEN(Answers!B1442)","v":0},""]
[{"$f":"1 + LEN(Answers!B1443) - LEN(SUBSTITUTE(Answers!B1443,CHAR(10),\"\"))","v":1},"",{"$f":"LEN(Answers!B1443)","v":0},""]
[{"$f":"1 + LEN(Answers!B1444) - LEN(SUBSTITUTE(Answers!B1444,CHAR(10),\"\"))","v":1},"",{"$f":"LEN(Answers!B1444)","v":0},""]
[{"$f":"1 + LEN(Answers!B1445) - LEN(SUBSTITUTE(Answers!B1445,CHAR(10),\"\"))","v":1},"",{"$f":"LEN(Answers!B1445)","v":0},""]
[{"$f":"1 + LEN(Answers!B1446) - LEN(SUBSTITUTE(Answers!B1446,CHAR(10),\"\"))","v":1},"",{"$f":"LEN(Answers!B1446)","v":0},""]
[{"$f":"1 + LEN(Answers!B1447) - LEN(SUBSTITUTE(Answers!B1447,CHAR(10),\"\"))","v":1},"",{"$f":"LEN(Answers!B1447)","v":0},""]
[{"$f":"1 + LEN(Answers!B1448) - LEN(SUBSTITUTE(Answers!B1448,CHAR(10),\"\"))","v":1},"",{"$f":"LEN(Answers!B1448)","v":0},""]
[{"$f":"1 + LEN(Answers!B1449) - LEN(SUBSTITUTE(Answers!B1449,CHAR(10),\"\"))","v":1},"",{"$f":"LEN(Answers!B1449)","v":0},""]
[{"$f":"1 + LEN(Answers!B1450) - LEN(SUBSTITUTE(Answers!B1450,CHAR(10),\"\"))","v":1},"",{"$f":"LEN(Answers!B1450)","v":0},""]
[{"$f":"1 + LEN(Answers!B1451) - LEN(SUBSTITUTE(Answers!B1451,CHAR(10),\"\"))","v":1},"",{"$f":"LEN(Answers!B1451)","v":0},""]
[{"$f":"1 + LEN(Answers!B1452) - LEN(SUBSTITUTE(Answers!B1452,CHAR(10),\"\"))","v":1},"",{"$f":"LEN(Answers!B1452)","v":0},""]
[{"$f":"1 + LEN(Answers!B1453) - LEN(SUBSTITUTE(Answers!B1453,CHAR(10),\"\"))","v":1},"",{"$f":"LEN(Answers!B1453)","v":0},""]
[{"$f":"1 + LEN(Answers!B1454) - LEN(SUBSTITUTE(Answers!B1454,CHAR(10),\"\"))","v":1},"",{"$f":"LEN(Answers!B1454)","v":0},""]
[{"$f":"1 + LEN(Answers!B1455) - LEN(SUBSTITUTE(Answers!B1455,CHAR(10),\"\"))","v":1},"",{"$f":"LEN(Answers!B1455)","v":0},""]
[{"$f":"1 + LEN(Answers!B1456) - LEN(SUBSTITUTE(Answers!B1456,CHAR(10),\"\"))","v":1},"",{"$f":"LEN(Answers!B1456)","v":0},""]
[{"$f":"1 + LEN(Answers!B1457) - LEN(SUBSTITUTE(Answers!B1457,CHAR(10),\"\"))","v":1},"",{"$f":"LEN(Answers!B1457)","v":0},""]
[{"$f":"1 + LEN(Answers!B1458) - LEN(SUBSTITUTE(Answers!B1458,CHAR(10),\"\"))","v":1},"",{"$f":"LEN(Answers!B1458)","v":0},""]
[{"$f":"1 + LEN(Answers!B1459) - LEN(SUBSTITUTE(Answers!B1459,CHAR(10),\"\"))","v":1},"",{"$f":"LEN(Answers!B1459)","v":0},""]
[{"$f":"1 + LEN(Answers!B1460) - LEN(SUBSTITUTE(Answers!B1460,CHAR(10),\"\"))","v":1},"",{"$f":"LEN(Answers!B1460)","v":0},""]
[{"$f":"1 + LEN(Answers!B1461) - LEN(SUBSTITUTE(Answers!B1461,CHAR(10),\"\"))","v":1},"",{"$f":"LEN(Answers!B1461)","v":0},""]
[{"$f":"1 + LEN(Answers!B1462) - LEN(SUBSTITUTE(Answers!B1462,CHAR(10),\"\"))","v":1},"",{"$f":"LEN(Answers!B1462)","v":0},""]
[{"$f":"1 + LEN(Answers!B1463) - LEN(SUBSTITUTE(Answers!B1463,CHAR(10),\"\"))","v":1},"",{"$f":"LEN(Answers!B1463)","v":0},""]
[{"$f":"1 + LEN(Answers!B1464) - LEN(SUBSTITUTE(Answers!B1464,CHAR(10),\"\"))","v":1},"",{"$f":"LEN(Answers!B1464)","v":0},""]
[{"$f":"1 + LEN(Answers!B1465) - LEN(SUBSTITUTE(Answers!B1465,CHAR(10),\"\"))","v":1},"",{"$f":"LEN(Answers!B1465)","v":0},""]
[{"$f":"1 + LEN(Answers!B1466) - LEN(SUBSTITUTE(Answers!B1466,CHAR(10),\"\"))","v":1},"",{"$f":"LEN(Answers!B1466)","v":0},""]
[{"$f":"1 + LEN(Answers!B1467) - LEN(SUBSTITUTE(Answers!B1467,CHAR(10),\"\"))","v":1},"",{"$f":"LEN(Answers!B1467)","v":0},""]
[{"$f":"1 + LEN(Answers!B1468) - LEN(SUBSTITUTE(Answers!B1468,CHAR(10),\"\"))","v":1},"",{"$f":"LEN(Answers!B1468)","v":0},""]
[{"$f":"1 + LEN(Answers!B1469) - LEN(SUBSTITUTE(Answers!B1469,CHAR(10),\"\"))","v":1},"",{"$f":"LEN(Answers!B1469)","v":0},""]
[{"$f":"1 + LEN(Answers!B1470) - LEN(SUBSTITUTE(Answers!B1470,CHAR(10),\"\"))","v":1},"",{"$f":"LEN(Answers!B1470)","v":0},""]
[{"$f":"1 + LEN(Answers!B1471) - LEN(SUBSTITUTE(Answers!B1471,CHAR(10),\"\"))","v":1},"",{"$f":"LEN(Answers!B1471)","v":0},""]
[{"$f":"1 + LEN(Answers!B1472) - LEN(SUBSTITUTE(Answers!B1472,CHAR(10),\"\"))","v":1},"",{"$f":"LEN(Answers!B1472)","v":0},""]
[{"$f":"1 + LEN(Answers!B1473) - LEN(SUBSTITUTE(Answers!B1473,CHAR(10),\"\"))","v":1},"",{"$f":"LEN(Answers!B1473)","v":0},""]
[{"$f":"1 + LEN(Answers!B1474) - LEN(SUBSTITUTE(Answers!B1474,CHAR(10),\"\"))","v":1},"",{"$f":"LEN(Answers!B1474)","v":0},""]
[{"$f":"1 + LEN(Answers!B1475) - LEN(SUBSTITUTE(Answers!B1475,CHAR(10),\"\"))","v":1},{"$f":"IF(A1476>4,\"alert\",\"\")","v":""},{"$f":"LEN(Answers!B1475)","v":0},{"$f":"IF(C1476>120,\"alert\",\"\")","v":""}]
[{"$f":"1 + LEN(Answers!B1476) - LEN(SUBSTITUTE(Answers!B1476,CHAR(10),\"\"))","v":1},"",{"$f":"LEN(Answers!B1476)","v":0},""]
[{"$f":"1 + LEN(Answers!B1477) - LEN(SUBSTITUTE(Answers!B1477,CHAR(10),\"\"))","v":1},"",{"$f":"LEN(Answers!B1477)","v":0},""]
[{"$f":"1 + LEN(Answers!B1478) - LEN(SUBSTITUTE(Answers!B1478,CHAR(10),\"\"))","v":1},"",{"$f":"LEN(Answers!B1478)","v":0},""]
[{"$f":"1 + LEN(Answers!B1479) - LEN(SUBSTITUTE(Answers!B1479,CHAR(10),\"\"))","v":1},"",{"$f":"LEN(Answers!B1479)","v":0},""]
[{"$f":"1 + LEN(Answers!B1480) - LEN(SUBSTITUTE(Answers!B1480,CHAR(10),\"\"))","v":1},"",{"$f":"LEN(Answers!B1480)","v":0},""]
[{"$f":"1 + LEN(Answers!B1481) - LEN(SUBSTITUTE(Answers!B1481,CHAR(10),\"\"))","v":1},"",{"$f":"LEN(Answers!B1481)","v":0},""]
[{"$f":"1 + LEN(Answers!B1482) - LEN(SUBSTITUTE(Answers!B1482,CHAR(10),\"\"))","v":1},"",{"$f":"LEN(Answers!B1482)","v":0},""]
[{"$f":"1 + LEN(Answers!B1483) - LEN(SUBSTITUTE(Answers!B1483,CHAR(10),\"\"))","v":1},"",{"$f":"LEN(Answers!B1483)","v":0},""]
[{"$f":"1 + LEN(Answers!B1484) - LEN(SUBSTITUTE(Answers!B1484,CHAR(10),\"\"))","v":1},"",{"$f":"LEN(Answers!B1484)","v":0},""]
[{"$f":"1 + LEN(Answers!B1485) - LEN(SUBSTITUTE(Answers!B1485,CHAR(10),\"\"))","v":1},"",{"$f":"LEN(Answers!B1485)","v":0},""]
[{"$f":"1 + LEN(Answers!B1486) - LEN(SUBSTITUTE(Answers!B1486,CHAR(10),\"\"))","v":1},"",{"$f":"LEN(Answers!B1486)","v":0},""]
[{"$f":"1 + LEN(Answers!B1487) - LEN(SUBSTITUTE(Answers!B1487,CHAR(10),\"\"))","v":1},"",{"$f":"LEN(Answers!B1487)","v":0},""]
[{"$f":"1 + LEN(Answers!B1488) - LEN(SUBSTITUTE(Answers!B1488,CHAR(10),\"\"))","v":1},"",{"$f":"LEN(Answers!B1488)","v":0},""]
[{"$f":"1 + LEN(Answers!B1489) - LEN(SUBSTITUTE(Answers!B1489,CHAR(10),\"\"))","v":1},"",{"$f":"LEN(Answers!B1489)","v":0},""]
[{"$f":"1 + LEN(Answers!B1490) - LEN(SUBSTITUTE(Answers!B1490,CHAR(10),\"\"))","v":1},"",{"$f":"LEN(Answers!B1490)","v":0},""]
[{"$f":"1 + LEN(Answers!B1491) - LEN(SUBSTITUTE(Answers!B1491,CHAR(10),\"\"))","v":1},"",{"$f":"LEN(Answers!B1491)","v":0},""]
[{"$f":"1 + LEN(Answers!B1492) - LEN(SUBSTITUTE(Answers!B1492,CHAR(10),\"\"))","v":1},"",{"$f":"LEN(Answers!B1492)","v":0},""]
[{"$f":"1 + LEN(Answers!B1493) - LEN(SUBSTITUTE(Answers!B1493,CHAR(10),\"\"))","v":1},"",{"$f":"LEN(Answers!B1493)","v":0},""]
[{"$f":"1 + LEN(Answers!B1494) - LEN(SUBSTITUTE(Answers!B1494,CHAR(10),\"\"))","v":1},"",{"$f":"LEN(Answers!B1494)","v":0},""]
[{"$f":"1 + LEN(Answers!B1495) - LEN(SUBSTITUTE(Answers!B1495,CHAR(10),\"\"))","v":1},"",{"$f":"LEN(Answers!B1495)","v":0},""]
[{"$f":"1 + LEN(Answers!B1496) - LEN(SUBSTITUTE(Answers!B1496,CHAR(10),\"\"))","v":1},"",{"$f":"LEN(Answers!B1496)","v":0},""]
[{"$f":"1 + LEN(Answers!B1497) - LEN(SUBSTITUTE(Answers!B1497,CHAR(10),\"\"))","v":1},"",{"$f":"LEN(Answers!B1497)","v":0},""]
[{"$f":"1 + LEN(Answers!B1498) - LEN(SUBSTITUTE(Answers!B1498,CHAR(10),\"\"))","v":1},"",{"$f":"LEN(Answers!B1498)","v":0},""]
[{"$f":"1 + LEN(Answers!B1499) - LEN(SUBSTITUTE(Answers!B1499,CHAR(10),\"\"))","v":1},"",{"$f":"LEN(Answers!B1499)","v":0},""]
[{"$f":"1 + LEN(Answers!B1500) - LEN(SUBSTITUTE(Answers!B1500,CHAR(10),\"\"))","v":1},"",{"$f":"LEN(Answers!B1500)","v":0},""]
[{"$f":"1 + LEN(Answers!B1501) - LEN(SUBSTITUTE(Answers!B1501,CHAR(10),\"\"))","v":1},"",{"$f":"LEN(Answers!B1501)","v":0},""]
[{"$f":"1 + LEN(Answers!B1502) - LEN(SUBSTITUTE(Answers!B1502,CHAR(10),\"\"))","v":1},"",{"$f":"LEN(Answers!B1502)","v":0},""]
[{"$f":"1 + LEN(Answers!B1503) - LEN(SUBSTITUTE(Answers!B1503,CHAR(10),\"\"))","v":1},"",{"$f":"LEN(Answers!B1503)","v":0},""]
[{"$f":"1 + LEN(Answers!B1504) - LEN(SUBSTITUTE(Answers!B1504,CHAR(10),\"\"))","v":1},"",{"$f":"LEN(Answers!B1504)","v":0},""]
[{"$f":"1 + LEN(Answers!B1505) - LEN(SUBSTITUTE(Answers!B1505,CHAR(10),\"\"))","v":1},"",{"$f":"LEN(Answers!B1505)","v":0},""]
[{"$f":"1 + LEN(Answers!B1506) - LEN(SUBSTITUTE(Answers!B1506,CHAR(10),\"\"))","v":1},"",{"$f":"LEN(Answers!B1506)","v":0},""]
[{"$f":"1 + LEN(Answers!B1507) - LEN(SUBSTITUTE(Answers!B1507,CHAR(10),\"\"))","v":1},"",{"$f":"LEN(Answers!B1507)","v":0},""]
[{"$f":"1 + LEN(Answers!B1508) - LEN(SUBSTITUTE(Answers!B1508,CHAR(10),\"\"))","v":1},"",{"$f":"LEN(Answers!B1508)","v":0},""]
[{"$f":"1 + LEN(Answers!B1509) - LEN(SUBSTITUTE(Answers!B1509,CHAR(10),\"\"))","v":1},"",{"$f":"LEN(Answers!B1509)","v":0},""]
[{"$f":"1 + LEN(Answers!B1510) - LEN(SUBSTITUTE(Answers!B1510,CHAR(10),\"\"))","v":1},"",{"$f":"LEN(Answers!B1510)","v":0},""]
[{"$f":"1 + LEN(Answers!B1511) - LEN(SUBSTITUTE(Answers!B1511,CHAR(10),\"\"))","v":1},"",{"$f":"LEN(Answers!B1511)","v":0},""]
[{"$f":"1 + LEN(Answers!B1512) - LEN(SUBSTITUTE(Answers!B1512,CHAR(10),\"\"))","v":1},"",{"$f":"LEN(Answers!B1512)","v":0},""]
[{"$f":"1 + LEN(Answers!B1513) - LEN(SUBSTITUTE(Answers!B1513,CHAR(10),\"\"))","v":1},"",{"$f":"LEN(Answers!B1513)","v":0},""]
[{"$f":"1 + LEN(Answers!B1514) - LEN(SUBSTITUTE(Answers!B1514,CHAR(10),\"\"))","v":1},"",{"$f":"LEN(Answers!B1514)","v":0},""]
[{"$f":"1 + LEN(Answers!B1515) - LEN(SUBSTITUTE(Answers!B1515,CHAR(10),\"\"))","v":1},"",{"$f":"LEN(Answers!B1515)","v":0},""]
[{"$f":"1 + LEN(Answers!B1516) - LEN(SUBSTITUTE(Answers!B1516,CHAR(10),\"\"))","v":1},"",{"$f":"LEN(Answers!B1516)","v":0},""]
[{"$f":"1 + LEN(Answers!B1517) - LEN(SUBSTITUTE(Answers!B1517,CHAR(10),\"\"))","v":1},"",{"$f":"LEN(Answers!B1517)","v":0},""]
[{"$f":"1 + LEN(Answers!B1518) - LEN(SUBSTITUTE(Answers!B1518,CHAR(10),\"\"))","v":1},"",{"$f":"LEN(Answers!B1518)","v":0},""]
[{"$f":"1 + LEN(Answers!B1519) - LEN(SUBSTITUTE(Answers!B1519,CHAR(10),\"\"))","v":1},"",{"$f":"LEN(Answers!B1519)","v":0},""]
[{"$f":"1 + LEN(Answers!B1520) - LEN(SUBSTITUTE(Answers!B1520,CHAR(10),\"\"))","v":1},"",{"$f":"LEN(Answers!B1520)","v":0},""]
[{"$f":"1 + LEN(Answers!B1521) - LEN(SUBSTITUTE(Answers!B1521,CHAR(10),\"\"))","v":1},"",{"$f":"LEN(Answers!B1521)","v":0},""]
[{"$f":"1 + LEN(Answers!B1522) - LEN(SUBSTITUTE(Answers!B1522,CHAR(10),\"\"))","v":1},"",{"$f":"LEN(Answers!B1522)","v":0},""]
[{"$f":"1 + LEN(Answers!B1523) - LEN(SUBSTITUTE(Answers!B1523,CHAR(10),\"\"))","v":1},"",{"$f":"LEN(Answers!B1523)","v":0},""]
[{"$f":"1 + LEN(Answers!B1524) - LEN(SUBSTITUTE(Answers!B1524,CHAR(10),\"\"))","v":1},"",{"$f":"LEN(Answers!B1524)","v":0},""]
[{"$f":"1 + LEN(Answers!B1525) - LEN(SUBSTITUTE(Answers!B1525,CHAR(10),\"\"))","v":1},"",{"$f":"LEN(Answers!B1525)","v":0},""]
[{"$f":"1 + LEN(Answers!B1526) - LEN(SUBSTITUTE(Answers!B1526,CHAR(10),\"\"))","v":1},"",{"$f":"LEN(Answers!B1526)","v":0},""]
[{"$f":"1 + LEN(Answers!B1527) - LEN(SUBSTITUTE(Answers!B1527,CHAR(10),\"\"))","v":1},"",{"$f":"LEN(Answers!B1527)","v":0},""]
[{"$f":"1 + LEN(Answers!B1528) - LEN(SUBSTITUTE(Answers!B1528,CHAR(10),\"\"))","v":1},"",{"$f":"LEN(Answers!B1528)","v":0},""]
[{"$f":"1 + LEN(Answers!B1529) - LEN(SUBSTITUTE(Answers!B1529,CHAR(10),\"\"))","v":1},"",{"$f":"LEN(Answers!B1529)","v":0},""]
[{"$f":"1 + LEN(Answers!B1530) - LEN(SUBSTITUTE(Answers!B1530,CHAR(10),\"\"))","v":1},"",{"$f":"LEN(Answers!B1530)","v":0},""]
[{"$f":"1 + LEN(Answers!B1531) - LEN(SUBSTITUTE(Answers!B1531,CHAR(10),\"\"))","v":1},"",{"$f":"LEN(Answers!B1531)","v":0},""]
[{"$f":"1 + LEN(Answers!B1532) - LEN(SUBSTITUTE(Answers!B1532,CHAR(10),\"\"))","v":1},"",{"$f":"LEN(Answers!B1532)","v":0},""]
[{"$f":"1 + LEN(Answers!B1533) - LEN(SUBSTITUTE(Answers!B1533,CHAR(10),\"\"))","v":1},"",{"$f":"LEN(Answers!B1533)","v":0},""]
[{"$f":"1 + LEN(Answers!B1534) - LEN(SUBSTITUTE(Answers!B1534,CHAR(10),\"\"))","v":1},"",{"$f":"LEN(Answers!B1534)","v":0},""]
[{"$f":"1 + LEN(Answers!B1535) - LEN(SUBSTITUTE(Answers!B1535,CHAR(10),\"\"))","v":1},"",{"$f":"LEN(Answers!B1535)","v":0},""]
[{"$f":"1 + LEN(Answers!B1536) - LEN(SUBSTITUTE(Answers!B1536,CHAR(10),\"\"))","v":1},"",{"$f":"LEN(Answers!B1536)","v":0},""]
[{"$f":"1 + LEN(Answers!B1537) - LEN(SUBSTITUTE(Answers!B1537,CHAR(10),\"\"))","v":1},"",{"$f":"LEN(Answers!B1537)","v":0},""]
[{"$f":"1 + LEN(Answers!B1538) - LEN(SUBSTITUTE(Answers!B1538,CHAR(10),\"\"))","v":1},"",{"$f":"LEN(Answers!B1538)","v":0},""]
[{"$f":"1 + LEN(Answers!B1539) - LEN(SUBSTITUTE(Answers!B1539,CHAR(10),\"\"))","v":1},{"$f":"IF(A1540>4,\"alert\",\"\")","v":""},{"$f":"LEN(Answers!B1539)","v":0},{"$f":"IF(C1540>120,\"alert\",\"\")","v":""}]
[{"$f":"1 + LEN(Answers!B1540) - LEN(SUBSTITUTE(Answers!B1540,CHAR(10),\"\"))","v":1},"",{"$f":"LEN(Answers!B1540)","v":0},""]
[{"$f":"1 + LEN(Answers!B1541) - LEN(SUBSTITUTE(Answers!B1541,CHAR(10),\"\"))","v":1},"",{"$f":"LEN(Answers!B1541)","v":0},""]
[{"$f":"1 + LEN(Answers!B1542) - LEN(SUBSTITUTE(Answers!B1542,CHAR(10),\"\"))","v":1},"",{"$f":"LEN(Answers!B1542)","v":0},""]
[{"$f":"1 + LEN(Answers!B1543) - LEN(SUBSTITUTE(Answers!B1543,CHAR(10),\"\"))","v":1},"",{"$f":"LEN(Answers!B1543)","v":0},""]
[{"$f":"1 + LEN(Answers!B1544) - LEN(SUBSTITUTE(Answers!B1544,CHAR(10),\"\"))","v":1},"",{"$f":"LEN(Answers!B1544)","v":0},""]
[{"$f":"1 + LEN(Answers!B1545) - LEN(SUBSTITUTE(Answers!B1545,CHAR(10),\"\"))","v":1},"",{"$f":"LEN(Answers!B1545)","v":0},""]
[{"$f":"1 + LEN(Answers!B1546) - LEN(SUBSTITUTE(Answers!B1546,CHAR(10),\"\"))","v":1},"",{"$f":"LEN(Answers!B1546)","v":0},""]
[{"$f":"1 + LEN(Answers!B1547) - LEN(SUBSTITUTE(Answers!B1547,CHAR(10),\"\"))","v":1},"",{"$f":"LEN(Answers!B1547)","v":0},""]
[{"$f":"1 + LEN(Answers!B1548) - LEN(SUBSTITUTE(Answers!B1548,CHAR(10),\"\"))","v":1},"",{"$f":"LEN(Answers!B1548)","v":0},""]
[{"$f":"1 + LEN(Answers!B1549) - LEN(SUBSTITUTE(Answers!B1549,CHAR(10),\"\"))","v":1},"",{"$f":"LEN(Answers!B1549)","v":0},""]
[{"$f":"1 + LEN(Answers!B1550) - LEN(SUBSTITUTE(Answers!B1550,CHAR(10),\"\"))","v":1},"",{"$f":"LEN(Answers!B1550)","v":0},""]
[{"$f":"1 + LEN(Answers!B1551) - LEN(SUBSTITUTE(Answers!B1551,CHAR(10),\"\"))","v":1},"",{"$f":"LEN(Answers!B1551)","v":0},""]
[{"$f":"1 + LEN(Answers!B1552) - LEN(SUBSTITUTE(Answers!B1552,CHAR(10),\"\"))","v":1},"",{"$f":"LEN(Answers!B1552)","v":0},""]
[{"$f":"1 + LEN(Answers!B1553) - LEN(SUBSTITUTE(Answers!B1553,CHAR(10),\"\"))","v":1},"",{"$f":"LEN(Answers!B1553)","v":0},""]
[{"$f":"1 + LEN(Answers!B1554) - LEN(SUBSTITUTE(Answers!B1554,CHAR(10),\"\"))","v":1},"",{"$f":"LEN(Answers!B1554)","v":0},""]
[{"$f":"1 + LEN(Answers!B1555) - LEN(SUBSTITUTE(Answers!B1555,CHAR(10),\"\"))","v":1},"",{"$f":"LEN(Answers!B1555)","v":0},""]
[{"$f":"1 + LEN(Answers!B1556) - LEN(SUBSTITUTE(Answers!B1556,CHAR(10),\"\"))","v":1},"",{"$f":"LEN(Answers!B1556)","v":0},""]
[{"$f":"1 + LEN(Answers!B1557) - LEN(SUBSTITUTE(Answers!B1557,CHAR(10),\"\"))","v":1},"",{"$f":"LEN(Answers!B1557)","v":0},""]
[{"$f":"1 + LEN(Answers!B1558) - LEN(SUBSTITUTE(Answers!B1558,CHAR(10),\"\"))","v":1},"",{"$f":"LEN(Answers!B1558)","v":0},""]
[{"$f":"1 + LEN(Answers!B1559) - LEN(SUBSTITUTE(Answers!B1559,CHAR(10),\"\"))","v":1},"",{"$f":"LEN(Answers!B1559)","v":0},""]
[{"$f":"1 + LEN(Answers!B1560) - LEN(SUBSTITUTE(Answers!B1560,CHAR(10),\"\"))","v":1},"",{"$f":"LEN(Answers!B1560)","v":0},""]
[{"$f":"1 + LEN(Answers!B1561) - LEN(SUBSTITUTE(Answers!B1561,CHAR(10),\"\"))","v":1},"",{"$f":"LEN(Answers!B1561)","v":0},""]
[{"$f":"1 + LEN(Answers!B1562) - LEN(SUBSTITUTE(Answers!B1562,CHAR(10),\"\"))","v":1},"",{"$f":"LEN(Answers!B1562)","v":0},""]
[{"$f":"1 + LEN(Answers!B1563) - LEN(SUBSTITUTE(Answers!B1563,CHAR(10),\"\"))","v":1},"",{"$f":"LEN(Answers!B1563)","v":0},""]
[{"$f":"1 + LEN(Answers!B1564) - LEN(SUBSTITUTE(Answers!B1564,CHAR(10),\"\"))","v":1},"",{"$f":"LEN(Answers!B1564)","v":0},""]
[{"$f":"1 + LEN(Answers!B1565) - LEN(SUBSTITUTE(Answers!B1565,CHAR(10),\"\"))","v":1},"",{"$f":"LEN(Answers!B1565)","v":0},""]
[{"$f":"1 + LEN(Answers!B1566) - LEN(SUBSTITUTE(Answers!B1566,CHAR(10),\"\"))","v":1},"",{"$f":"LEN(Answers!B1566)","v":0},""]
[{"$f":"1 + LEN(Answers!B1567) - LEN(SUBSTITUTE(Answers!B1567,CHAR(10),\"\"))","v":1},"",{"$f":"LEN(Answers!B1567)","v":0},""]
[{"$f":"1 + LEN(Answers!B1568) - LEN(SUBSTITUTE(Answers!B1568,CHAR(10),\"\"))","v":1},"",{"$f":"LEN(Answers!B1568)","v":0},""]
[{"$f":"1 + LEN(Answers!B1569) - LEN(SUBSTITUTE(Answers!B1569,CHAR(10),\"\"))","v":1},"",{"$f":"LEN(Answers!B1569)","v":0},""]
[{"$f":"1 + LEN(Answers!B1570) - LEN(SUBSTITUTE(Answers!B1570,CHAR(10),\"\"))","v":1},"",{"$f":"LEN(Answers!B1570)","v":0},""]
[{"$f":"1 + LEN(Answers!B1571) - LEN(SUBSTITUTE(Answers!B1571,CHAR(10),\"\"))","v":1},"",{"$f":"LEN(Answers!B1571)","v":0},""]
[{"$f":"1 + LEN(Answers!B1572) - LEN(SUBSTITUTE(Answers!B1572,CHAR(10),\"\"))","v":1},"",{"$f":"LEN(Answers!B1572)","v":0},""]
[{"$f":"1 + LEN(Answers!B1573) - LEN(SUBSTITUTE(Answers!B1573,CHAR(10),\"\"))","v":1},"",{"$f":"LEN(Answers!B1573)","v":0},""]
[{"$f":"1 + LEN(Answers!B1574) - LEN(SUBSTITUTE(Answers!B1574,CHAR(10),\"\"))","v":1},"",{"$f":"LEN(Answers!B1574)","v":0},""]
[{"$f":"1 + LEN(Answers!B1575) - LEN(SUBSTITUTE(Answers!B1575,CHAR(10),\"\"))","v":1},"",{"$f":"LEN(Answers!B1575)","v":0},""]
[{"$f":"1 + LEN(Answers!B1576) - LEN(SUBSTITUTE(Answers!B1576,CHAR(10),\"\"))","v":1},"",{"$f":"LEN(Answers!B1576)","v":0},""]
[{"$f":"1 + LEN(Answers!B1577) - LEN(SUBSTITUTE(Answers!B1577,CHAR(10),\"\"))","v":1},"",{"$f":"LEN(Answers!B1577)","v":0},""]
[{"$f":"1 + LEN(Answers!B1578) - LEN(SUBSTITUTE(Answers!B1578,CHAR(10),\"\"))","v":1},"",{"$f":"LEN(Answers!B1578)","v":0},""]
[{"$f":"1 + LEN(Answers!B1579) - LEN(SUBSTITUTE(Answers!B1579,CHAR(10),\"\"))","v":1},"",{"$f":"LEN(Answers!B1579)","v":0},""]
[{"$f":"1 + LEN(Answers!B1580) - LEN(SUBSTITUTE(Answers!B1580,CHAR(10),\"\"))","v":1},"",{"$f":"LEN(Answers!B1580)","v":0},""]
[{"$f":"1 + LEN(Answers!B1581) - LEN(SUBSTITUTE(Answers!B1581,CHAR(10),\"\"))","v":1},"",{"$f":"LEN(Answers!B1581)","v":0},""]
[{"$f":"1 + LEN(Answers!B1582) - LEN(SUBSTITUTE(Answers!B1582,CHAR(10),\"\"))","v":1},"",{"$f":"LEN(Answers!B1582)","v":0},""]
[{"$f":"1 + LEN(Answers!B1583) - LEN(SUBSTITUTE(Answers!B1583,CHAR(10),\"\"))","v":1},"",{"$f":"LEN(Answers!B1583)","v":0},""]
[{"$f":"1 + LEN(Answers!B1584) - LEN(SUBSTITUTE(Answers!B1584,CHAR(10),\"\"))","v":1},"",{"$f":"LEN(Answers!B1584)","v":0},""]
[{"$f":"1 + LEN(Answers!B1585) - LEN(SUBSTITUTE(Answers!B1585,CHAR(10),\"\"))","v":1},"",{"$f":"LEN(Answers!B1585)","v":0},""]
[{"$f":"1 + LEN(Answers!B1586) - LEN(SUBSTITUTE(Answers!B1586,CHAR(10),\"\"))","v":1},"",{"$f":"LEN(Answers!B1586)","v":0},""]
[{"$f":"1 + LEN(Answers!B1587) - LEN(SUBSTITUTE(Answers!B1587,CHAR(10),\"\"))","v":1},"",{"$f":"LEN(Answers!B1587)","v":0},""]
[{"$f":"1 + LEN(Answers!B1588) - LEN(SUBSTITUTE(Answers!B1588,CHAR(10),\"\"))","v":1},"",{"$f":"LEN(Answers!B1588)","v":0},""]
[{"$f":"1 + LEN(Answers!B1589) - LEN(SUBSTITUTE(Answers!B1589,CHAR(10),\"\"))","v":1},"",{"$f":"LEN(Answers!B1589)","v":0},""]
[{"$f":"1 + LEN(Answers!B1590) - LEN(SUBSTITUTE(Answers!B1590,CHAR(10),\"\"))","v":1},"",{"$f":"LEN(Answers!B1590)","v":0},""]
[{"$f":"1 + LEN(Answers!B1591) - LEN(SUBSTITUTE(Answers!B1591,CHAR(10),\"\"))","v":1},"",{"$f":"LEN(Answers!B1591)","v":0},""]
[{"$f":"1 + LEN(Answers!B1592) - LEN(SUBSTITUTE(Answers!B1592,CHAR(10),\"\"))","v":1},"",{"$f":"LEN(Answers!B1592)","v":0},""]
[{"$f":"1 + LEN(Answers!B1593) - LEN(SUBSTITUTE(Answers!B1593,CHAR(10),\"\"))","v":1},"",{"$f":"LEN(Answers!B1593)","v":0},""]
[{"$f":"1 + LEN(Answers!B1594) - LEN(SUBSTITUTE(Answers!B1594,CHAR(10),\"\"))","v":1},"",{"$f":"LEN(Answers!B1594)","v":0},""]
[{"$f":"1 + LEN(Answers!B1595) - LEN(SUBSTITUTE(Answers!B1595,CHAR(10),\"\"))","v":1},"",{"$f":"LEN(Answers!B1595)","v":0},""]
[{"$f":"1 + LEN(Answers!B1596) - LEN(SUBSTITUTE(Answers!B1596,CHAR(10),\"\"))","v":1},"",{"$f":"LEN(Answers!B1596)","v":0},""]
[{"$f":"1 + LEN(Answers!B1597) - LEN(SUBSTITUTE(Answers!B1597,CHAR(10),\"\"))","v":1},"",{"$f":"LEN(Answers!B1597)","v":0},""]
[{"$f":"1 + LEN(Answers!B1598) - LEN(SUBSTITUTE(Answers!B1598,CHAR(10),\"\"))","v":1},"",{"$f":"LEN(Answers!B1598)","v":0},""]
[{"$f":"1 + LEN(Answers!B1599) - LEN(SUBSTITUTE(Answers!B1599,CHAR(10),\"\"))","v":1},"",{"$f":"LEN(Answers!B1599)","v":0},""]
[{"$f":"1 + LEN(Answers!B1600) - LEN(SUBSTITUTE(Answers!B1600,CHAR(10),\"\"))","v":1},"",{"$f":"LEN(Answers!B1600)","v":0},""]
[{"$f":"1 + LEN(Answers!B1601) - LEN(SUBSTITUTE(Answers!B1601,CHAR(10),\"\"))","v":1},"",{"$f":"LEN(Answers!B1601)","v":0},""]
[{"$f":"1 + LEN(Answers!B1602) - LEN(SUBSTITUTE(Answers!B1602,CHAR(10),\"\"))","v":1},"",{"$f":"LEN(Answers!B1602)","v":0},""]
[{"$f":"1 + LEN(Answers!B1603) - LEN(SUBSTITUTE(Answers!B1603,CHAR(10),\"\"))","v":1},{"$f":"IF(A1604>4,\"alert\",\"\")","v":""},{"$f":"LEN(Answers!B1603)","v":0},{"$f":"IF(C1604>120,\"alert\",\"\")","v":""}]
[{"$f":"1 + LEN(Answers!B1604) - LEN(SUBSTITUTE(Answers!B1604,CHAR(10),\"\"))","v":1},"",{"$f":"LEN(Answers!B1604)","v":0},""]
[{"$f":"1 + LEN(Answers!B1605) - LEN(SUBSTITUTE(Answers!B1605,CHAR(10),\"\"))","v":1},"",{"$f":"LEN(Answers!B1605)","v":0},""]
[{"$f":"1 + LEN(Answers!B1606) - LEN(SUBSTITUTE(Answers!B1606,CHAR(10),\"\"))","v":1},"",{"$f":"LEN(Answers!B1606)","v":0},""]
[{"$f":"1 + LEN(Answers!B1607) - LEN(SUBSTITUTE(Answers!B1607,CHAR(10),\"\"))","v":1},"",{"$f":"LEN(Answers!B1607)","v":0},""]
[{"$f":"1 + LEN(Answers!B1608) - LEN(SUBSTITUTE(Answers!B1608,CHAR(10),\"\"))","v":1},"",{"$f":"LEN(Answers!B1608)","v":0},""]
[{"$f":"1 + LEN(Answers!B1609) - LEN(SUBSTITUTE(Answers!B1609,CHAR(10),\"\"))","v":1},"",{"$f":"LEN(Answers!B1609)","v":0},""]
[{"$f":"1 + LEN(Answers!B1610) - LEN(SUBSTITUTE(Answers!B1610,CHAR(10),\"\"))","v":1},"",{"$f":"LEN(Answers!B1610)","v":0},""]
[{"$f":"1 + LEN(Answers!B1611) - LEN(SUBSTITUTE(Answers!B1611,CHAR(10),\"\"))","v":1},"",{"$f":"LEN(Answers!B1611)","v":0},""]
[{"$f":"1 + LEN(Answers!B1612) - LEN(SUBSTITUTE(Answers!B1612,CHAR(10),\"\"))","v":1},"",{"$f":"LEN(Answers!B1612)","v":0},""]
[{"$f":"1 + LEN(Answers!B1613) - LEN(SUBSTITUTE(Answers!B1613,CHAR(10),\"\"))","v":1},"",{"$f":"LEN(Answers!B1613)","v":0},""]
[{"$f":"1 + LEN(Answers!B1614) - LEN(SUBSTITUTE(Answers!B1614,CHAR(10),\"\"))","v":1},"",{"$f":"LEN(Answers!B1614)","v":0},""]
[{"$f":"1 + LEN(Answers!B1615) - LEN(SUBSTITUTE(Answers!B1615,CHAR(10),\"\"))","v":1},"",{"$f":"LEN(Answers!B1615)","v":0},""]
[{"$f":"1 + LEN(Answers!B1616) - LEN(SUBSTITUTE(Answers!B1616,CHAR(10),\"\"))","v":1},"",{"$f":"LEN(Answers!B1616)","v":0},""]
[{"$f":"1 + LEN(Answers!B1617) - LEN(SUBSTITUTE(Answers!B1617,CHAR(10),\"\"))","v":1},"",{"$f":"LEN(Answers!B1617)","v":0},""]
[{"$f":"1 + LEN(Answers!B1618) - LEN(SUBSTITUTE(Answers!B1618,CHAR(10),\"\"))","v":1},"",{"$f":"LEN(Answers!B1618)","v":0},""]
[{"$f":"1 + LEN(Answers!B1619) - LEN(SUBSTITUTE(Answers!B1619,CHAR(10),\"\"))","v":1},"",{"$f":"LEN(Answers!B1619)","v":0},""]
[{"$f":"1 + LEN(Answers!B1620) - LEN(SUBSTITUTE(Answers!B1620,CHAR(10),\"\"))","v":1},"",{"$f":"LEN(Answers!B1620)","v":0},""]
[{"$f":"1 + LEN(Answers!B1621) - LEN(SUBSTITUTE(Answers!B1621,CHAR(10),\"\"))","v":1},"",{"$f":"LEN(Answers!B1621)","v":0},""]
[{"$f":"1 + LEN(Answers!B1622) - LEN(SUBSTITUTE(Answers!B1622,CHAR(10),\"\"))","v":1},"",{"$f":"LEN(Answers!B1622)","v":0},""]
[{"$f":"1 + LEN(Answers!B1623) - LEN(SUBSTITUTE(Answers!B1623,CHAR(10),\"\"))","v":1},"",{"$f":"LEN(Answers!B1623)","v":0},""]
[{"$f":"1 + LEN(Answers!B1624) - LEN(SUBSTITUTE(Answers!B1624,CHAR(10),\"\"))","v":1},"",{"$f":"LEN(Answers!B1624)","v":0},""]
[{"$f":"1 + LEN(Answers!B1625) - LEN(SUBSTITUTE(Answers!B1625,CHAR(10),\"\"))","v":1},"",{"$f":"LEN(Answers!B1625)","v":0},""]
[{"$f":"1 + LEN(Answers!B1626) - LEN(SUBSTITUTE(Answers!B1626,CHAR(10),\"\"))","v":1},"",{"$f":"LEN(Answers!B1626)","v":0},""]
[{"$f":"1 + LEN(Answers!B1627) - LEN(SUBSTITUTE(Answers!B1627,CHAR(10),\"\"))","v":1},"",{"$f":"LEN(Answers!B1627)","v":0},""]
[{"$f":"1 + LEN(Answers!B1628) - LEN(SUBSTITUTE(Answers!B1628,CHAR(10),\"\"))","v":1},"",{"$f":"LEN(Answers!B1628)","v":0},""]
[{"$f":"1 + LEN(Answers!B1629) - LEN(SUBSTITUTE(Answers!B1629,CHAR(10),\"\"))","v":1},"",{"$f":"LEN(Answers!B1629)","v":0},""]
[{"$f":"1 + LEN(Answers!B1630) - LEN(SUBSTITUTE(Answers!B1630,CHAR(10),\"\"))","v":1},"",{"$f":"LEN(Answers!B1630)","v":0},""]
[{"$f":"1 + LEN(Answers!B1631) - LEN(SUBSTITUTE(Answers!B1631,CHAR(10),\"\"))","v":1},"",{"$f":"LEN(Answers!B1631)","v":0},""]
[{"$f":"1 + LEN(Answers!B1632) - LEN(SUBSTITUTE(Answers!B1632,CHAR(10),\"\"))","v":1},"",{"$f":"LEN(Answers!B1632)","v":0},""]
[{"$f":"1 + LEN(Answers!B1633) - LEN(SUBSTITUTE(Answers!B1633,CHAR(10),\"\"))","v":1},"",{"$f":"LEN(Answers!B1633)","v":0},""]
[{"$f":"1 + LEN(Answers!B1634) - LEN(SUBSTITUTE(Answers!B1634,CHAR(10),\"\"))","v":1},"",{"$f":"LEN(Answers!B1634)","v":0},""]
[{"$f":"1 + LEN(Answers!B1635) - LEN(SUBSTITUTE(Answers!B1635,CHAR(10),\"\"))","v":1},"",{"$f":"LEN(Answers!B1635)","v":0},""]
[{"$f":"1 + LEN(Answers!B1636) - LEN(SUBSTITUTE(Answers!B1636,CHAR(10),\"\"))","v":1},"",{"$f":"LEN(Answers!B1636)","v":0},""]
[{"$f":"1 + LEN(Answers!B1637) - LEN(SUBSTITUTE(Answers!B1637,CHAR(10),\"\"))","v":1},"",{"$f":"LEN(Answers!B1637)","v":0},""]
[{"$f":"1 + LEN(Answers!B1638) - LEN(SUBSTITUTE(Answers!B1638,CHAR(10),\"\"))","v":1},"",{"$f":"LEN(Answers!B1638)","v":0},""]
[{"$f":"1 + LEN(Answers!B1639) - LEN(SUBSTITUTE(Answers!B1639,CHAR(10),\"\"))","v":1},"",{"$f":"LEN(Answers!B1639)","v":0},""]
[{"$f":"1 + LEN(Answers!B1640) - LEN(SUBSTITUTE(Answers!B1640,CHAR(10),\"\"))","v":1},"",{"$f":"LEN(Answers!B1640)","v":0},""]
[{"$f":"1 + LEN(Answers!B1641) - LEN(SUBSTITUTE(Answers!B1641,CHAR(10),\"\"))","v":1},"",{"$f":"LEN(Answers!B1641)","v":0},""]
[{"$f":"1 + LEN(Answers!B1642) - LEN(SUBSTITUTE(Answers!B1642,CHAR(10),\"\"))","v":1},"",{"$f":"LEN(Answers!B1642)","v":0},""]
[{"$f":"1 + LEN(Answers!B1643) - LEN(SUBSTITUTE(Answers!B1643,CHAR(10),\"\"))","v":1},"",{"$f":"LEN(Answers!B1643)","v":0},""]
[{"$f":"1 + LEN(Answers!B1644) - LEN(SUBSTITUTE(Answers!B1644,CHAR(10),\"\"))","v":1},"",{"$f":"LEN(Answers!B1644)","v":0},""]
[{"$f":"1 + LEN(Answers!B1645) - LEN(SUBSTITUTE(Answers!B1645,CHAR(10),\"\"))","v":1},"",{"$f":"LEN(Answers!B1645)","v":0},""]
[{"$f":"1 + LEN(Answers!B1646) - LEN(SUBSTITUTE(Answers!B1646,CHAR(10),\"\"))","v":1},"",{"$f":"LEN(Answers!B1646)","v":0},""]
[{"$f":"1 + LEN(Answers!B1647) - LEN(SUBSTITUTE(Answers!B1647,CHAR(10),\"\"))","v":1},"",{"$f":"LEN(Answers!B1647)","v":0},""]
[{"$f":"1 + LEN(Answers!B1648) - LEN(SUBSTITUTE(Answers!B1648,CHAR(10),\"\"))","v":1},"",{"$f":"LEN(Answers!B1648)","v":0},""]
[{"$f":"1 + LEN(Answers!B1649) - LEN(SUBSTITUTE(Answers!B1649,CHAR(10),\"\"))","v":1},"",{"$f":"LEN(Answers!B1649)","v":0},""]
[{"$f":"1 + LEN(Answers!B1650) - LEN(SUBSTITUTE(Answers!B1650,CHAR(10),\"\"))","v":1},"",{"$f":"LEN(Answers!B1650)","v":0},""]
[{"$f":"1 + LEN(Answers!B1651) - LEN(SUBSTITUTE(Answers!B1651,CHAR(10),\"\"))","v":1},"",{"$f":"LEN(Answers!B1651)","v":0},""]
[{"$f":"1 + LEN(Answers!B1652) - LEN(SUBSTITUTE(Answers!B1652,CHAR(10),\"\"))","v":1},"",{"$f":"LEN(Answers!B1652)","v":0},""]
[{"$f":"1 + LEN(Answers!B1653) - LEN(SUBSTITUTE(Answers!B1653,CHAR(10),\"\"))","v":1},"",{"$f":"LEN(Answers!B1653)","v":0},""]
[{"$f":"1 + LEN(Answers!B1654) - LEN(SUBSTITUTE(Answers!B1654,CHAR(10),\"\"))","v":1},"",{"$f":"LEN(Answers!B1654)","v":0},""]
[{"$f":"1 + LEN(Answers!B1655) - LEN(SUBSTITUTE(Answers!B1655,CHAR(10),\"\"))","v":1},"",{"$f":"LEN(Answers!B1655)","v":0},""]
[{"$f":"1 + LEN(Answers!B1656) - LEN(SUBSTITUTE(Answers!B1656,CHAR(10),\"\"))","v":1},"",{"$f":"LEN(Answers!B1656)","v":0},""]
[{"$f":"1 + LEN(Answers!B1657) - LEN(SUBSTITUTE(Answers!B1657,CHAR(10),\"\"))","v":1},"",{"$f":"LEN(Answers!B1657)","v":0},""]
[{"$f":"1 + LEN(Answers!B1658) - LEN(SUBSTITUTE(Answers!B1658,CHAR(10),\"\"))","v":1},"",{"$f":"LEN(Answers!B1658)","v":0},""]
[{"$f":"1 + LEN(Answers!B1659) - LEN(SUBSTITUTE(Answers!B1659,CHAR(10),\"\"))","v":1},"",{"$f":"LEN(Answers!B1659)","v":0},""]
[{"$f":"1 + LEN(Answers!B1660) - LEN(SUBSTITUTE(Answers!B1660,CHAR(10),\"\"))","v":1},"",{"$f":"LEN(Answers!B1660)","v":0},""]
[{"$f":"1 + LEN(Answers!B1661) - LEN(SUBSTITUTE(Answers!B1661,CHAR(10),\"\"))","v":1},"",{"$f":"LEN(Answers!B1661)","v":0},""]
[{"$f":"1 + LEN(Answers!B1662) - LEN(SUBSTITUTE(Answers!B1662,CHAR(10),\"\"))","v":1},"",{"$f":"LEN(Answers!B1662)","v":0},""]
[{"$f":"1 + LEN(Answers!B1663) - LEN(SUBSTITUTE(Answers!B1663,CHAR(10),\"\"))","v":1},"",{"$f":"LEN(Answers!B1663)","v":0},""]
[{"$f":"1 + LEN(Answers!B1664) - LEN(SUBSTITUTE(Answers!B1664,CHAR(10),\"\"))","v":1},"",{"$f":"LEN(Answers!B1664)","v":0},""]
[{"$f":"1 + LEN(Answers!B1665) - LEN(SUBSTITUTE(Answers!B1665,CHAR(10),\"\"))","v":1},"",{"$f":"LEN(Answers!B1665)","v":0},""]
[{"$f":"1 + LEN(Answers!B1666) - LEN(SUBSTITUTE(Answers!B1666,CHAR(10),\"\"))","v":1},"",{"$f":"LEN(Answers!B1666)","v":0},""]
[{"$f":"1 + LEN(Answers!B1667) - LEN(SUBSTITUTE(Answers!B1667,CHAR(10),\"\"))","v":1},{"$f":"IF(A1668>4,\"alert\",\"\")","v":""},{"$f":"LEN(Answers!B1667)","v":0},{"$f":"IF(C1668>120,\"alert\",\"\")","v":""}]
[{"$f":"1 + LEN(Answers!B1668) - LEN(SUBSTITUTE(Answers!B1668,CHAR(10),\"\"))","v":1},"",{"$f":"LEN(Answers!B1668)","v":0},""]
[{"$f":"1 + LEN(Answers!B1669) - LEN(SUBSTITUTE(Answers!B1669,CHAR(10),\"\"))","v":1},"",{"$f":"LEN(Answers!B1669)","v":0},""]
[{"$f":"1 + LEN(Answers!B1670) - LEN(SUBSTITUTE(Answers!B1670,CHAR(10),\"\"))","v":1},"",{"$f":"LEN(Answers!B1670)","v":0},""]
[{"$f":"1 + LEN(Answers!B1671) - LEN(SUBSTITUTE(Answers!B1671,CHAR(10),\"\"))","v":1},"",{"$f":"LEN(Answers!B1671)","v":0},""]
[{"$f":"1 + LEN(Answers!B1672) - LEN(SUBSTITUTE(Answers!B1672,CHAR(10),\"\"))","v":1},"",{"$f":"LEN(Answers!B1672)","v":0},""]
[{"$f":"1 + LEN(Answers!B1673) - LEN(SUBSTITUTE(Answers!B1673,CHAR(10),\"\"))","v":1},"",{"$f":"LEN(Answers!B1673)","v":0},""]
[{"$f":"1 + LEN(Answers!B1674) - LEN(SUBSTITUTE(Answers!B1674,CHAR(10),\"\"))","v":1},"",{"$f":"LEN(Answers!B1674)","v":0},""]
[{"$f":"1 + LEN(Answers!B1675) - LEN(SUBSTITUTE(Answers!B1675,CHAR(10),\"\"))","v":1},"",{"$f":"LEN(Answers!B1675)","v":0},""]
[{"$f":"1 + LEN(Answers!B1676) - LEN(SUBSTITUTE(Answers!B1676,CHAR(10),\"\"))","v":1},"",{"$f":"LEN(Answers!B1676)","v":0},""]
[{"$f":"1 + LEN(Answers!B1677) - LEN(SUBSTITUTE(Answers!B1677,CHAR(10),\"\"))","v":1},"",{"$f":"LEN(Answers!B1677)","v":0},""]
[{"$f":"1 + LEN(Answers!B1678) - LEN(SUBSTITUTE(Answers!B1678,CHAR(10),\"\"))","v":1},"",{"$f":"LEN(Answers!B1678)","v":0},""]
[{"$f":"1 + LEN(Answers!B1679) - LEN(SUBSTITUTE(Answers!B1679,CHAR(10),\"\"))","v":1},"",{"$f":"LEN(Answers!B1679)","v":0},""]
[{"$f":"1 + LEN(Answers!B1680) - LEN(SUBSTITUTE(Answers!B1680,CHAR(10),\"\"))","v":1},"",{"$f":"LEN(Answers!B1680)","v":0},""]
[{"$f":"1 + LEN(Answers!B1681) - LEN(SUBSTITUTE(Answers!B1681,CHAR(10),\"\"))","v":1},"",{"$f":"LEN(Answers!B1681)","v":0},""]
[{"$f":"1 + LEN(Answers!B1682) - LEN(SUBSTITUTE(Answers!B1682,CHAR(10),\"\"))","v":1},"",{"$f":"LEN(Answers!B1682)","v":0},""]
[{"$f":"1 + LEN(Answers!B1683) - LEN(SUBSTITUTE(Answers!B1683,CHAR(10),\"\"))","v":1},"",{"$f":"LEN(Answers!B1683)","v":0},""]
[{"$f":"1 + LEN(Answers!B1684) - LEN(SUBSTITUTE(Answers!B1684,CHAR(10),\"\"))","v":1},"",{"$f":"LEN(Answers!B1684)","v":0},""]
[{"$f":"1 + LEN(Answers!B1685) - LEN(SUBSTITUTE(Answers!B1685,CHAR(10),\"\"))","v":1},"",{"$f":"LEN(Answers!B1685)","v":0},""]
[{"$f":"1 + LEN(Answers!B1686) - LEN(SUBSTITUTE(Answers!B1686,CHAR(10),\"\"))","v":1},"",{"$f":"LEN(Answers!B1686)","v":0},""]
[{"$f":"1 + LEN(Answers!B1687) - LEN(SUBSTITUTE(Answers!B1687,CHAR(10),\"\"))","v":1},"",{"$f":"LEN(Answers!B1687)","v":0},""]
[{"$f":"1 + LEN(Answers!B1688) - LEN(SUBSTITUTE(Answers!B1688,CHAR(10),\"\"))","v":1},"",{"$f":"LEN(Answers!B1688)","v":0},""]
[{"$f":"1 + LEN(Answers!B1689) - LEN(SUBSTITUTE(Answers!B1689,CHAR(10),\"\"))","v":1},"",{"$f":"LEN(Answers!B1689)","v":0},""]
[{"$f":"1 + LEN(Answers!B1690) - LEN(SUBSTITUTE(Answers!B1690,CHAR(10),\"\"))","v":1},"",{"$f":"LEN(Answers!B1690)","v":0},""]
[{"$f":"1 + LEN(Answers!B1691) - LEN(SUBSTITUTE(Answers!B1691,CHAR(10),\"\"))","v":1},"",{"$f":"LEN(Answers!B1691)","v":0},""]
[{"$f":"1 + LEN(Answers!B1692) - LEN(SUBSTITUTE(Answers!B1692,CHAR(10),\"\"))","v":1},"",{"$f":"LEN(Answers!B1692)","v":0},""]
[{"$f":"1 + LEN(Answers!B1693) - LEN(SUBSTITUTE(Answers!B1693,CHAR(10),\"\"))","v":1},"",{"$f":"LEN(Answers!B1693)","v":0},""]
[{"$f":"1 + LEN(Answers!B1694) - LEN(SUBSTITUTE(Answers!B1694,CHAR(10),\"\"))","v":1},"",{"$f":"LEN(Answers!B1694)","v":0},""]
[{"$f":"1 + LEN(Answers!B1695) - LEN(SUBSTITUTE(Answers!B1695,CHAR(10),\"\"))","v":1},"",{"$f":"LEN(Answers!B1695)","v":0},""]
[{"$f":"1 + LEN(Answers!B1696) - LEN(SUBSTITUTE(Answers!B1696,CHAR(10),\"\"))","v":1},"",{"$f":"LEN(Answers!B1696)","v":0},""]
[{"$f":"1 + LEN(Answers!B1697) - LEN(SUBSTITUTE(Answers!B1697,CHAR(10),\"\"))","v":1},"",{"$f":"LEN(Answers!B1697)","v":0},""]
[{"$f":"1 + LEN(Answers!B1698) - LEN(SUBSTITUTE(Answers!B1698,CHAR(10),\"\"))","v":1},"",{"$f":"LEN(Answers!B1698)","v":0},""]
[{"$f":"1 + LEN(Answers!B1699) - LEN(SUBSTITUTE(Answers!B1699,CHAR(10),\"\"))","v":1},"",{"$f":"LEN(Answers!B1699)","v":0},""]
[{"$f":"1 + LEN(Answers!B1700) - LEN(SUBSTITUTE(Answers!B1700,CHAR(10),\"\"))","v":1},"",{"$f":"LEN(Answers!B1700)","v":0},""]
[{"$f":"1 + LEN(Answers!B1701) - LEN(SUBSTITUTE(Answers!B1701,CHAR(10),\"\"))","v":1},"",{"$f":"LEN(Answers!B1701)","v":0},""]
[{"$f":"1 + LEN(Answers!B1702) - LEN(SUBSTITUTE(Answers!B1702,CHAR(10),\"\"))","v":1},"",{"$f":"LEN(Answers!B1702)","v":0},""]
[{"$f":"1 + LEN(Answers!B1703) - LEN(SUBSTITUTE(Answers!B1703,CHAR(10),\"\"))","v":1},"",{"$f":"LEN(Answers!B1703)","v":0},""]
[{"$f":"1 + LEN(Answers!B1704) - LEN(SUBSTITUTE(Answers!B1704,CHAR(10),\"\"))","v":1},"",{"$f":"LEN(Answers!B1704)","v":0},""]
[{"$f":"1 + LEN(Answers!B1705) - LEN(SUBSTITUTE(Answers!B1705,CHAR(10),\"\"))","v":1},"",{"$f":"LEN(Answers!B1705)","v":0},""]
[{"$f":"1 + LEN(Answers!B1706) - LEN(SUBSTITUTE(Answers!B1706,CHAR(10),\"\"))","v":1},"",{"$f":"LEN(Answers!B1706)","v":0},""]
[{"$f":"1 + LEN(Answers!B1707) - LEN(SUBSTITUTE(Answers!B1707,CHAR(10),\"\"))","v":1},"",{"$f":"LEN(Answers!B1707)","v":0},""]
[{"$f":"1 + LEN(Answers!B1708) - LEN(SUBSTITUTE(Answers!B1708,CHAR(10),\"\"))","v":1},"",{"$f":"LEN(Answers!B1708)","v":0},""]
[{"$f":"1 + LEN(Answers!B1709) - LEN(SUBSTITUTE(Answers!B1709,CHAR(10),\"\"))","v":1},"",{"$f":"LEN(Answers!B1709)","v":0},""]
[{"$f":"1 + LEN(Answers!B1710) - LEN(SUBSTITUTE(Answers!B1710,CHAR(10),\"\"))","v":1},"",{"$f":"LEN(Answers!B1710)","v":0},""]
[{"$f":"1 + LEN(Answers!B1711) - LEN(SUBSTITUTE(Answers!B1711,CHAR(10),\"\"))","v":1},"",{"$f":"LEN(Answers!B1711)","v":0},""]
[{"$f":"1 + LEN(Answers!B1712) - LEN(SUBSTITUTE(Answers!B1712,CHAR(10),\"\"))","v":1},"",{"$f":"LEN(Answers!B1712)","v":0},""]
[{"$f":"1 + LEN(Answers!B1713) - LEN(SUBSTITUTE(Answers!B1713,CHAR(10),\"\"))","v":1},"",{"$f":"LEN(Answers!B1713)","v":0},""]
[{"$f":"1 + LEN(Answers!B1714) - LEN(SUBSTITUTE(Answers!B1714,CHAR(10),\"\"))","v":1},"",{"$f":"LEN(Answers!B1714)","v":0},""]
[{"$f":"1 + LEN(Answers!B1715) - LEN(SUBSTITUTE(Answers!B1715,CHAR(10),\"\"))","v":1},"",{"$f":"LEN(Answers!B1715)","v":0},""]
[{"$f":"1 + LEN(Answers!B1716) - LEN(SUBSTITUTE(Answers!B1716,CHAR(10),\"\"))","v":1},"",{"$f":"LEN(Answers!B1716)","v":0},""]
[{"$f":"1 + LEN(Answers!B1717) - LEN(SUBSTITUTE(Answers!B1717,CHAR(10),\"\"))","v":1},"",{"$f":"LEN(Answers!B1717)","v":0},""]
[{"$f":"1 + LEN(Answers!B1718) - LEN(SUBSTITUTE(Answers!B1718,CHAR(10),\"\"))","v":1},"",{"$f":"LEN(Answers!B1718)","v":0},""]
[{"$f":"1 + LEN(Answers!B1719) - LEN(SUBSTITUTE(Answers!B1719,CHAR(10),\"\"))","v":1},"",{"$f":"LEN(Answers!B1719)","v":0},""]
[{"$f":"1 + LEN(Answers!B1720) - LEN(SUBSTITUTE(Answers!B1720,CHAR(10),\"\"))","v":1},"",{"$f":"LEN(Answers!B1720)","v":0},""]
[{"$f":"1 + LEN(Answers!B1721) - LEN(SUBSTITUTE(Answers!B1721,CHAR(10),\"\"))","v":1},"",{"$f":"LEN(Answers!B1721)","v":0},""]
[{"$f":"1 + LEN(Answers!B1722) - LEN(SUBSTITUTE(Answers!B1722,CHAR(10),\"\"))","v":1},"",{"$f":"LEN(Answers!B1722)","v":0},""]
[{"$f":"1 + LEN(Answers!B1723) - LEN(SUBSTITUTE(Answers!B1723,CHAR(10),\"\"))","v":1},"",{"$f":"LEN(Answers!B1723)","v":0},""]
[{"$f":"1 + LEN(Answers!B1724) - LEN(SUBSTITUTE(Answers!B1724,CHAR(10),\"\"))","v":1},"",{"$f":"LEN(Answers!B1724)","v":0},""]
[{"$f":"1 + LEN(Answers!B1725) - LEN(SUBSTITUTE(Answers!B1725,CHAR(10),\"\"))","v":1},"",{"$f":"LEN(Answers!B1725)","v":0},""]
[{"$f":"1 + LEN(Answers!B1726) - LEN(SUBSTITUTE(Answers!B1726,CHAR(10),\"\"))","v":1},"",{"$f":"LEN(Answers!B1726)","v":0},""]
[{"$f":"1 + LEN(Answers!B1727) - LEN(SUBSTITUTE(Answers!B1727,CHAR(10),\"\"))","v":1},"",{"$f":"LEN(Answers!B1727)","v":0},""]
[{"$f":"1 + LEN(Answers!B1728) - LEN(SUBSTITUTE(Answers!B1728,CHAR(10),\"\"))","v":1},"",{"$f":"LEN(Answers!B1728)","v":0},""]
[{"$f":"1 + LEN(Answers!B1729) - LEN(SUBSTITUTE(Answers!B1729,CHAR(10),\"\"))","v":1},"",{"$f":"LEN(Answers!B1729)","v":0},""]
[{"$f":"1 + LEN(Answers!B1730) - LEN(SUBSTITUTE(Answers!B1730,CHAR(10),\"\"))","v":1},"",{"$f":"LEN(Answers!B1730)","v":0},""]
[{"$f":"1 + LEN(Answers!B1731) - LEN(SUBSTITUTE(Answers!B1731,CHAR(10),\"\"))","v":1},{"$f":"IF(A1732>4,\"alert\",\"\")","v":""},{"$f":"LEN(Answers!B1731)","v":0},{"$f":"IF(C1732>120,\"alert\",\"\")","v":""}]
[{"$f":"1 + LEN(Answers!B1732) - LEN(SUBSTITUTE(Answers!B1732,CHAR(10),\"\"))","v":1},"",{"$f":"LEN(Answers!B1732)","v":0},""]
[{"$f":"1 + LEN(Answers!B1733) - LEN(SUBSTITUTE(Answers!B1733,CHAR(10),\"\"))","v":1},"",{"$f":"LEN(Answers!B1733)","v":0},""]
[{"$f":"1 + LEN(Answers!B1734) - LEN(SUBSTITUTE(Answers!B1734,CHAR(10),\"\"))","v":1},"",{"$f":"LEN(Answers!B1734)","v":0},""]
[{"$f":"1 + LEN(Answers!B1735) - LEN(SUBSTITUTE(Answers!B1735,CHAR(10),\"\"))","v":1},"",{"$f":"LEN(Answers!B1735)","v":0},""]
[{"$f":"1 + LEN(Answers!B1736) - LEN(SUBSTITUTE(Answers!B1736,CHAR(10),\"\"))","v":1},"",{"$f":"LEN(Answers!B1736)","v":0},""]
[{"$f":"1 + LEN(Answers!B1737) - LEN(SUBSTITUTE(Answers!B1737,CHAR(10),\"\"))","v":1},"",{"$f":"LEN(Answers!B1737)","v":0},""]
[{"$f":"1 + LEN(Answers!B1738) - LEN(SUBSTITUTE(Answers!B1738,CHAR(10),\"\"))","v":1},"",{"$f":"LEN(Answers!B1738)","v":0},""]
[{"$f":"1 + LEN(Answers!B1739) - LEN(SUBSTITUTE(Answers!B1739,CHAR(10),\"\"))","v":1},"",{"$f":"LEN(Answers!B1739)","v":0},""]
[{"$f":"1 + LEN(Answers!B1740) - LEN(SUBSTITUTE(Answers!B1740,CHAR(10),\"\"))","v":1},"",{"$f":"LEN(Answers!B1740)","v":0},""]
[{"$f":"1 + LEN(Answers!B1741) - LEN(SUBSTITUTE(Answers!B1741,CHAR(10),\"\"))","v":1},"",{"$f":"LEN(Answers!B1741)","v":0},""]
[{"$f":"1 + LEN(Answers!B1742) - LEN(SUBSTITUTE(Answers!B1742,CHAR(10),\"\"))","v":1},"",{"$f":"LEN(Answers!B1742)","v":0},""]
[{"$f":"1 + LEN(Answers!B1743) - LEN(SUBSTITUTE(Answers!B1743,CHAR(10),\"\"))","v":1},"",{"$f":"LEN(Answers!B1743)","v":0},""]
[{"$f":"1 + LEN(Answers!B1744) - LEN(SUBSTITUTE(Answers!B1744,CHAR(10),\"\"))","v":1},"",{"$f":"LEN(Answers!B1744)","v":0},""]
[{"$f":"1 + LEN(Answers!B1745) - LEN(SUBSTITUTE(Answers!B1745,CHAR(10),\"\"))","v":1},"",{"$f":"LEN(Answers!B1745)","v":0},""]
[{"$f":"1 + LEN(Answers!B1746) - LEN(SUBSTITUTE(Answers!B1746,CHAR(10),\"\"))","v":1},"",{"$f":"LEN(Answers!B1746)","v":0},""]
[{"$f":"1 + LEN(Answers!B1747) - LEN(SUBSTITUTE(Answers!B1747,CHAR(10),\"\"))","v":1},"",{"$f":"LEN(Answers!B1747)","v":0},""]
[{"$f":"1 + LEN(Answers!B1748) - LEN(SUBSTITUTE(Answers!B1748,CHAR(10),\"\"))","v":1},"",{"$f":"LEN(Answers!B1748)","v":0},""]
[{"$f":"1 + LEN(Answers!B1749) - LEN(SUBSTITUTE(Answers!B1749,CHAR(10),\"\"))","v":1},"",{"$f":"LEN(Answers!B1749)","v":0},""]
[{"$f":"1 + LEN(Answers!B1750) - LEN(SUBSTITUTE(Answers!B1750,CHAR(10),\"\"))","v":1},"",{"$f":"LEN(Answers!B1750)","v":0},""]
[{"$f":"1 + LEN(Answers!B1751) - LEN(SUBSTITUTE(Answers!B1751,CHAR(10),\"\"))","v":1},"",{"$f":"LEN(Answers!B1751)","v":0},""]
[{"$f":"1 + LEN(Answers!B1752) - LEN(SUBSTITUTE(Answers!B1752,CHAR(10),\"\"))","v":1},"",{"$f":"LEN(Answers!B1752)","v":0},""]
[{"$f":"1 + LEN(Answers!B1753) - LEN(SUBSTITUTE(Answers!B1753,CHAR(10),\"\"))","v":1},"",{"$f":"LEN(Answers!B1753)","v":0},""]
[{"$f":"1 + LEN(Answers!B1754) - LEN(SUBSTITUTE(Answers!B1754,CHAR(10),\"\"))","v":1},"",{"$f":"LEN(Answers!B1754)","v":0},""]
[{"$f":"1 + LEN(Answers!B1755) - LEN(SUBSTITUTE(Answers!B1755,CHAR(10),\"\"))","v":1},"",{"$f":"LEN(Answers!B1755)","v":0},""]
[{"$f":"1 + LEN(Answers!B1756) - LEN(SUBSTITUTE(Answers!B1756,CHAR(10),\"\"))","v":1},"",{"$f":"LEN(Answers!B1756)","v":0},""]
[{"$f":"1 + LEN(Answers!B1757) - LEN(SUBSTITUTE(Answers!B1757,CHAR(10),\"\"))","v":1},"",{"$f":"LEN(Answers!B1757)","v":0},""]
[{"$f":"1 + LEN(Answers!B1758) - LEN(SUBSTITUTE(Answers!B1758,CHAR(10),\"\"))","v":1},"",{"$f":"LEN(Answers!B1758)","v":0},""]
[{"$f":"1 + LEN(Answers!B1759) - LEN(SUBSTITUTE(Answers!B1759,CHAR(10),\"\"))","v":1},"",{"$f":"LEN(Answers!B1759)","v":0},""]
[{"$f":"1 + LEN(Answers!B1760) - LEN(SUBSTITUTE(Answers!B1760,CHAR(10),\"\"))","v":1},"",{"$f":"LEN(Answers!B1760)","v":0},""]
[{"$f":"1 + LEN(Answers!B1761) - LEN(SUBSTITUTE(Answers!B1761,CHAR(10),\"\"))","v":1},"",{"$f":"LEN(Answers!B1761)","v":0},""]
[{"$f":"1 + LEN(Answers!B1762) - LEN(SUBSTITUTE(Answers!B1762,CHAR(10),\"\"))","v":1},"",{"$f":"LEN(Answers!B1762)","v":0},""]
[{"$f":"1 + LEN(Answers!B1763) - LEN(SUBSTITUTE(Answers!B1763,CHAR(10),\"\"))","v":1},"",{"$f":"LEN(Answers!B1763)","v":0},""]
[{"$f":"1 + LEN(Answers!B1764) - LEN(SUBSTITUTE(Answers!B1764,CHAR(10),\"\"))","v":1},"",{"$f":"LEN(Answers!B1764)","v":0},""]
[{"$f":"1 + LEN(Answers!B1765) - LEN(SUBSTITUTE(Answers!B1765,CHAR(10),\"\"))","v":1},"",{"$f":"LEN(Answers!B1765)","v":0},""]
[{"$f":"1 + LEN(Answers!B1766) - LEN(SUBSTITUTE(Answers!B1766,CHAR(10),\"\"))","v":1},"",{"$f":"LEN(Answers!B1766)","v":0},""]
[{"$f":"1 + LEN(Answers!B1767) - LEN(SUBSTITUTE(Answers!B1767,CHAR(10),\"\"))","v":1},"",{"$f":"LEN(Answers!B1767)","v":0},""]
[{"$f":"1 + LEN(Answers!B1768) - LEN(SUBSTITUTE(Answers!B1768,CHAR(10),\"\"))","v":1},"",{"$f":"LEN(Answers!B1768)","v":0},""]
[{"$f":"1 + LEN(Answers!B1769) - LEN(SUBSTITUTE(Answers!B1769,CHAR(10),\"\"))","v":1},"",{"$f":"LEN(Answers!B1769)","v":0},""]
[{"$f":"1 + LEN(Answers!B1770) - LEN(SUBSTITUTE(Answers!B1770,CHAR(10),\"\"))","v":1},"",{"$f":"LEN(Answers!B1770)","v":0},""]
[{"$f":"1 + LEN(Answers!B1771) - LEN(SUBSTITUTE(Answers!B1771,CHAR(10),\"\"))","v":1},"",{"$f":"LEN(Answers!B1771)","v":0},""]
[{"$f":"1 + LEN(Answers!B1772) - LEN(SUBSTITUTE(Answers!B1772,CHAR(10),\"\"))","v":1},"",{"$f":"LEN(Answers!B1772)","v":0},""]
[{"$f":"1 + LEN(Answers!B1773) - LEN(SUBSTITUTE(Answers!B1773,CHAR(10),\"\"))","v":1},"",{"$f":"LEN(Answers!B1773)","v":0},""]
[{"$f":"1 + LEN(Answers!B1774) - LEN(SUBSTITUTE(Answers!B1774,CHAR(10),\"\"))","v":1},"",{"$f":"LEN(Answers!B1774)","v":0},""]
[{"$f":"1 + LEN(Answers!B1775) - LEN(SUBSTITUTE(Answers!B1775,CHAR(10),\"\"))","v":1},"",{"$f":"LEN(Answers!B1775)","v":0},""]
[{"$f":"1 + LEN(Answers!B1776) - LEN(SUBSTITUTE(Answers!B1776,CHAR(10),\"\"))","v":1},"",{"$f":"LEN(Answers!B1776)","v":0},""]
[{"$f":"1 + LEN(Answers!B1777) - LEN(SUBSTITUTE(Answers!B1777,CHAR(10),\"\"))","v":1},"",{"$f":"LEN(Answers!B1777)","v":0},""]
[{"$f":"1 + LEN(Answers!B1778) - LEN(SUBSTITUTE(Answers!B1778,CHAR(10),\"\"))","v":1},"",{"$f":"LEN(Answers!B1778)","v":0},""]
[{"$f":"1 + LEN(Answers!B1779) - LEN(SUBSTITUTE(Answers!B1779,CHAR(10),\"\"))","v":1},"",{"$f":"LEN(Answers!B1779)","v":0},""]
[{"$f":"1 + LEN(Answers!B1780) - LEN(SUBSTITUTE(Answers!B1780,CHAR(10),\"\"))","v":1},"",{"$f":"LEN(Answers!B1780)","v":0},""]
[{"$f":"1 + LEN(Answers!B1781) - LEN(SUBSTITUTE(Answers!B1781,CHAR(10),\"\"))","v":1},"",{"$f":"LEN(Answers!B1781)","v":0},""]
[{"$f":"1 + LEN(Answers!B1782) - LEN(SUBSTITUTE(Answers!B1782,CHAR(10),\"\"))","v":1},"",{"$f":"LEN(Answers!B1782)","v":0},""]
[{"$f":"1 + LEN(Answers!B1783) - LEN(SUBSTITUTE(Answers!B1783,CHAR(10),\"\"))","v":1},"",{"$f":"LEN(Answers!B1783)","v":0},""]
[{"$f":"1 + LEN(Answers!B1784) - LEN(SUBSTITUTE(Answers!B1784,CHAR(10),\"\"))","v":1},"",{"$f":"LEN(Answers!B1784)","v":0},""]
[{"$f":"1 + LEN(Answers!B1785) - LEN(SUBSTITUTE(Answers!B1785,CHAR(10),\"\"))","v":1},"",{"$f":"LEN(Answers!B1785)","v":0},""]
[{"$f":"1 + LEN(Answers!B1786) - LEN(SUBSTITUTE(Answers!B1786,CHAR(10),\"\"))","v":1},"",{"$f":"LEN(Answers!B1786)","v":0},""]
[{"$f":"1 + LEN(Answers!B1787) - LEN(SUBSTITUTE(Answers!B1787,CHAR(10),\"\"))","v":1},"",{"$f":"LEN(Answers!B1787)","v":0},""]
[{"$f":"1 + LEN(Answers!B1788) - LEN(SUBSTITUTE(Answers!B1788,CHAR(10),\"\"))","v":1},"",{"$f":"LEN(Answers!B1788)","v":0},""]
[{"$f":"1 + LEN(Answers!B1789) - LEN(SUBSTITUTE(Answers!B1789,CHAR(10),\"\"))","v":1},"",{"$f":"LEN(Answers!B1789)","v":0},""]
[{"$f":"1 + LEN(Answers!B1790) - LEN(SUBSTITUTE(Answers!B1790,CHAR(10),\"\"))","v":1},"",{"$f":"LEN(Answers!B1790)","v":0},""]
[{"$f":"1 + LEN(Answers!B1791) - LEN(SUBSTITUTE(Answers!B1791,CHAR(10),\"\"))","v":1},"",{"$f":"LEN(Answers!B1791)","v":0},""]
[{"$f":"1 + LEN(Answers!B1792) - LEN(SUBSTITUTE(Answers!B1792,CHAR(10),\"\"))","v":1},"",{"$f":"LEN(Answers!B1792)","v":0},""]
[{"$f":"1 + LEN(Answers!B1793) - LEN(SUBSTITUTE(Answers!B1793,CHAR(10),\"\"))","v":1},"",{"$f":"LEN(Answers!B1793)","v":0},""]
[{"$f":"1 + LEN(Answers!B1794) - LEN(SUBSTITUTE(Answers!B1794,CHAR(10),\"\"))","v":1},"",{"$f":"LEN(Answers!B1794)","v":0},""]
[{"$f":"1 + LEN(Answers!B1795) - LEN(SUBSTITUTE(Answers!B1795,CHAR(10),\"\"))","v":1},{"$f":"IF(A1796>4,\"alert\",\"\")","v":""},{"$f":"LEN(Answers!B1795)","v":0},{"$f":"IF(C1796>120,\"alert\",\"\")","v":""}]
[{"$f":"1 + LEN(Answers!B1796) - LEN(SUBSTITUTE(Answers!B1796,CHAR(10),\"\"))","v":1},"",{"$f":"LEN(Answers!B1796)","v":0},""]
[{"$f":"1 + LEN(Answers!B1797) - LEN(SUBSTITUTE(Answers!B1797,CHAR(10),\"\"))","v":1},"",{"$f":"LEN(Answers!B1797)","v":0},""]
[{"$f":"1 + LEN(Answers!B1798) - LEN(SUBSTITUTE(Answers!B1798,CHAR(10),\"\"))","v":1},"",{"$f":"LEN(Answers!B1798)","v":0},""]
[{"$f":"1 + LEN(Answers!B1799) - LEN(SUBSTITUTE(Answers!B1799,CHAR(10),\"\"))","v":1},"",{"$f":"LEN(Answers!B1799)","v":0},""]
[{"$f":"1 + LEN(Answers!B1800) - LEN(SUBSTITUTE(Answers!B1800,CHAR(10),\"\"))","v":1},"",{"$f":"LEN(Answers!B1800)","v":0},""]
[{"$f":"1 + LEN(Answers!B1801) - LEN(SUBSTITUTE(Answers!B1801,CHAR(10),\"\"))","v":1},"",{"$f":"LEN(Answers!B1801)","v":0},""]
[{"$f":"1 + LEN(Answers!B1802) - LEN(SUBSTITUTE(Answers!B1802,CHAR(10),\"\"))","v":1},"",{"$f":"LEN(Answers!B1802)","v":0},""]
[{"$f":"1 + LEN(Answers!B1803) - LEN(SUBSTITUTE(Answers!B1803,CHAR(10),\"\"))","v":1},"",{"$f":"LEN(Answers!B1803)","v":0},""]
[{"$f":"1 + LEN(Answers!B1804) - LEN(SUBSTITUTE(Answers!B1804,CHAR(10),\"\"))","v":1},"",{"$f":"LEN(Answers!B1804)","v":0},""]
[{"$f":"1 + LEN(Answers!B1805) - LEN(SUBSTITUTE(Answers!B1805,CHAR(10),\"\"))","v":1},"",{"$f":"LEN(Answers!B1805)","v":0},""]
[{"$f":"1 + LEN(Answers!B1806) - LEN(SUBSTITUTE(Answers!B1806,CHAR(10),\"\"))","v":1},"",{"$f":"LEN(Answers!B1806)","v":0},""]
[{"$f":"1 + LEN(Answers!B1807) - LEN(SUBSTITUTE(Answers!B1807,CHAR(10),\"\"))","v":1},"",{"$f":"LEN(Answers!B1807)","v":0},""]
[{"$f":"1 + LEN(Answers!B1808) - LEN(SUBSTITUTE(Answers!B1808,CHAR(10),\"\"))","v":1},"",{"$f":"LEN(Answers!B1808)","v":0},""]
[{"$f":"1 + LEN(Answers!B1809) - LEN(SUBSTITUTE(Answers!B1809,CHAR(10),\"\"))","v":1},"",{"$f":"LEN(Answers!B1809)","v":0},""]
[{"$f":"1 + LEN(Answers!B1810) - LEN(SUBSTITUTE(Answers!B1810,CHAR(10),\"\"))","v":1},"",{"$f":"LEN(Answers!B1810)","v":0},""]
[{"$f":"1 + LEN(Answers!B1811) - LEN(SUBSTITUTE(Answers!B1811,CHAR(10),\"\"))","v":1},"",{"$f":"LEN(Answers!B1811)","v":0},""]
[{"$f":"1 + LEN(Answers!B1812) - LEN(SUBSTITUTE(Answers!B1812,CHAR(10),\"\"))","v":1},"",{"$f":"LEN(Answers!B1812)","v":0},""]
[{"$f":"1 + LEN(Answers!B1813) - LEN(SUBSTITUTE(Answers!B1813,CHAR(10),\"\"))","v":1},"",{"$f":"LEN(Answers!B1813)","v":0},""]
[{"$f":"1 + LEN(Answers!B1814) - LEN(SUBSTITUTE(Answers!B1814,CHAR(10),\"\"))","v":1},"",{"$f":"LEN(Answers!B1814)","v":0},""]
[{"$f":"1 + LEN(Answers!B1815) - LEN(SUBSTITUTE(Answers!B1815,CHAR(10),\"\"))","v":1},"",{"$f":"LEN(Answers!B1815)","v":0},""]
[{"$f":"1 + LEN(Answers!B1816) - LEN(SUBSTITUTE(Answers!B1816,CHAR(10),\"\"))","v":1},"",{"$f":"LEN(Answers!B1816)","v":0},""]
[{"$f":"1 + LEN(Answers!B1817) - LEN(SUBSTITUTE(Answers!B1817,CHAR(10),\"\"))","v":1},"",{"$f":"LEN(Answers!B1817)","v":0},""]
[{"$f":"1 + LEN(Answers!B1818) - LEN(SUBSTITUTE(Answers!B1818,CHAR(10),\"\"))","v":1},"",{"$f":"LEN(Answers!B1818)","v":0},""]
[{"$f":"1 + LEN(Answers!B1819) - LEN(SUBSTITUTE(Answers!B1819,CHAR(10),\"\"))","v":1},"",{"$f":"LEN(Answers!B1819)","v":0},""]
[{"$f":"1 + LEN(Answers!B1820) - LEN(SUBSTITUTE(Answers!B1820,CHAR(10),\"\"))","v":1},"",{"$f":"LEN(Answers!B1820)","v":0},""]
[{"$f":"1 + LEN(Answers!B1821) - LEN(SUBSTITUTE(Answers!B1821,CHAR(10),\"\"))","v":1},"",{"$f":"LEN(Answers!B1821)","v":0},""]
[{"$f":"1 + LEN(Answers!B1822) - LEN(SUBSTITUTE(Answers!B1822,CHAR(10),\"\"))","v":1},"",{"$f":"LEN(Answers!B1822)","v":0},""]
[{"$f":"1 + LEN(Answers!B1823) - LEN(SUBSTITUTE(Answers!B1823,CHAR(10),\"\"))","v":1},"",{"$f":"LEN(Answers!B1823)","v":0},""]
[{"$f":"1 + LEN(Answers!B1824) - LEN(SUBSTITUTE(Answers!B1824,CHAR(10),\"\"))","v":1},"",{"$f":"LEN(Answers!B1824)","v":0},""]
[{"$f":"1 + LEN(Answers!B1825) - LEN(SUBSTITUTE(Answers!B1825,CHAR(10),\"\"))","v":1},"",{"$f":"LEN(Answers!B1825)","v":0},""]
[{"$f":"1 + LEN(Answers!B1826) - LEN(SUBSTITUTE(Answers!B1826,CHAR(10),\"\"))","v":1},"",{"$f":"LEN(Answers!B1826)","v":0},""]
[{"$f":"1 + LEN(Answers!B1827) - LEN(SUBSTITUTE(Answers!B1827,CHAR(10),\"\"))","v":1},"",{"$f":"LEN(Answers!B1827)","v":0},""]
[{"$f":"1 + LEN(Answers!B1828) - LEN(SUBSTITUTE(Answers!B1828,CHAR(10),\"\"))","v":1},"",{"$f":"LEN(Answers!B1828)","v":0},""]
[{"$f":"1 + LEN(Answers!B1829) - LEN(SUBSTITUTE(Answers!B1829,CHAR(10),\"\"))","v":1},"",{"$f":"LEN(Answers!B1829)","v":0},""]
[{"$f":"1 + LEN(Answers!B1830) - LEN(SUBSTITUTE(Answers!B1830,CHAR(10),\"\"))","v":1},"",{"$f":"LEN(Answers!B1830)","v":0},""]
[{"$f":"1 + LEN(Answers!B1831) - LEN(SUBSTITUTE(Answers!B1831,CHAR(10),\"\"))","v":1},"",{"$f":"LEN(Answers!B1831)","v":0},""]
[{"$f":"1 + LEN(Answers!B1832) - LEN(SUBSTITUTE(Answers!B1832,CHAR(10),\"\"))","v":1},"",{"$f":"LEN(Answers!B1832)","v":0},""]
[{"$f":"1 + LEN(Answers!B1833) - LEN(SUBSTITUTE(Answers!B1833,CHAR(10),\"\"))","v":1},"",{"$f":"LEN(Answers!B1833)","v":0},""]
[{"$f":"1 + LEN(Answers!B1834) - LEN(SUBSTITUTE(Answers!B1834,CHAR(10),\"\"))","v":1},"",{"$f":"LEN(Answers!B1834)","v":0},""]
[{"$f":"1 + LEN(Answers!B1835) - LEN(SUBSTITUTE(Answers!B1835,CHAR(10),\"\"))","v":1},"",{"$f":"LEN(Answers!B1835)","v":0},""]
[{"$f":"1 + LEN(Answers!B1836) - LEN(SUBSTITUTE(Answers!B1836,CHAR(10),\"\"))","v":1},"",{"$f":"LEN(Answers!B1836)","v":0},""]
[{"$f":"1 + LEN(Answers!B1837) - LEN(SUBSTITUTE(Answers!B1837,CHAR(10),\"\"))","v":1},"",{"$f":"LEN(Answers!B1837)","v":0},""]
[{"$f":"1 + LEN(Answers!B1838) - LEN(SUBSTITUTE(Answers!B1838,CHAR(10),\"\"))","v":1},"",{"$f":"LEN(Answers!B1838)","v":0},""]
[{"$f":"1 + LEN(Answers!B1839) - LEN(SUBSTITUTE(Answers!B1839,CHAR(10),\"\"))","v":1},"",{"$f":"LEN(Answers!B1839)","v":0},""]
[{"$f":"1 + LEN(Answers!B1840) - LEN(SUBSTITUTE(Answers!B1840,CHAR(10),\"\"))","v":1},"",{"$f":"LEN(Answers!B1840)","v":0},""]
[{"$f":"1 + LEN(Answers!B1841) - LEN(SUBSTITUTE(Answers!B1841,CHAR(10),\"\"))","v":1},"",{"$f":"LEN(Answers!B1841)","v":0},""]
[{"$f":"1 + LEN(Answers!B1842) - LEN(SUBSTITUTE(Answers!B1842,CHAR(10),\"\"))","v":1},"",{"$f":"LEN(Answers!B1842)","v":0},""]
[{"$f":"1 + LEN(Answers!B1843) - LEN(SUBSTITUTE(Answers!B1843,CHAR(10),\"\"))","v":1},"",{"$f":"LEN(Answers!B1843)","v":0},""]
[{"$f":"1 + LEN(Answers!B1844) - LEN(SUBSTITUTE(Answers!B1844,CHAR(10),\"\"))","v":1},"",{"$f":"LEN(Answers!B1844)","v":0},""]
[{"$f":"1 + LEN(Answers!B1845) - LEN(SUBSTITUTE(Answers!B1845,CHAR(10),\"\"))","v":1},"",{"$f":"LEN(Answers!B1845)","v":0},""]
[{"$f":"1 + LEN(Answers!B1846) - LEN(SUBSTITUTE(Answers!B1846,CHAR(10),\"\"))","v":1},"",{"$f":"LEN(Answers!B1846)","v":0},""]
[{"$f":"1 + LEN(Answers!B1847) - LEN(SUBSTITUTE(Answers!B1847,CHAR(10),\"\"))","v":1},"",{"$f":"LEN(Answers!B1847)","v":0},""]
[{"$f":"1 + LEN(Answers!B1848) - LEN(SUBSTITUTE(Answers!B1848,CHAR(10),\"\"))","v":1},"",{"$f":"LEN(Answers!B1848)","v":0},""]
[{"$f":"1 + LEN(Answers!B1849) - LEN(SUBSTITUTE(Answers!B1849,CHAR(10),\"\"))","v":1},"",{"$f":"LEN(Answers!B1849)","v":0},""]
[{"$f":"1 + LEN(Answers!B1850) - LEN(SUBSTITUTE(Answers!B1850,CHAR(10),\"\"))","v":1},"",{"$f":"LEN(Answers!B1850)","v":0},""]
[{"$f":"1 + LEN(Answers!B1851) - LEN(SUBSTITUTE(Answers!B1851,CHAR(10),\"\"))","v":1},"",{"$f":"LEN(Answers!B1851)","v":0},""]
[{"$f":"1 + LEN(Answers!B1852) - LEN(SUBSTITUTE(Answers!B1852,CHAR(10),\"\"))","v":1},"",{"$f":"LEN(Answers!B1852)","v":0},""]
[{"$f":"1 + LEN(Answers!B1853) - LEN(SUBSTITUTE(Answers!B1853,CHAR(10),\"\"))","v":1},"",{"$f":"LEN(Answers!B1853)","v":0},""]
[{"$f":"1 + LEN(Answers!B1854) - LEN(SUBSTITUTE(Answers!B1854,CHAR(10),\"\"))","v":1},"",{"$f":"LEN(Answers!B1854)","v":0},""]
[{"$f":"1 + LEN(Answers!B1855) - LEN(SUBSTITUTE(Answers!B1855,CHAR(10),\"\"))","v":1},"",{"$f":"LEN(Answers!B1855)","v":0},""]
[{"$f":"1 + LEN(Answers!B1856) - LEN(SUBSTITUTE(Answers!B1856,CHAR(10),\"\"))","v":1},"",{"$f":"LEN(Answers!B1856)","v":0},""]
[{"$f":"1 + LEN(Answers!B1857) - LEN(SUBSTITUTE(Answers!B1857,CHAR(10),\"\"))","v":1},"",{"$f":"LEN(Answers!B1857)","v":0},""]
[{"$f":"1 + LEN(Answers!B1858) - LEN(SUBSTITUTE(Answers!B1858,CHAR(10),\"\"))","v":1},"",{"$f":"LEN(Answers!B1858)","v":0},""]
[{"$f":"1 + LEN(Answers!B1859) - LEN(SUBSTITUTE(Answers!B1859,CHAR(10),\"\"))","v":1},{"$f":"IF(A1860>4,\"alert\",\"\")","v":""},{"$f":"LEN(Answers!B1859)","v":0},{"$f":"IF(C1860>120,\"alert\",\"\")","v":""}]
[{"$f":"1 + LEN(Answers!B1860) - LEN(SUBSTITUTE(Answers!B1860,CHAR(10),\"\"))","v":1},"",{"$f":"LEN(Answers!B1860)","v":0},""]
[{"$f":"1 + LEN(Answers!B1861) - LEN(SUBSTITUTE(Answers!B1861,CHAR(10),\"\"))","v":1},"",{"$f":"LEN(Answers!B1861)","v":0},""]
[{"$f":"1 + LEN(Answers!B1862) - LEN(SUBSTITUTE(Answers!B1862,CHAR(10),\"\"))","v":1},"",{"$f":"LEN(Answers!B1862)","v":0},""]
[{"$f":"1 + LEN(Answers!B1863) - LEN(SUBSTITUTE(Answers!B1863,CHAR(10),\"\"))","v":1},"",{"$f":"LEN(Answers!B1863)","v":0},""]
[{"$f":"1 + LEN(Answers!B1864) - LEN(SUBSTITUTE(Answers!B1864,CHAR(10),\"\"))","v":1},"",{"$f":"LEN(Answers!B1864)","v":0},""]
[{"$f":"1 + LEN(Answers!B1865) - LEN(SUBSTITUTE(Answers!B1865,CHAR(10),\"\"))","v":1},"",{"$f":"LEN(Answers!B1865)","v":0},""]
[{"$f":"1 + LEN(Answers!B1866) - LEN(SUBSTITUTE(Answers!B1866,CHAR(10),\"\"))","v":1},"",{"$f":"LEN(Answers!B1866)","v":0},""]
[{"$f":"1 + LEN(Answers!B1867) - LEN(SUBSTITUTE(Answers!B1867,CHAR(10),\"\"))","v":1},"",{"$f":"LEN(Answers!B1867)","v":0},""]
[{"$f":"1 + LEN(Answers!B1868) - LEN(SUBSTITUTE(Answers!B1868,CHAR(10),\"\"))","v":1},"",{"$f":"LEN(Answers!B1868)","v":0},""]
[{"$f":"1 + LEN(Answers!B1869) - LEN(SUBSTITUTE(Answers!B1869,CHAR(10),\"\"))","v":1},"",{"$f":"LEN(Answers!B1869)","v":0},""]
[{"$f":"1 + LEN(Answers!B1870) - LEN(SUBSTITUTE(Answers!B1870,CHAR(10),\"\"))","v":1},"",{"$f":"LEN(Answers!B1870)","v":0},""]
[{"$f":"1 + LEN(Answers!B1871) - LEN(SUBSTITUTE(Answers!B1871,CHAR(10),\"\"))","v":1},"",{"$f":"LEN(Answers!B1871)","v":0},""]
[{"$f":"1 + LEN(Answers!B1872) - LEN(SUBSTITUTE(Answers!B1872,CHAR(10),\"\"))","v":1},"",{"$f":"LEN(Answers!B1872)","v":0},""]
[{"$f":"1 + LEN(Answers!B1873) - LEN(SUBSTITUTE(Answers!B1873,CHAR(10),\"\"))","v":1},"",{"$f":"LEN(Answers!B1873)","v":0},""]
[{"$f":"1 + LEN(Answers!B1874) - LEN(SUBSTITUTE(Answers!B1874,CHAR(10),\"\"))","v":1},"",{"$f":"LEN(Answers!B1874)","v":0},""]
[{"$f":"1 + LEN(Answers!B1875) - LEN(SUBSTITUTE(Answers!B1875,CHAR(10),\"\"))","v":1},"",{"$f":"LEN(Answers!B1875)","v":0},""]
[{"$f":"1 + LEN(Answers!B1876) - LEN(SUBSTITUTE(Answers!B1876,CHAR(10),\"\"))","v":1},"",{"$f":"LEN(Answers!B1876)","v":0},""]
[{"$f":"1 + LEN(Answers!B1877) - LEN(SUBSTITUTE(Answers!B1877,CHAR(10),\"\"))","v":1},"",{"$f":"LEN(Answers!B1877)","v":0},""]
[{"$f":"1 + LEN(Answers!B1878) - LEN(SUBSTITUTE(Answers!B1878,CHAR(10),\"\"))","v":1},"",{"$f":"LEN(Answers!B1878)","v":0},""]
[{"$f":"1 + LEN(Answers!B1879) - LEN(SUBSTITUTE(Answers!B1879,CHAR(10),\"\"))","v":1},"",{"$f":"LEN(Answers!B1879)","v":0},""]
[{"$f":"1 + LEN(Answers!B1880) - LEN(SUBSTITUTE(Answers!B1880,CHAR(10),\"\"))","v":1},"",{"$f":"LEN(Answers!B1880)","v":0},""]
[{"$f":"1 + LEN(Answers!B1881) - LEN(SUBSTITUTE(Answers!B1881,CHAR(10),\"\"))","v":1},"",{"$f":"LEN(Answers!B1881)","v":0},""]
[{"$f":"1 + LEN(Answers!B1882) - LEN(SUBSTITUTE(Answers!B1882,CHAR(10),\"\"))","v":1},"",{"$f":"LEN(Answers!B1882)","v":0},""]
[{"$f":"1 + LEN(Answers!B1883) - LEN(SUBSTITUTE(Answers!B1883,CHAR(10),\"\"))","v":1},"",{"$f":"LEN(Answers!B1883)","v":0},""]
[{"$f":"1 + LEN(Answers!B1884) - LEN(SUBSTITUTE(Answers!B1884,CHAR(10),\"\"))","v":1},"",{"$f":"LEN(Answers!B1884)","v":0},""]
[{"$f":"1 + LEN(Answers!B1885) - LEN(SUBSTITUTE(Answers!B1885,CHAR(10),\"\"))","v":1},"",{"$f":"LEN(Answers!B1885)","v":0},""]
[{"$f":"1 + LEN(Answers!B1886) - LEN(SUBSTITUTE(Answers!B1886,CHAR(10),\"\"))","v":1},"",{"$f":"LEN(Answers!B1886)","v":0},""]
[{"$f":"1 + LEN(Answers!B1887) - LEN(SUBSTITUTE(Answers!B1887,CHAR(10),\"\"))","v":1},"",{"$f":"LEN(Answers!B1887)","v":0},""]
[{"$f":"1 + LEN(Answers!B1888) - LEN(SUBSTITUTE(Answers!B1888,CHAR(10),\"\"))","v":1},"",{"$f":"LEN(Answers!B1888)","v":0},""]
[{"$f":"1 + LEN(Answers!B1889) - LEN(SUBSTITUTE(Answers!B1889,CHAR(10),\"\"))","v":1},"",{"$f":"LEN(Answers!B1889)","v":0},""]
[{"$f":"1 + LEN(Answers!B1890) - LEN(SUBSTITUTE(Answers!B1890,CHAR(10),\"\"))","v":1},"",{"$f":"LEN(Answers!B1890)","v":0},""]
[{"$f":"1 + LEN(Answers!B1891) - LEN(SUBSTITUTE(Answers!B1891,CHAR(10),\"\"))","v":1},"",{"$f":"LEN(Answers!B1891)","v":0},""]
[{"$f":"1 + LEN(Answers!B1892) - LEN(SUBSTITUTE(Answers!B1892,CHAR(10),\"\"))","v":1},"",{"$f":"LEN(Answers!B1892)","v":0},""]
[{"$f":"1 + LEN(Answers!B1893) - LEN(SUBSTITUTE(Answers!B1893,CHAR(10),\"\"))","v":1},"",{"$f":"LEN(Answers!B1893)","v":0},""]
[{"$f":"1 + LEN(Answers!B1894) - LEN(SUBSTITUTE(Answers!B1894,CHAR(10),\"\"))","v":1},"",{"$f":"LEN(Answers!B1894)","v":0},""]
[{"$f":"1 + LEN(Answers!B1895) - LEN(SUBSTITUTE(Answers!B1895,CHAR(10),\"\"))","v":1},"",{"$f":"LEN(Answers!B1895)","v":0},""]
[{"$f":"1 + LEN(Answers!B1896) - LEN(SUBSTITUTE(Answers!B1896,CHAR(10),\"\"))","v":1},"",{"$f":"LEN(Answers!B1896)","v":0},""]
[{"$f":"1 + LEN(Answers!B1897) - LEN(SUBSTITUTE(Answers!B1897,CHAR(10),\"\"))","v":1},"",{"$f":"LEN(Answers!B1897)","v":0},""]
[{"$f":"1 + LEN(Answers!B1898) - LEN(SUBSTITUTE(Answers!B1898,CHAR(10),\"\"))","v":1},"",{"$f":"LEN(Answers!B1898)","v":0},""]
[{"$f":"1 + LEN(Answers!B1899) - LEN(SUBSTITUTE(Answers!B1899,CHAR(10),\"\"))","v":1},"",{"$f":"LEN(Answers!B1899)","v":0},""]
[{"$f":"1 + LEN(Answers!B1900) - LEN(SUBSTITUTE(Answers!B1900,CHAR(10),\"\"))","v":1},"",{"$f":"LEN(Answers!B1900)","v":0},""]
[{"$f":"1 + LEN(Answers!B1901) - LEN(SUBSTITUTE(Answers!B1901,CHAR(10),\"\"))","v":1},"",{"$f":"LEN(Answers!B1901)","v":0},""]
[{"$f":"1 + LEN(Answers!B1902) - LEN(SUBSTITUTE(Answers!B1902,CHAR(10),\"\"))","v":1},"",{"$f":"LEN(Answers!B1902)","v":0},""]
[{"$f":"1 + LEN(Answers!B1903) - LEN(SUBSTITUTE(Answers!B1903,CHAR(10),\"\"))","v":1},"",{"$f":"LEN(Answers!B1903)","v":0},""]
[{"$f":"1 + LEN(Answers!B1904) - LEN(SUBSTITUTE(Answers!B1904,CHAR(10),\"\"))","v":1},"",{"$f":"LEN(Answers!B1904)","v":0},""]
[{"$f":"1 + LEN(Answers!B1905) - LEN(SUBSTITUTE(Answers!B1905,CHAR(10),\"\"))","v":1},"",{"$f":"LEN(Answers!B1905)","v":0},""]
[{"$f":"1 + LEN(Answers!B1906) - LEN(SUBSTITUTE(Answers!B1906,CHAR(10),\"\"))","v":1},"",{"$f":"LEN(Answers!B1906)","v":0},""]
[{"$f":"1 + LEN(Answers!B1907) - LEN(SUBSTITUTE(Answers!B1907,CHAR(10),\"\"))","v":1},"",{"$f":"LEN(Answers!B1907)","v":0},""]
[{"$f":"1 + LEN(Answers!B1908) - LEN(SUBSTITUTE(Answers!B1908,CHAR(10),\"\"))","v":1},"",{"$f":"LEN(Answers!B1908)","v":0},""]
[{"$f":"1 + LEN(Answers!B1909) - LEN(SUBSTITUTE(Answers!B1909,CHAR(10),\"\"))","v":1},"",{"$f":"LEN(Answers!B1909)","v":0},""]
[{"$f":"1 + LEN(Answers!B1910) - LEN(SUBSTITUTE(Answers!B1910,CHAR(10),\"\"))","v":1},"",{"$f":"LEN(Answers!B1910)","v":0},""]
[{"$f":"1 + LEN(Answers!B1911) - LEN(SUBSTITUTE(Answers!B1911,CHAR(10),\"\"))","v":1},"",{"$f":"LEN(Answers!B1911)","v":0},""]
[{"$f":"1 + LEN(Answers!B1912) - LEN(SUBSTITUTE(Answers!B1912,CHAR(10),\"\"))","v":1},"",{"$f":"LEN(Answers!B1912)","v":0},""]
[{"$f":"1 + LEN(Answers!B1913) - LEN(SUBSTITUTE(Answers!B1913,CHAR(10),\"\"))","v":1},"",{"$f":"LEN(Answers!B1913)","v":0},""]
[{"$f":"1 + LEN(Answers!B1914) - LEN(SUBSTITUTE(Answers!B1914,CHAR(10),\"\"))","v":1},"",{"$f":"LEN(Answers!B1914)","v":0},""]
[{"$f":"1 + LEN(Answers!B1915) - LEN(SUBSTITUTE(Answers!B1915,CHAR(10),\"\"))","v":1},"",{"$f":"LEN(Answers!B1915)","v":0},""]
[{"$f":"1 + LEN(Answers!B1916) - LEN(SUBSTITUTE(Answers!B1916,CHAR(10),\"\"))","v":1},"",{"$f":"LEN(Answers!B1916)","v":0},""]
[{"$f":"1 + LEN(Answers!B1917) - LEN(SUBSTITUTE(Answers!B1917,CHAR(10),\"\"))","v":1},"",{"$f":"LEN(Answers!B1917)","v":0},""]
[{"$f":"1 + LEN(Answers!B1918) - LEN(SUBSTITUTE(Answers!B1918,CHAR(10),\"\"))","v":1},"",{"$f":"LEN(Answers!B1918)","v":0},""]
[{"$f":"1 + LEN(Answers!B1919) - LEN(SUBSTITUTE(Answers!B1919,CHAR(10),\"\"))","v":1},"",{"$f":"LEN(Answers!B1919)","v":0},""]
[{"$f":"1 + LEN(Answers!B1920) - LEN(SUBSTITUTE(Answers!B1920,CHAR(10),\"\"))","v":1},"",{"$f":"LEN(Answers!B1920)","v":0},""]
[{"$f":"1 + LEN(Answers!B1921) - LEN(SUBSTITUTE(Answers!B1921,CHAR(10),\"\"))","v":1},"",{"$f":"LEN(Answers!B1921)","v":0},""]
[{"$f":"1 + LEN(Answers!B1922) - LEN(SUBSTITUTE(Answers!B1922,CHAR(10),\"\"))","v":1},"",{"$f":"LEN(Answers!B1922)","v":0},""]
[{"$f":"1 + LEN(Answers!B1923) - LEN(SUBSTITUTE(Answers!B1923,CHAR(10),\"\"))","v":1},{"$f":"IF(A1924>4,\"alert\",\"\")","v":""},{"$f":"LEN(Answers!B1923)","v":0},{"$f":"IF(C1924>120,\"alert\",\"\")","v":""}]
[{"$f":"1 + LEN(Answers!B1924) - LEN(SUBSTITUTE(Answers!B1924,CHAR(10),\"\"))","v":1},"",{"$f":"LEN(Answers!B1924)","v":0},""]
[{"$f":"1 + LEN(Answers!B1925) - LEN(SUBSTITUTE(Answers!B1925,CHAR(10),\"\"))","v":1},"",{"$f":"LEN(Answers!B1925)","v":0},""]
[{"$f":"1 + LEN(Answers!B1926) - LEN(SUBSTITUTE(Answers!B1926,CHAR(10),\"\"))","v":1},"",{"$f":"LEN(Answers!B1926)","v":0},""]
[{"$f":"1 + LEN(Answers!B1927) - LEN(SUBSTITUTE(Answers!B1927,CHAR(10),\"\"))","v":1},"",{"$f":"LEN(Answers!B1927)","v":0},""]
[{"$f":"1 + LEN(Answers!B1928) - LEN(SUBSTITUTE(Answers!B1928,CHAR(10),\"\"))","v":1},"",{"$f":"LEN(Answers!B1928)","v":0},""]
[{"$f":"1 + LEN(Answers!B1929) - LEN(SUBSTITUTE(Answers!B1929,CHAR(10),\"\"))","v":1},"",{"$f":"LEN(Answers!B1929)","v":0},""]
[{"$f":"1 + LEN(Answers!B1930) - LEN(SUBSTITUTE(Answers!B1930,CHAR(10),\"\"))","v":1},"",{"$f":"LEN(Answers!B1930)","v":0},""]
[{"$f":"1 + LEN(Answers!B1931) - LEN(SUBSTITUTE(Answers!B1931,CHAR(10),\"\"))","v":1},"",{"$f":"LEN(Answers!B1931)","v":0},""]
[{"$f":"1 + LEN(Answers!B1932) - LEN(SUBSTITUTE(Answers!B1932,CHAR(10),\"\"))","v":1},"",{"$f":"LEN(Answers!B1932)","v":0},""]
[{"$f":"1 + LEN(Answers!B1933) - LEN(SUBSTITUTE(Answers!B1933,CHAR(10),\"\"))","v":1},"",{"$f":"LEN(Answers!B1933)","v":0},""]
[{"$f":"1 + LEN(Answers!B1934) - LEN(SUBSTITUTE(Answers!B1934,CHAR(10),\"\"))","v":1},"",{"$f":"LEN(Answers!B1934)","v":0},""]
[{"$f":"1 + LEN(Answers!B1935) - LEN(SUBSTITUTE(Answers!B1935,CHAR(10),\"\"))","v":1},"",{"$f":"LEN(Answers!B1935)","v":0},""]
[{"$f":"1 + LEN(Answers!B1936) - LEN(SUBSTITUTE(Answers!B1936,CHAR(10),\"\"))","v":1},"",{"$f":"LEN(Answers!B1936)","v":0},""]
[{"$f":"1 + LEN(Answers!B1937) - LEN(SUBSTITUTE(Answers!B1937,CHAR(10),\"\"))","v":1},"",{"$f":"LEN(Answers!B1937)","v":0},""]
[{"$f":"1 + LEN(Answers!B1938) - LEN(SUBSTITUTE(Answers!B1938,CHAR(10),\"\"))","v":1},"",{"$f":"LEN(Answers!B1938)","v":0},""]
[{"$f":"1 + LEN(Answers!B1939) - LEN(SUBSTITUTE(Answers!B1939,CHAR(10),\"\"))","v":1},"",{"$f":"LEN(Answers!B1939)","v":0},""]
[{"$f":"1 + LEN(Answers!B1940) - LEN(SUBSTITUTE(Answers!B1940,CHAR(10),\"\"))","v":1},"",{"$f":"LEN(Answers!B1940)","v":0},""]
[{"$f":"1 + LEN(Answers!B1941) - LEN(SUBSTITUTE(Answers!B1941,CHAR(10),\"\"))","v":1},"",{"$f":"LEN(Answers!B1941)","v":0},""]
[{"$f":"1 + LEN(Answers!B1942) - LEN(SUBSTITUTE(Answers!B1942,CHAR(10),\"\"))","v":1},"",{"$f":"LEN(Answers!B1942)","v":0},""]
[{"$f":"1 + LEN(Answers!B1943) - LEN(SUBSTITUTE(Answers!B1943,CHAR(10),\"\"))","v":1},"",{"$f":"LEN(Answers!B1943)","v":0},""]
[{"$f":"1 + LEN(Answers!B1944) - LEN(SUBSTITUTE(Answers!B1944,CHAR(10),\"\"))","v":1},"",{"$f":"LEN(Answers!B1944)","v":0},""]
[{"$f":"1 + LEN(Answers!B1945) - LEN(SUBSTITUTE(Answers!B1945,CHAR(10),\"\"))","v":1},"",{"$f":"LEN(Answers!B1945)","v":0},""]
[{"$f":"1 + LEN(Answers!B1946) - LEN(SUBSTITUTE(Answers!B1946,CHAR(10),\"\"))","v":1},"",{"$f":"LEN(Answers!B1946)","v":0},""]
[{"$f":"1 + LEN(Answers!B1947) - LEN(SUBSTITUTE(Answers!B1947,CHAR(10),\"\"))","v":1},"",{"$f":"LEN(Answers!B1947)","v":0},""]
[{"$f":"1 + LEN(Answers!B1948) - LEN(SUBSTITUTE(Answers!B1948,CHAR(10),\"\"))","v":1},"",{"$f":"LEN(Answers!B1948)","v":0},""]
[{"$f":"1 + LEN(Answers!B1949) - LEN(SUBSTITUTE(Answers!B1949,CHAR(10),\"\"))","v":1},"",{"$f":"LEN(Answers!B1949)","v":0},""]
[{"$f":"1 + LEN(Answers!B1950) - LEN(SUBSTITUTE(Answers!B1950,CHAR(10),\"\"))","v":1},"",{"$f":"LEN(Answers!B1950)","v":0},""]
[{"$f":"1 + LEN(Answers!B1951) - LEN(SUBSTITUTE(Answers!B1951,CHAR(10),\"\"))","v":1},"",{"$f":"LEN(Answers!B1951)","v":0},""]
[{"$f":"1 + LEN(Answers!B1952) - LEN(SUBSTITUTE(Answers!B1952,CHAR(10),\"\"))","v":1},"",{"$f":"LEN(Answers!B1952)","v":0},""]
[{"$f":"1 + LEN(Answers!B1953) - LEN(SUBSTITUTE(Answers!B1953,CHAR(10),\"\"))","v":1},"",{"$f":"LEN(Answers!B1953)","v":0},""]
[{"$f":"1 + LEN(Answers!B1954) - LEN(SUBSTITUTE(Answers!B1954,CHAR(10),\"\"))","v":1},"",{"$f":"LEN(Answers!B1954)","v":0},""]
[{"$f":"1 + LEN(Answers!B1955) - LEN(SUBSTITUTE(Answers!B1955,CHAR(10),\"\"))","v":1},"",{"$f":"LEN(Answers!B1955)","v":0},""]
[{"$f":"1 + LEN(Answers!B1956) - LEN(SUBSTITUTE(Answers!B1956,CHAR(10),\"\"))","v":1},"",{"$f":"LEN(Answers!B1956)","v":0},""]
[{"$f":"1 + LEN(Answers!B1957) - LEN(SUBSTITUTE(Answers!B1957,CHAR(10),\"\"))","v":1},"",{"$f":"LEN(Answers!B1957)","v":0},""]
[{"$f":"1 + LEN(Answers!B1958) - LEN(SUBSTITUTE(Answers!B1958,CHAR(10),\"\"))","v":1},"",{"$f":"LEN(Answers!B1958)","v":0},""]
[{"$f":"1 + LEN(Answers!B1959) - LEN(SUBSTITUTE(Answers!B1959,CHAR(10),\"\"))","v":1},"",{"$f":"LEN(Answers!B1959)","v":0},""]
[{"$f":"1 + LEN(Answers!B1960) - LEN(SUBSTITUTE(Answers!B1960,CHAR(10),\"\"))","v":1},"",{"$f":"LEN(Answers!B1960)","v":0},""]
[{"$f":"1 + LEN(Answers!B1961) - LEN(SUBSTITUTE(Answers!B1961,CHAR(10),\"\"))","v":1},"",{"$f":"LEN(Answers!B1961)","v":0},""]
[{"$f":"1 + LEN(Answers!B1962) - LEN(SUBSTITUTE(Answers!B1962,CHAR(10),\"\"))","v":1},"",{"$f":"LEN(Answers!B1962)","v":0},""]
[{"$f":"1 + LEN(Answers!B1963) - LEN(SUBSTITUTE(Answers!B1963,CHAR(10),\"\"))","v":1},"",{"$f":"LEN(Answers!B1963)","v":0},""]
[{"$f":"1 + LEN(Answers!B1964) - LEN(SUBSTITUTE(Answers!B1964,CHAR(10),\"\"))","v":1},"",{"$f":"LEN(Answers!B1964)","v":0},""]
[{"$f":"1 + LEN(Answers!B1965) - LEN(SUBSTITUTE(Answers!B1965,CHAR(10),\"\"))","v":1},"",{"$f":"LEN(Answers!B1965)","v":0},""]
[{"$f":"1 + LEN(Answers!B1966) - LEN(SUBSTITUTE(Answers!B1966,CHAR(10),\"\"))","v":1},"",{"$f":"LEN(Answers!B1966)","v":0},""]
[{"$f":"1 + LEN(Answers!B1967) - LEN(SUBSTITUTE(Answers!B1967,CHAR(10),\"\"))","v":1},"",{"$f":"LEN(Answers!B1967)","v":0},""]
[{"$f":"1 + LEN(Answers!B1968) - LEN(SUBSTITUTE(Answers!B1968,CHAR(10),\"\"))","v":1},"",{"$f":"LEN(Answers!B1968)","v":0},""]
[{"$f":"1 + LEN(Answers!B1969) - LEN(SUBSTITUTE(Answers!B1969,CHAR(10),\"\"))","v":1},"",{"$f":"LEN(Answers!B1969)","v":0},""]
[{"$f":"1 + LEN(Answers!B1970) - LEN(SUBSTITUTE(Answers!B1970,CHAR(10),\"\"))","v":1},"",{"$f":"LEN(Answers!B1970)","v":0},""]
[{"$f":"1 + LEN(Answers!B1971) - LEN(SUBSTITUTE(Answers!B1971,CHAR(10),\"\"))","v":1},"",{"$f":"LEN(Answers!B1971)","v":0},""]
[{"$f":"1 + LEN(Answers!B1972) - LEN(SUBSTITUTE(Answers!B1972,CHAR(10),\"\"))","v":1},"",{"$f":"LEN(Answers!B1972)","v":0},""]
[{"$f":"1 + LEN(Answers!B1973) - LEN(SUBSTITUTE(Answers!B1973,CHAR(10),\"\"))","v":1},"",{"$f":"LEN(Answers!B1973)","v":0},""]
[{"$f":"1 + LEN(Answers!B1974) - LEN(SUBSTITUTE(Answers!B1974,CHAR(10),\"\"))","v":1},"",{"$f":"LEN(Answers!B1974)","v":0},""]
[{"$f":"1 + LEN(Answers!B1975) - LEN(SUBSTITUTE(Answers!B1975,CHAR(10),\"\"))","v":1},"",{"$f":"LEN(Answers!B1975)","v":0},""]
[{"$f":"1 + LEN(Answers!B1976) - LEN(SUBSTITUTE(Answers!B1976,CHAR(10),\"\"))","v":1},"",{"$f":"LEN(Answers!B1976)","v":0},""]
[{"$f":"1 + LEN(Answers!B1977) - LEN(SUBSTITUTE(Answers!B1977,CHAR(10),\"\"))","v":1},"",{"$f":"LEN(Answers!B1977)","v":0},""]
[{"$f":"1 + LEN(Answers!B1978) - LEN(SUBSTITUTE(Answers!B1978,CHAR(10),\"\"))","v":1},"",{"$f":"LEN(Answers!B1978)","v":0},""]
[{"$f":"1 + LEN(Answers!B1979) - LEN(SUBSTITUTE(Answers!B1979,CHAR(10),\"\"))","v":1},"",{"$f":"LEN(Answers!B1979)","v":0},""]
[{"$f":"1 + LEN(Answers!B1980) - LEN(SUBSTITUTE(Answers!B1980,CHAR(10),\"\"))","v":1},"",{"$f":"LEN(Answers!B1980)","v":0},""]
[{"$f":"1 + LEN(Answers!B1981) - LEN(SUBSTITUTE(Answers!B1981,CHAR(10),\"\"))","v":1},"",{"$f":"LEN(Answers!B1981)","v":0},""]
[{"$f":"1 + LEN(Answers!B1982) - LEN(SUBSTITUTE(Answers!B1982,CHAR(10),\"\"))","v":1},"",{"$f":"LEN(Answers!B1982)","v":0},""]
[{"$f":"1 + LEN(Answers!B1983) - LEN(SUBSTITUTE(Answers!B1983,CHAR(10),\"\"))","v":1},"",{"$f":"LEN(Answers!B1983)","v":0},""]
[{"$f":"1 + LEN(Answers!B1984) - LEN(SUBSTITUTE(Answers!B1984,CHAR(10),\"\"))","v":1},"",{"$f":"LEN(Answers!B1984)","v":0},""]
[{"$f":"1 + LEN(Answers!B1985) - LEN(SUBSTITUTE(Answers!B1985,CHAR(10),\"\"))","v":1},"",{"$f":"LEN(Answers!B1985)","v":0},""]
[{"$f":"1 + LEN(Answers!B1986) - LEN(SUBSTITUTE(Answers!B1986,CHAR(10),\"\"))","v":1},"",{"$f":"LEN(Answers!B1986)","v":0},""]
[{"$f":"1 + LEN(Answers!B1987) - LEN(SUBSTITUTE(Answers!B1987,CHAR(10),\"\"))","v":1},{"$f":"IF(A1988>4,\"alert\",\"\")","v":""},{"$f":"LEN(Answers!B1987)","v":0},{"$f":"IF(C1988>120,\"alert\",\"\")","v":""}]
[{"$f":"1 + LEN(Answers!B1988) - LEN(SUBSTITUTE(Answers!B1988,CHAR(10),\"\"))","v":1},"",{"$f":"LEN(Answers!B1988)","v":0},""]
[{"$f":"1 + LEN(Answers!B1989) - LEN(SUBSTITUTE(Answers!B1989,CHAR(10),\"\"))","v":1},"",{"$f":"LEN(Answers!B1989)","v":0},""]
[{"$f":"1 + LEN(Answers!B1990) - LEN(SUBSTITUTE(Answers!B1990,CHAR(10),\"\"))","v":1},"",{"$f":"LEN(Answers!B1990)","v":0},""]
[{"$f":"1 + LEN(Answers!B1991) - LEN(SUBSTITUTE(Answers!B1991,CHAR(10),\"\"))","v":1},"",{"$f":"LEN(Answers!B1991)","v":0},""]
[{"$f":"1 + LEN(Answers!B1992) - LEN(SUBSTITUTE(Answers!B1992,CHAR(10),\"\"))","v":1},"",{"$f":"LEN(Answers!B1992)","v":0},""]
[{"$f":"1 + LEN(Answers!B1993) - LEN(SUBSTITUTE(Answers!B1993,CHAR(10),\"\"))","v":1},"",{"$f":"LEN(Answers!B1993)","v":0},""]
[{"$f":"1 + LEN(Answers!B1994) - LEN(SUBSTITUTE(Answers!B1994,CHAR(10),\"\"))","v":1},"",{"$f":"LEN(Answers!B1994)","v":0},""]
[{"$f":"1 + LEN(Answers!B1995) - LEN(SUBSTITUTE(Answers!B1995,CHAR(10),\"\"))","v":1},"",{"$f":"LEN(Answers!B1995)","v":0},""]
[{"$f":"1 + LEN(Answers!B1996) - LEN(SUBSTITUTE(Answers!B1996,CHAR(10),\"\"))","v":1},"",{"$f":"LEN(Answers!B1996)","v":0},""]
[{"$f":"1 + LEN(Answers!B1997) - LEN(SUBSTITUTE(Answers!B1997,CHAR(10),\"\"))","v":1},"",{"$f":"LEN(Answers!B1997)","v":0},""]
[{"$f":"1 + LEN(Answers!B1998) - LEN(SUBSTITUTE(Answers!B1998,CHAR(10),\"\"))","v":1},"",{"$f":"LEN(Answers!B1998)","v":0},""]
[{"$f":"1 + LEN(Answers!B1999) - LEN(SUBSTITUTE(Answers!B1999,CHAR(10),\"\"))","v":1},"",{"$f":"LEN(Answers!B1999)","v":0},""]
[{"$f":"1 + LEN(Answers!B2000) - LEN(SUBSTITUTE(Answers!B2000,CHAR(10),\"\"))","v":1},"",{"$f":"LEN(Answers!B2000)","v":0},""]
[{"$f":"1 + LEN(Answers!B2001) - LEN(SUBSTITUTE(Answers!B2001,CHAR(10),\"\"))","v":1},"",{"$f":"LEN(Answers!B2001)","v":0},""]
[{"$f":"1 + LEN(Answers!B2002) - LEN(SUBSTITUTE(Answers!B2002,CHAR(10),\"\"))","v":1},"",{"$f":"LEN(Answers!B2002)","v":0},""]
[{"$f":"1 + LEN(Answers!B2003) - LEN(SUBSTITUTE(Answers!B2003,CHAR(10),\"\"))","v":1},"",{"$f":"LEN(Answers!B2003)","v":0},""]
[{"$f":"1 + LEN(Answers!B2004) - LEN(SUBSTITUTE(Answers!B2004,CHAR(10),\"\"))","v":1},"",{"$f":"LEN(Answers!B2004)","v":0},""]
[{"$f":"1 + LEN(Answers!B2005) - LEN(SUBSTITUTE(Answers!B2005,CHAR(10),\"\"))","v":1},"",{"$f":"LEN(Answers!B2005)","v":0},""]
[{"$f":"1 + LEN(Answers!B2006) - LEN(SUBSTITUTE(Answers!B2006,CHAR(10),\"\"))","v":1},"",{"$f":"LEN(Answers!B2006)","v":0},""]
[{"$f":"1 + LEN(Answers!B2007) - LEN(SUBSTITUTE(Answers!B2007,CHAR(10),\"\"))","v":1},"",{"$f":"LEN(Answers!B2007)","v":0},""]
[{"$f":"1 + LEN(Answers!B2008) - LEN(SUBSTITUTE(Answers!B2008,CHAR(10),\"\"))","v":1},"",{"$f":"LEN(Answers!B2008)","v":0},""]

{"sheet":"Config","index":4,"n_rows":64,"n_cols":18,"rows_kept":64,"cut":false,"hidden":true,"merged":[]}
[null,"Product Categories",3,4,5,6,7,8,9,10,11,12,13,14,15,16,17,18]
["ID","Name","Is_Main?","First Column","Discription","Reference","Outlook","FIGHTER","REMOTE","MAIN","trigger_column"]
[1,"MATERIALS","main",2]
[2,"Coatings",null,6,{"$f":"D4","v":6},{"$f":"E4+1","v":7},{"$f":"F4+1","v":8},9,10,"MATERIALS",{"$f":"D3","v":2}]
[3,"Composits",null,{"$f":"I4+1","v":11},{"$f":"D5","v":11},{"$f":"E5+1","v":12},13,14,15,"MATERIALS",{"$f":"K4+1","v":3}]
[4,"Non-metal Materials",null,{"$f":"I5+1","v":16},{"$f":"D6","v":16},{"$f":"E6+1","v":17},18,19,20,"MATERIALS",{"$f":"K5+1","v":4}]
[5,"Other Materials",null,{"$f":"I6+1","v":21},{"$f":"D7","v":21},{"$f":"E7+1","v":22},23,24,25,"MATERIALS",{"$f":"K6+1","v":5}]
[6,"COMPONENTS","main",26]
[7,"Active Electronic Components",null,40,{"$f":"D9","v":40},{"$f":"E9+1","v":41},42,43,44,"COMPONENTS",{"$f":"D8","v":26}]
[8,"Actuation",null,{"$f":"I9+1","v":45},45,46,47,48,49,"COMPONENTS",{"$f":"K9+1","v":27}]
[9,"Bearings",null,50,50,51,52,53,54,"COMPONENTS",{"$f":"K10+1","v":28}]
[10,"Electrical Components",null,55,55,56,57,58,59,"COMPONENTS",29]
[11,"Electrical/Electronic Connectors",null,60,60,61,62,63,64,"COMPONENTS",30]
[12,"Fasteners",null,65,65,66,67,68,69,"COMPONENTS",31]
[13,"Lighting",null,70,70,71,72,73,74,"COMPONENTS",32]
[14,"Mechanical Components",null,75,75,76,77,78,79,"COMPONENTS",33]
[15,"Mechanical Connectors",null,80,80,81,82,83,84,"COMPONENTS",34]
[16,"Non-Mechanical Components",null,85,85,86,87,88,89,"COMPONENTS",35]
[17,"Passive Electronic Components",null,90,90,91,92,93,94,"COMPONENTS",36]
[18,"Sensors, Transducers & Detectors",null,95,95,96,97,98,99,"COMPONENTS",37]
[19,"Structural Components",null,100,100,101,102,103,104,"COMPONENTS",38]
[20,"Valves",null,105,105,106,107,108,109,"COMPONENTS",39]
[21,"AIRFRAME SYSTEMS","main",110]
[22,"Airframe Assemblies",null,116,{"$f":"D24","v":116},{"$f":"E24+1","v":117},{"$f":"F24+1","v":118},119,120,"AIRFRAME SYSTEMS",{"$f":"D23","v":110}]
[23,"Cabin Interiors",null,{"$f":"I24+1","v":121},{"$f":"D25","v":121},{"$f":"E25+1","v":122},{"$f":"F25+1","v":123},124,125,"AIRFRAME SYSTEMS",{"$f":"K24+1","v":111}]
[24,"Crew Seating",null,{"$f":"I25+1","v":126},{"$f":"D26","v":126},{"$f":"E26+1","v":127},128,129,130,"AIRFRAME SYSTEMS",{"$f":"K25+1","v":112}]
[25,"Fluid Power",null,131,131,{"$f":"E27+1","v":132},133,134,135,"AIRFRAME SYSTEMS",113]
[26,"Landing Assemblies",null,136,136,{"$f":"E28+1","v":137},138,139,140,"AIRFRAME SYSTEMS",114]
[27,"Weapons Systems",null,141,141,{"$f":"E29+1","v":142},143,144,145,"AIRFRAME SYSTEMS",115]
[28,"AVIONICS","main",146]
[29,"Avionic Components",null,153,{"$f":"D31","v":153},{"$f":"E31+1","v":154},{"$f":"F31+1","v":155},156,157,"AVIONICS",{"$f":"D30","v":146}]
[30,"Communications (Airborne)",null,{"$f":"I31+1","v":158},{"$f":"D32","v":158},{"$f":"E32+1","v":159},{"$f":"F32+1","v":160},161,162,"AVIONICS",{"$f":"K31+1","v":147}]
[31,"Flight and Data Management",null,{"$f":"I32+1","v":163},{"$f":"D33","v":163},{"$f":"E33+1","v":164},165,166,167,"AVIONICS",{"$f":"K32+1","v":148}]
[32,"Indicators and Instruments",null,168,168,{"$f":"E34+1","v":169},170,171,172,"AVIONICS",149]
[33,"Navigation Aids (Airborne)",null,173,173,{"$f":"E35+1","v":174},175,176,177,"AVIONICS",150]
[34,"Warning Systems",null,178,178,{"$f":"E36+1","v":179},180,181,182,"AVIONICS",151]
[35,"Defensive Aids Systems",null,183,183,{"$f":"E37+1","v":184},185,186,187,"AVIONICS",152]
[36,"POWER SYSTEMS","main",188]
[37,"Auxiliary Power",null,194,{"$f":"D39","v":194},{"$f":"E39+1","v":195},{"$f":"F39+1","v":196},197,198,"POWER SYSTEMS",{"$f":"D38","v":188}]
[38,"Electrical Power Systems",null,{"$f":"I39+1","v":199},{"$f":"D40","v":199},{"$f":"E40+1","v":200},{"$f":"F40+1","v":201},202,203,"POWER SYSTEMS",{"$f":"K39+1","v":189}]
[39,"Engine Components",null,{"$f":"I40+1","v":204},{"$f":"D41","v":204},{"$f":"E41+1","v":205},206,207,208,"POWER SYSTEMS",{"$f":"K40+1","v":190}]
[40,"Engines",null,209,209,{"$f":"E42+1","v":210},211,212,213,"POWER SYSTEMS",191]
[41,"Fuel Systems",null,214,214,{"$f":"E43+1","v":215},216,217,218,"POWER SYSTEMS",192]
[42,"Power Transmission",null,219,219,{"$f":"E44+1","v":220},221,222,223,"POWER SYSTEMS",193]
[43,"PRODUCTION","main",224]
[44,"Computer Integrated Manufacturing",null,234,{"$f":"D46","v":234},{"$f":"E46+1","v":235},{"$f":"F46+1","v":236},237,238,"PRODUCTION",{"$f":"D45","v":224}]
[45,"Handling Equipment",null,{"$f":"I46+1","v":239},{"$f":"D47","v":239},{"$f":"E47+1","v":240},{"$f":"F47+1","v":241},242,243,"PRODUCTION",{"$f":"K46+1","v":225}]
[46,"Inspection Equipment",null,{"$f":"I47+1","v":244},{"$f":"D48","v":244},{"$f":"E48+1","v":245},246,247,248,"PRODUCTION",{"$f":"K47+1","v":226}]
[47,"Machining",null,249,249,{"$f":"E49+1","v":250},251,252,253,"PRODUCTION",227]
[48,"Manufacturing Services",null,254,254,{"$f":"E50+1","v":255},256,257,258,"PRODUCTION",228]
[49,"Measurement",null,259,259,{"$f":"E51+1","v":260},261,262,263,"PRODUCTION",229]
[50,"Production Equipment",null,264,264,{"$f":"E52+1","v":265},266,267,268,"PRODUCTION",230]
[51,"Surface Treatment",null,269,269,{"$f":"E53+1","v":270},271,272,273,"PRODUCTION",231]
[52,"Tooling",null,274,274,{"$f":"E54+1","v":275},276,277,278,"PRODUCTION",232]
[53,"Tools",null,279,279,{"$f":"E55+1","v":280},281,282,283,"PRODUCTION",233]
[54,"TESTING","main",284]
[55,"Aircraft Operations",null,287,{"$f":"D57","v":287},{"$f":"E57+1","v":288},{"$f":"F57+1","v":289},290,291,"TESTING",{"$f":"D56","v":284}]
[56,"Test Equipment",null,{"$f":"I57+1","v":292},{"$f":"D58","v":292},{"$f":"E58+1","v":293},{"$f":"F58+1","v":294},295,296,"TESTING",{"$f":"K57+1","v":285}]
[57,"Test Services",null,{"$f":"I58+1","v":297},{"$f":"D59","v":297},{"$f":"E59+1","v":298},299,300,301,"TESTING",{"$f":"K58+1","v":286}]
[58,"SERVICES","main",302]
[59,"Engineering Services",null,304,{"$f":"D61","v":304},{"$f":"E61+1","v":305},{"$f":"F61+1","v":306},307,308,"SERVICES",{"$f":"D60","v":302}]
[60,"Training + Simulation ",null,{"$f":"I61+1","v":309},{"$f":"D62","v":309},{"$f":"E62+1","v":310},{"$f":"F62+1","v":311},312,313,"SERVICES",{"$f":"K61+1","v":303}]
[61,"Other Components ","main",314]
[62,"Other Components",null,315,null,null,null,null,null,null,314]