BEGIN:VCALENDAR
PRODID:-//eluceo/ical//2.0/EN
VERSION:2.0
CALSCALE:GREGORIAN
BEGIN:VEVENT
UID:fe9ce9db1977578fbcc22415564d1140
DTSTAMP:20260420T162245Z
SUMMARY:Singapore Airshow 2016
DESCRIPTION:Welcome to Germany’s presentation at this year’s Singapore 
 Airshow! Meanwhile\, this important aerospace trade show is taking place f
 or the 5th time at the impressive\, highly modern Changi exhibition Center
DTSTART;VALUE=DATE:20160413
DTEND;VALUE=DATE:20160415
END:VEVENT
END:VCALENDAR
