BEGIN:VCALENDAR
PRODID:-//eluceo/ical//2.0/EN
VERSION:2.0
CALSCALE:GREGORIAN
BEGIN:VEVENT
UID:8418df9779ee3c7ab936dfdb8467d7fe
DTSTAMP:20260422T082201Z
SUMMARY:Drone Resilience Day
DESCRIPTION:UAV-Bedrohungen – Wie können Polizei\, Bundespolizei und Bun
 deswehr die öffentliche Sicherheit gewährleisten?
DTSTART;VALUE=DATE:20260707
END:VEVENT
END:VCALENDAR
