BEGIN:VCALENDAR
PRODID:-//eluceo/ical//2.0/EN
VERSION:2.0
CALSCALE:GREGORIAN
BEGIN:VEVENT
UID:3f4215da47bcd884ce47ebf1d4db2078
DTSTAMP:20260423T095530Z
SUMMARY:International Aerospace Innovation Forum in Montréal 
DESCRIPTION:Ein unverzichtbarer Termin für Entscheidungsträger der Luft- 
 und Raumfahrtindustrie in Kanada sowie im Ausland. Mit mehr als 1.500 Füh
 rungskräfte und Experten unter dem Motto „Beyond Technology: Innovating
  How We Collaborate”.
DTSTART;VALUE=DATE:20260413
DTEND;VALUE=DATE:20260415
END:VEVENT
END:VCALENDAR
