BEGIN:VCALENDAR
PRODID:-//eluceo/ical//2.0/EN
VERSION:2.0
CALSCALE:GREGORIAN
BEGIN:VEVENT
UID:a5b7e9daf3fff436b15fd43559fc7324
DTSTAMP:20260420T134424Z
SUMMARY:Zukunft beginnt oben. Luft- und Raumfahrt - Treiber von Sicherheit 
 und Innovation.
DESCRIPTION:Herzlich laden wir Sie zu unserer hochkarätig besetzten Diskus
 sionsrunde ein\, in der aus verschiedenen Perspektiven beleuchtet wird\, w
 ie zivile und militärische Luft- und Raumfahrt Europas Zukunft stärkt. D
 er sich anschließende Abendempfang bietet Gelegenheit für persönlichen 
 Austausch und vertiefende Gespräche. Wir freuen uns auf unsere Begegnung 
 in Stuttgart!
DTSTART;VALUE=DATE:20260423
END:VEVENT
END:VCALENDAR
