BEGIN:VCALENDAR
PRODID:-//eluceo/ical//2.0/EN
VERSION:2.0
CALSCALE:GREGORIAN
BEGIN:VEVENT
UID:bbbf5b006e4ced93e5b8589f166172eb
DTSTAMP:20260420T030722Z
SUMMARY:20. Tag der Deutschen Luft- und Raumfahrtregionen 
DESCRIPTION:Der 20. Tag der deutschen Luft- und Raumfahrtregionen findet im
  HCC Hannover Congress Centrum statt. 
DTSTART;VALUE=DATE:20260922
END:VEVENT
END:VCALENDAR
