BEGIN:VCALENDAR
PRODID:-//eluceo/ical//2.0/EN
VERSION:2.0
CALSCALE:GREGORIAN
BEGIN:VEVENT
UID:cbd3afc6680785fcafac48ea40bb17f2
DTSTAMP:20260423T041951Z
SUMMARY:Medienpreis Luft- und Raumfahrt 2025
DESCRIPTION:Am 13. November 2025 fand die Verleihung des Medienpreises bei 
 der Deutschen Aircraft in Oberpfaffenhofen bei München statt. 
DTSTART;VALUE=DATE:20251113
END:VEVENT
END:VCALENDAR
