BEGIN:VCALENDAR
PRODID:-//eluceo/ical//2.0/EN
VERSION:2.0
CALSCALE:GREGORIAN
BEGIN:VEVENT
UID:f4e3122f02f475967350e705534c3347
DTSTAMP:20260423T160027Z
SUMMARY:Aviation Forum 2025
DESCRIPTION:The Next Era of Aviation: Resilient\, Digital\, Sustainable lau
 tet das Motto des 15. Aviation Forum Hamburg 2025. Unter der Schirmherrsch
 aft von Airbus CPO Jürgen Westermeier treffen sich Vertreter von OEMs\, H
 erstellern und Zulieferern aller Ebenen und mehr als 900 Teilnehmende aus 
 der Luftfahrtindustrie auf dem Aviation Forum in Hamburg. 
DTSTART;VALUE=DATE:20251210
DTEND;VALUE=DATE:20251212
END:VEVENT
END:VCALENDAR
