BEGIN:VCALENDAR
PRODID:-//eluceo/ical//2.0/EN
VERSION:2.0
CALSCALE:GREGORIAN
BEGIN:VEVENT
UID:a92b1286b4e238d4366647e8221fd187
DTSTAMP:20260423T054104Z
SUMMARY:Singapore Airshow 2026
DESCRIPTION:Die Singapore Airshow fand vom 3. bis 8. Februar 2026 im Changi
  Exhibition Center in Singapur statt.
DTSTART;VALUE=DATE:20260203
DTEND;VALUE=DATE:20260209
END:VEVENT
END:VCALENDAR
