BEGIN:VCALENDAR
PRODID:-//eluceo/ical//2.0/EN
VERSION:2.0
CALSCALE:GREGORIAN
BEGIN:VEVENT
UID:ffa631ce11d9bc6041fc3bf32a5a841a
DTSTAMP:20260423T042352Z
SUMMARY:IAC Sydney 2025
DESCRIPTION:Der International Astronautical Congress (IAC) 2025 fand vom 29
 . September bis 3. Oktober 2025 in Sydney\, Australien statt. Der Veransta
 lter ist die International Astronautical Federation (IAF).
DTSTART;VALUE=DATE:20250929
DTEND;VALUE=DATE:20251004
END:VEVENT
END:VCALENDAR
