BEGIN:VCALENDAR
PRODID:-//eluceo/ical//2.0/EN
VERSION:2.0
CALSCALE:GREGORIAN
BEGIN:VEVENT
UID:1b36345c5b71d93288ec46f77d01ec69
DTSTAMP:20260421T161259Z
SUMMARY:Dubai Airshow 2025
DESCRIPTION:Die 19. Dubai Airshow fand vom 17. bis 21. November 2025 auf de
 m Al Maktoum International Airport in Dubai\, Vereinigten Arabischen Emira
 ten statt.
DTSTART;VALUE=DATE:20251117
DTEND;VALUE=DATE:20251122
END:VEVENT
END:VCALENDAR
