BEGIN:VCALENDAR
PRODID:-//eluceo/ical//2.0/EN
VERSION:2.0
CALSCALE:GREGORIAN
BEGIN:VEVENT
UID:dfe272bc89b4e5f43f112fca5190f154
DTSTAMP:20260423T042352Z
SUMMARY:Aero India 2025
DESCRIPTION:Mit ihrer 15. Ausgabe bringt die Aero India 2025 als Indiens f
 ührende Luft- und Raumfahrtmesse internationale Akteure aus Industrie\, P
 olitik\, Forschung und Streitkräften zusammen. In einem dynamisch wachsen
 den und strategisch bedeutsamen Umfeld bietet die Messe Gelegenheit zum Au
 stausch von Wissen\, zur Förderung von Innovationen und zur Vertiefung de
 r Zusammenarbeit.
DTSTART;VALUE=DATE:20250210
DTEND;VALUE=DATE:20250215
END:VEVENT
END:VCALENDAR
