BEGIN:VCALENDAR
PRODID:-//eluceo/ical//2.0/EN
VERSION:2.0
CALSCALE:GREGORIAN
BEGIN:VEVENT
UID:6fa3cc0680e461ac6441c0166bdfa293
DTSTAMP:20260422T163809Z
SUMMARY:Paris Air Show 2025
DESCRIPTION:Die weltweit führende Luft- und Raumfahrtmesse\, Paris Air Sho
 w\, fand vom 16. - 22. Juni 2025 in Le Bourget (Parc des Expositions) stat
 t.\n
DTSTART;VALUE=DATE:20250616
DTEND;VALUE=DATE:20250623
END:VEVENT
END:VCALENDAR
