BEGIN:VCALENDAR
PRODID:-//eluceo/ical//2.0/EN
VERSION:2.0
CALSCALE:GREGORIAN
BEGIN:VEVENT
UID:42111cfab07f5bee8b259e46cf4c0372
DTSTAMP:20260424T085711Z
SUMMARY:Course Detail: SGC-1102 - Foundations of Aviation Cybersecurity Lea
 dership and Technical Management in co-operation with ICAO [In-Person]
DESCRIPTION:A foundational course in aviation cybersecurity for those with 
 either a leadership background in security\, cybersecurity\, safety\, or t
 echnical management responsibilities.  
DTSTART;VALUE=DATE:20240617
DTEND;VALUE=DATE:20240622
END:VEVENT
END:VCALENDAR
