BEGIN:VCALENDAR
PRODID:-//eluceo/ical//2.0/EN
VERSION:2.0
CALSCALE:GREGORIAN
BEGIN:VEVENT
UID:d7cff831bbac20eb131044ba23331dd0
DTSTAMP:20260423T080634Z
SUMMARY:ICDUAS 2024: 18. International Conference on Drones and Unmanned Ai
 rcraft Systems
DESCRIPTION:The International Research Conference Aims and Objectives
DTSTART;VALUE=DATE:20240201
DTEND;VALUE=DATE:20240203
END:VEVENT
END:VCALENDAR
