BEGIN:VCALENDAR
PRODID:-//eluceo/ical//2.0/EN
VERSION:2.0
CALSCALE:GREGORIAN
BEGIN:VEVENT
UID:9910064a99ba004d57ac4eb56c1cd2ae
DTSTAMP:20260426T033641Z
SUMMARY:SCE A Webinar-Reihe: Qualität | Der APQP -Prozess Produkt- und Qua
 litätsvorausplanung
DESCRIPTION:SCE A Webinar-Reihe: Qualität | Der APQP -Prozess Produkt- und
  Qualitätsvorausplanung
DTSTART;VALUE=DATE:20230126
END:VEVENT
END:VCALENDAR
