BEGIN:VCALENDAR
PRODID:-//eluceo/ical//2.0/EN
VERSION:2.0
CALSCALE:GREGORIAN
BEGIN:VEVENT
UID:4eeb67c2c334eb9dbbf194326869584f
DTSTAMP:20260425T120311Z
SUMMARY:Amsterdam Drone Week
DESCRIPTION:Innovative Air Mobility connecting cities and regions \n
DTSTART;VALUE=DATE:20230321
DTEND;VALUE=DATE:20230324
END:VEVENT
END:VCALENDAR
