BEGIN:VCALENDAR
PRODID:-//eluceo/ical//2.0/EN
VERSION:2.0
CALSCALE:GREGORIAN
BEGIN:VEVENT
UID:d435927038e8a0a5809e63cd93c3bd5b
DTSTAMP:20260426T001812Z
SUMMARY:Strategie Digitalisierung – Digital Readiness Aero Check–Softwa
 re
DESCRIPTION:Die aktuelle Situation zeigt eindrucksvoll\, wie gewichtig die 
 Digitalisierung ist. In unserer schnelllebigen\, globalisierten Welt ergeb
 en sich ständig neue Herausforderungen von und durch Kunden\, Lieferanten
  und Wettbewerber. Um die Potenziale der Digitalisierung zu realisieren\, 
 ist die Integration in einen umfassenden Transformationsprozess essentiell
 . Im besten Fall sind die Phasen der Transformation optimal aufeinander ab
 gestimmt.
DTSTART;VALUE=DATE:20221213
END:VEVENT
END:VCALENDAR
