BEGIN:VCALENDAR
PRODID:-//eluceo/ical//2.0/EN
VERSION:2.0
CALSCALE:GREGORIAN
BEGIN:VEVENT
UID:49a05da0baea0157a7502f45a029d2e1
DTSTAMP:20260423T010718Z
SUMMARY:ZAL Innovation Talk mit Jon Ostrower
DESCRIPTION:Der ZAL Innovation Talk im Dezember 2020 lenkt die Aufmerksamke
 it auf das\, was vor uns liegt! Prominenter Gast der Veranstaltung ist Jon
  Ostrower aus Seattle\, Gründer und Chefredakteur von "The Air Current" u
 nd einer der angesehensten Luftfahrtjournalisten weltweit.
DTSTART;VALUE=DATE:20201209
END:VEVENT
END:VCALENDAR
