BEGIN:VCALENDAR
PRODID:-//eluceo/ical//2.0/EN
VERSION:2.0
CALSCALE:GREGORIAN
BEGIN:VEVENT
UID:af81cacc3cb7678c9e87da76584377f2
DTSTAMP:20260424T164531Z
SUMMARY:BDLI-Mitgliederversammlung
DESCRIPTION:+++ Weitere Informationen erhalten Sie bei Alexandra Friedhoff 
 +++
DTSTART;VALUE=DATE:20201126
END:VEVENT
END:VCALENDAR
