BEGIN:VCALENDAR
PRODID:-//eluceo/ical//2.0/EN
VERSION:2.0
CALSCALE:GREGORIAN
BEGIN:VEVENT
UID:c875d44d92cc93be96389077f1c4534f
DTSTAMP:20260421T163726Z
SUMMARY:Farnborough Airshow
DESCRIPTION:Die Farnborough International Airshow ist eine internationale M
 esse der Luft- und Raumfahrt. Sie findet am Farnborough Airfield bei Farnb
 orough (Hampshire) im Vereinigten Königreich in jedem geraden Jahr Ende J
 uli statt und wechselt sich mit der Pariser Luftfahrtschau ab.
DTSTART;VALUE=DATE:20160711
DTEND;VALUE=DATE:20160718
END:VEVENT
END:VCALENDAR
